BEGIN:VCALENDAR
VERSION:2.0
PRODID:-//Visit the California Delta - ECPv6.15.18//NONSGML v1.0//EN
CALSCALE:GREGORIAN
METHOD:PUBLISH
X-WR-CALNAME:Visit the California Delta
X-ORIGINAL-URL:https://visitcadelta.com
X-WR-CALDESC:Events for Visit the California Delta
REFRESH-INTERVAL;VALUE=DURATION:PT1H
X-Robots-Tag:noindex
X-PUBLISHED-TTL:PT1H
BEGIN:VTIMEZONE
TZID:America/Los_Angeles
BEGIN:DAYLIGHT
TZOFFSETFROM:-0800
TZOFFSETTO:-0700
TZNAME:PDT
DTSTART:20180311T100000
END:DAYLIGHT
BEGIN:STANDARD
TZOFFSETFROM:-0700
TZOFFSETTO:-0800
TZNAME:PST
DTSTART:20181104T090000
END:STANDARD
BEGIN:DAYLIGHT
TZOFFSETFROM:-0800
TZOFFSETTO:-0700
TZNAME:PDT
DTSTART:20190310T100000
END:DAYLIGHT
BEGIN:STANDARD
TZOFFSETFROM:-0700
TZOFFSETTO:-0800
TZNAME:PST
DTSTART:20191103T090000
END:STANDARD
BEGIN:DAYLIGHT
TZOFFSETFROM:-0800
TZOFFSETTO:-0700
TZNAME:PDT
DTSTART:20200308T100000
END:DAYLIGHT
BEGIN:STANDARD
TZOFFSETFROM:-0700
TZOFFSETTO:-0800
TZNAME:PST
DTSTART:20201101T090000
END:STANDARD
END:VTIMEZONE
BEGIN:VEVENT
DTSTART;TZID=America/Los_Angeles:20190502T170000
DTEND;TZID=America/Los_Angeles:20190502T210000
DTSTAMP:20260419T214900
CREATED:20190405T223050Z
LAST-MODIFIED:20190425T183649Z
UID:6776-1556816400-1556830800@visitcadelta.com
SUMMARY:Antioch Food Truck Thursday
DESCRIPTION:Gourmet food and dessert trucks EVERY Thursday through October! Head to Antioch for a Delta foodie frenzy! This family and pet-friendly event will delight your taste buds with rotating trucks every week – including Lucky 13 Beer & Wine Truck serving craft beer and wine! See the Antioch Food Truck Thursday event page for more delicious details. \nCan’t wait till Thursday? There are tasty treats\, delicious delicacies\, wonderful wineries\, and oh so much more in the Delta! Start your culinary exploration… 
URL:https://visitcadelta.com/event/antioch-food-truck-thursday-2019/2019-05-02/
LOCATION:Antioch Community Center\, 4703 Lone Tree Way\, Antioch\, CA
CATEGORIES:Family Friendly,Food and Drink
ATTACH;FMTTYPE=image/jpeg:https://visitcadelta.com/wp-content/uploads/2018/06/food-truck-thursday-antioch.jpg
END:VEVENT
END:VCALENDAR