BEGIN:VCALENDAR
VERSION:2.0
PRODID:-//Visit the California Delta - ECPv6.15.18//NONSGML v1.0//EN
CALSCALE:GREGORIAN
METHOD:PUBLISH
X-ORIGINAL-URL:https://visitcadelta.com
X-WR-CALDESC:Events for Visit the California Delta
REFRESH-INTERVAL;VALUE=DURATION:PT1H
X-Robots-Tag:noindex
X-PUBLISHED-TTL:PT1H
BEGIN:VTIMEZONE
TZID:America/Los_Angeles
BEGIN:DAYLIGHT
TZOFFSETFROM:-0800
TZOFFSETTO:-0700
TZNAME:PDT
DTSTART:20190310T100000
END:DAYLIGHT
BEGIN:STANDARD
TZOFFSETFROM:-0700
TZOFFSETTO:-0800
TZNAME:PST
DTSTART:20191103T090000
END:STANDARD
BEGIN:DAYLIGHT
TZOFFSETFROM:-0800
TZOFFSETTO:-0700
TZNAME:PDT
DTSTART:20200308T100000
END:DAYLIGHT
BEGIN:STANDARD
TZOFFSETFROM:-0700
TZOFFSETTO:-0800
TZNAME:PST
DTSTART:20201101T090000
END:STANDARD
BEGIN:DAYLIGHT
TZOFFSETFROM:-0800
TZOFFSETTO:-0700
TZNAME:PDT
DTSTART:20210314T100000
END:DAYLIGHT
BEGIN:STANDARD
TZOFFSETFROM:-0700
TZOFFSETTO:-0800
TZNAME:PST
DTSTART:20211107T090000
END:STANDARD
END:VTIMEZONE
BEGIN:VEVENT
DTSTART;TZID=America/Los_Angeles:20200711T173000
DTEND;TZID=America/Los_Angeles:20200711T210000
DTSTAMP:20260419T174738
CREATED:20200526T191335Z
LAST-MODIFIED:20200702T184438Z
UID:8727-1594488600-1594501200@visitcadelta.com
SUMMARY:Batty for Bats - CANCELED
DESCRIPTION:Get a closer look at thousands of Mexican free-tailed bats as they fly-out in the evening sky. Corky Quirk will be discussing these bats natural history and biology throughout the tour. The program will caravan to the bat viewing site in the Yolo Bypass Wildlife Area. \nMaximum 35 guests. $75 per person. \nFor registration and details\, visit the Yolo Basin event page.
URL:https://visitcadelta.com/event/batty-for-bats/2020-07-11/
LOCATION:Yolo Bypass Wildlife Area Headquarters\, 45211 Chiles Road\, Davis\, CA\, 95618\, United States
CATEGORIES:Nature and Recreation
ATTACH;FMTTYPE=image/jpeg:https://visitcadelta.com/wp-content/uploads/2020/05/bats2-1.jpg
GEO:38.5560776;-121.6718838
X-APPLE-STRUCTURED-LOCATION;VALUE=URI;X-ADDRESS=Yolo Bypass Wildlife Area Headquarters 45211 Chiles Road Davis CA 95618 United States;X-APPLE-RADIUS=500;X-TITLE=45211 Chiles Road:geo:-121.6718838,38.5560776
END:VEVENT
END:VCALENDAR