BEGIN:VCALENDAR
VERSION:2.0
PRODID:-//Visit the California Delta - ECPv6.15.18//NONSGML v1.0//EN
CALSCALE:GREGORIAN
METHOD:PUBLISH
X-WR-CALNAME:Visit the California Delta
X-ORIGINAL-URL:https://visitcadelta.com
X-WR-CALDESC:Events for Visit the California Delta
REFRESH-INTERVAL;VALUE=DURATION:PT1H
X-Robots-Tag:noindex
X-PUBLISHED-TTL:PT1H
BEGIN:VTIMEZONE
TZID:America/Los_Angeles
BEGIN:DAYLIGHT
TZOFFSETFROM:-0800
TZOFFSETTO:-0700
TZNAME:PDT
DTSTART:20190310T100000
END:DAYLIGHT
BEGIN:STANDARD
TZOFFSETFROM:-0700
TZOFFSETTO:-0800
TZNAME:PST
DTSTART:20191103T090000
END:STANDARD
BEGIN:DAYLIGHT
TZOFFSETFROM:-0800
TZOFFSETTO:-0700
TZNAME:PDT
DTSTART:20200308T100000
END:DAYLIGHT
BEGIN:STANDARD
TZOFFSETFROM:-0700
TZOFFSETTO:-0800
TZNAME:PST
DTSTART:20201101T090000
END:STANDARD
BEGIN:DAYLIGHT
TZOFFSETFROM:-0800
TZOFFSETTO:-0700
TZNAME:PDT
DTSTART:20210314T100000
END:DAYLIGHT
BEGIN:STANDARD
TZOFFSETFROM:-0700
TZOFFSETTO:-0800
TZNAME:PST
DTSTART:20211107T090000
END:STANDARD
END:VTIMEZONE
BEGIN:VEVENT
DTSTART;TZID=America/Los_Angeles:20200307T100000
DTEND;TZID=America/Los_Angeles:20200307T130000
DTSTAMP:20260419T175611
CREATED:20200218T181129Z
LAST-MODIFIED:20200514T153948Z
UID:8460-1583575200-1583586000@visitcadelta.com
SUMMARY:Dive into the Delta Series - CANCELED
DESCRIPTION:UPDATE: DUE TO CURRENT EVENTS OF COVID-19\, THIS EVENT HAS BEEN CANCELED. PLEASE CONTACT THE DELTA KAYAK ADVENTURES FOR ADDITIONAL INFORMATION. \nIt’s more exciting to explore the Delta through water! This series of tours is a perfect opportunity for you to explore different locations in the Delta each month by paddling through wetlands\, lakes\, sloughs\, and tracts. Tours are offered once a month through June and each trip last is 2-3 hours. Single paddle tours are welcome to purchase at regular price. On the other hand\, the more tours you sign up for\, the more you save! \nLocations\nMarch 7\, 2020 South Mokelumne 10am-1pm\nApril 18. 2020 Franks Tract 10am-12pm\nMay 16\, 2020 Steamboat Slough 11:30am-2:00pm\nJune 13\, 2020 Potato Slough  11am-2pm \nPackage Price\nAny combination of 4 Tours = $299 \nFor additional details\, visit the event page.
URL:https://visitcadelta.com/event/dive-delta-series/2020-03-07/
LOCATION:Delta Kayak Adventures\, 5 Marina Plaza\, Antioch\, CA\, 94509
CATEGORIES:Nature and Recreation
ATTACH;FMTTYPE=image/jpeg:https://visitcadelta.com/wp-content/uploads/2020/02/f0a5d0_4405fe6fb3fa4678a023dc964fef1598_mv2vcad.jpg
END:VEVENT
END:VCALENDAR