BEGIN:VCALENDAR
VERSION:2.0
PRODID:-//Visit the California Delta - ECPv6.15.18//NONSGML v1.0//EN
CALSCALE:GREGORIAN
METHOD:PUBLISH
X-WR-CALNAME:Visit the California Delta
X-ORIGINAL-URL:https://visitcadelta.com
X-WR-CALDESC:Events for Visit the California Delta
REFRESH-INTERVAL;VALUE=DURATION:PT1H
X-Robots-Tag:noindex
X-PUBLISHED-TTL:PT1H
BEGIN:VTIMEZONE
TZID:America/Los_Angeles
BEGIN:DAYLIGHT
TZOFFSETFROM:-0800
TZOFFSETTO:-0700
TZNAME:PDT
DTSTART:20180311T100000
END:DAYLIGHT
BEGIN:STANDARD
TZOFFSETFROM:-0700
TZOFFSETTO:-0800
TZNAME:PST
DTSTART:20181104T090000
END:STANDARD
BEGIN:DAYLIGHT
TZOFFSETFROM:-0800
TZOFFSETTO:-0700
TZNAME:PDT
DTSTART:20190310T100000
END:DAYLIGHT
BEGIN:STANDARD
TZOFFSETFROM:-0700
TZOFFSETTO:-0800
TZNAME:PST
DTSTART:20191103T090000
END:STANDARD
BEGIN:DAYLIGHT
TZOFFSETFROM:-0800
TZOFFSETTO:-0700
TZNAME:PDT
DTSTART:20200308T100000
END:DAYLIGHT
BEGIN:STANDARD
TZOFFSETFROM:-0700
TZOFFSETTO:-0800
TZNAME:PST
DTSTART:20201101T090000
END:STANDARD
END:VTIMEZONE
BEGIN:VEVENT
DTSTART;TZID=America/Los_Angeles:20191206T170000
DTEND;TZID=America/Los_Angeles:20191206T200000
DTSTAMP:20260419T195008
CREATED:20191203T171956Z
LAST-MODIFIED:20191203T171956Z
UID:7970-1575651600-1575662400@visitcadelta.com
SUMMARY:Friday Night Bites
DESCRIPTION:Food truck bites? Yes\, please! Check out all the yummy bites at this family-friendly event with entertainment for everyone. Groove to the music\, entertain the kids with games and sip on delicious craft beer or wine throughout the evening. Feel free to bring your own blankets or lawn chair to sit back and unwind for the weekend. \nFor details\, visit the event page.
URL:https://visitcadelta.com/event/friday-night-bites/2019-12-06/
LOCATION:Oakley Civic Center Plaza\, 3231 Main St.\, Oakley\, CA\, 94561
CATEGORIES:Family Friendly,Food and Drink
ATTACH;FMTTYPE=image/jpeg:https://visitcadelta.com/wp-content/uploads/2019/12/food-truckc-1.jpg
END:VEVENT
END:VCALENDAR