BEGIN:VCALENDAR
VERSION:2.0
PRODID:-//Visit the California Delta - ECPv6.15.18//NONSGML v1.0//EN
CALSCALE:GREGORIAN
METHOD:PUBLISH
X-ORIGINAL-URL:https://visitcadelta.com
X-WR-CALDESC:Events for Visit the California Delta
REFRESH-INTERVAL;VALUE=DURATION:PT1H
X-Robots-Tag:noindex
X-PUBLISHED-TTL:PT1H
BEGIN:VTIMEZONE
TZID:America/Los_Angeles
BEGIN:DAYLIGHT
TZOFFSETFROM:-0800
TZOFFSETTO:-0700
TZNAME:PDT
DTSTART:20180311T100000
END:DAYLIGHT
BEGIN:STANDARD
TZOFFSETFROM:-0700
TZOFFSETTO:-0800
TZNAME:PST
DTSTART:20181104T090000
END:STANDARD
BEGIN:DAYLIGHT
TZOFFSETFROM:-0800
TZOFFSETTO:-0700
TZNAME:PDT
DTSTART:20190310T100000
END:DAYLIGHT
BEGIN:STANDARD
TZOFFSETFROM:-0700
TZOFFSETTO:-0800
TZNAME:PST
DTSTART:20191103T090000
END:STANDARD
BEGIN:DAYLIGHT
TZOFFSETFROM:-0800
TZOFFSETTO:-0700
TZNAME:PDT
DTSTART:20200308T100000
END:DAYLIGHT
BEGIN:STANDARD
TZOFFSETFROM:-0700
TZOFFSETTO:-0800
TZNAME:PST
DTSTART:20201101T090000
END:STANDARD
END:VTIMEZONE
BEGIN:VEVENT
DTSTART;TZID=America/Los_Angeles:20191207T110000
DTEND;TZID=America/Los_Angeles:20191207T170000
DTSTAMP:20260419T175734
CREATED:20191108T185413Z
LAST-MODIFIED:20191108T185413Z
UID:7930-1575716400-1575738000@visitcadelta.com
SUMMARY:Holiday Weekends at the Wineries
DESCRIPTION:Tis’ the season to get festive with wine! The Old Sugar Mill presents this snazzy event through the holiday season. Spend your weekend at the Old Sugar Mill for live music\, food trucks\, chef demos\, wine tasting\, and plenty more. RSVP today and get a free complimentary wine glass. \nYou can also catch Holiday Weekends on these other dates:\nDecember 7-8\, 14-15\, 21-22 \nFor tickets and details\, visit the Old Sugar Mill website.
URL:https://visitcadelta.com/event/holiday-weekends-wineries-2/2019-12-07/
LOCATION:Old Sugar Mill\, 35265 Willow Ave\, Clarksburg\, CA\, 95612
CATEGORIES:Food and Drink
ATTACH;FMTTYPE=image/jpeg:https://visitcadelta.com/wp-content/uploads/2018/11/christmas-3021154-vcad.jpg
GEO:38.422495;-121.5324569
X-APPLE-STRUCTURED-LOCATION;VALUE=URI;X-ADDRESS=Old Sugar Mill 35265 Willow Ave Clarksburg CA 95612;X-APPLE-RADIUS=500;X-TITLE=35265 Willow Ave:geo:-121.5324569,38.422495
END:VEVENT
END:VCALENDAR