BEGIN:VCALENDAR
VERSION:2.0
PRODID:-//Visit the California Delta - ECPv6.15.18//NONSGML v1.0//EN
CALSCALE:GREGORIAN
METHOD:PUBLISH
X-WR-CALNAME:Visit the California Delta
X-ORIGINAL-URL:https://visitcadelta.com
X-WR-CALDESC:Events for Visit the California Delta
REFRESH-INTERVAL;VALUE=DURATION:PT1H
X-Robots-Tag:noindex
X-PUBLISHED-TTL:PT1H
BEGIN:VTIMEZONE
TZID:America/Los_Angeles
BEGIN:DAYLIGHT
TZOFFSETFROM:-0800
TZOFFSETTO:-0700
TZNAME:PDT
DTSTART:20180311T100000
END:DAYLIGHT
BEGIN:STANDARD
TZOFFSETFROM:-0700
TZOFFSETTO:-0800
TZNAME:PST
DTSTART:20181104T090000
END:STANDARD
BEGIN:DAYLIGHT
TZOFFSETFROM:-0800
TZOFFSETTO:-0700
TZNAME:PDT
DTSTART:20190310T100000
END:DAYLIGHT
BEGIN:STANDARD
TZOFFSETFROM:-0700
TZOFFSETTO:-0800
TZNAME:PST
DTSTART:20191103T090000
END:STANDARD
BEGIN:DAYLIGHT
TZOFFSETFROM:-0800
TZOFFSETTO:-0700
TZNAME:PDT
DTSTART:20200308T100000
END:DAYLIGHT
BEGIN:STANDARD
TZOFFSETFROM:-0700
TZOFFSETTO:-0800
TZNAME:PST
DTSTART:20201101T090000
END:STANDARD
END:VTIMEZONE
BEGIN:VEVENT
DTSTART;TZID=America/Los_Angeles:20190105T153000
DTEND;TZID=America/Los_Angeles:20190105T173000
DTSTAMP:20260419T175903
CREATED:20181226T183423Z
LAST-MODIFIED:20181226T230201Z
UID:6225-1546702200-1546709400@visitcadelta.com
SUMMARY:Sandhill Crane Tours
DESCRIPTION:Head out to the Woodbridge Ecological Reserve to see the majestic Sandhill Cranes as they spend their winter in the Delta. Guided tours are held the first three weekends of each month from October through February. The tours involved very little walking so bring your camp chair to enjoy the cranes and other waterfowl.  If you have binoculars\, go ahead and bring those along as well\, but they are not necessary! \nGet more information and register early for the Sandhill Crane Wetland Tours! \n 
URL:https://visitcadelta.com/event/sandhill-crane-tours-2019/2019-01-05/
LOCATION:Woodbridge Ecological Reserve\,  7730 W Woodbridge Rd.\, Lodi\, CA\, 95242
CATEGORIES:Family Friendly,Nature and Recreation
ATTACH;FMTTYPE=image/jpeg:https://visitcadelta.com/wp-content/uploads/2017/10/delta-sandhill-cranes.jpg
GEO:38.1623159;-121.41105
X-APPLE-STRUCTURED-LOCATION;VALUE=URI;X-ADDRESS=Woodbridge Ecological Reserve  7730 W Woodbridge Rd. Lodi CA 95242;X-APPLE-RADIUS=500;X-TITLE=7730 W Woodbridge Rd.:geo:-121.41105,38.1623159
END:VEVENT
END:VCALENDAR