BEGIN:VCALENDAR
VERSION:2.0
PRODID:-//Visit the California Delta - ECPv6.15.18//NONSGML v1.0//EN
CALSCALE:GREGORIAN
METHOD:PUBLISH
X-WR-CALNAME:Visit the California Delta
X-ORIGINAL-URL:https://visitcadelta.com
X-WR-CALDESC:Events for Visit the California Delta
REFRESH-INTERVAL;VALUE=DURATION:PT1H
X-Robots-Tag:noindex
X-PUBLISHED-TTL:PT1H
BEGIN:VTIMEZONE
TZID:America/Los_Angeles
BEGIN:DAYLIGHT
TZOFFSETFROM:-0800
TZOFFSETTO:-0700
TZNAME:PDT
DTSTART:20180311T100000
END:DAYLIGHT
BEGIN:STANDARD
TZOFFSETFROM:-0700
TZOFFSETTO:-0800
TZNAME:PST
DTSTART:20181104T090000
END:STANDARD
BEGIN:DAYLIGHT
TZOFFSETFROM:-0800
TZOFFSETTO:-0700
TZNAME:PDT
DTSTART:20190310T100000
END:DAYLIGHT
BEGIN:STANDARD
TZOFFSETFROM:-0700
TZOFFSETTO:-0800
TZNAME:PST
DTSTART:20191103T090000
END:STANDARD
BEGIN:DAYLIGHT
TZOFFSETFROM:-0800
TZOFFSETTO:-0700
TZNAME:PDT
DTSTART:20200308T100000
END:DAYLIGHT
BEGIN:STANDARD
TZOFFSETFROM:-0700
TZOFFSETTO:-0800
TZNAME:PST
DTSTART:20201101T090000
END:STANDARD
END:VTIMEZONE
BEGIN:VEVENT
DTSTART;TZID=America/Los_Angeles:20190907T100000
DTEND;TZID=America/Los_Angeles:20190907T190000
DTSTAMP:20260419T202144
CREATED:20190419T161404Z
LAST-MODIFIED:20190425T211058Z
UID:6980-1567850400-1567882800@visitcadelta.com
SUMMARY:Seafood & Music Festival
DESCRIPTION:“Visit the Pittsburg Seafood Festival this year and we know you won’t go away hungry. From delicious Seafood Gumbos\, Clam Chowder\, BBQ Oysters\, Steamed Muscles\, good ol’ Craw-Fish Boils\, Lobster Rolls\, Jambalaya to Alligator on a stick\, Calamari and Shrimp Creole – all are available for you to sample during the Festival.” \nOk\, they talked us into it! Actually\, they had us at “Jambalaya!” Not only will there be great food but this event also has a beer & sports pavilion\, wine pavilion\, live music & dancing\, jet ski races\, and stunt demos. \nSat-Sun\, September 7-8\n10:00 AM – 7:00 PM \nVisit the Pittsburg Seafood Festival website for more details.
URL:https://visitcadelta.com/event/seafood-music-festival-2019/2019-09-07/
LOCATION:Pittsburg Marina\, 200 Marina Blvd.\, Pittsburg\, CA\, 94565
CATEGORIES:Family Friendly,Food and Drink,Music Art Culture
ATTACH;FMTTYPE=image/jpeg:https://visitcadelta.com/wp-content/uploads/2018/07/seafood-festival-header_1_orig.jpg
GEO:38.0343139;-121.8847808
X-APPLE-STRUCTURED-LOCATION;VALUE=URI;X-ADDRESS=Pittsburg Marina 200 Marina Blvd. Pittsburg CA 94565;X-APPLE-RADIUS=500;X-TITLE=200 Marina Blvd.:geo:-121.8847808,38.0343139
END:VEVENT
END:VCALENDAR