BEGIN:VCALENDAR
VERSION:2.0
PRODID:-//Visit the California Delta - ECPv6.15.18//NONSGML v1.0//EN
CALSCALE:GREGORIAN
METHOD:PUBLISH
X-WR-CALNAME:Visit the California Delta
X-ORIGINAL-URL:https://visitcadelta.com
X-WR-CALDESC:Events for Visit the California Delta
REFRESH-INTERVAL;VALUE=DURATION:PT1H
X-Robots-Tag:noindex
X-PUBLISHED-TTL:PT1H
BEGIN:VTIMEZONE
TZID:America/Los_Angeles
BEGIN:DAYLIGHT
TZOFFSETFROM:-0800
TZOFFSETTO:-0700
TZNAME:PDT
DTSTART:20180311T100000
END:DAYLIGHT
BEGIN:STANDARD
TZOFFSETFROM:-0700
TZOFFSETTO:-0800
TZNAME:PST
DTSTART:20181104T090000
END:STANDARD
BEGIN:DAYLIGHT
TZOFFSETFROM:-0800
TZOFFSETTO:-0700
TZNAME:PDT
DTSTART:20190310T100000
END:DAYLIGHT
BEGIN:STANDARD
TZOFFSETFROM:-0700
TZOFFSETTO:-0800
TZNAME:PST
DTSTART:20191103T090000
END:STANDARD
BEGIN:DAYLIGHT
TZOFFSETFROM:-0800
TZOFFSETTO:-0700
TZNAME:PDT
DTSTART:20200308T100000
END:DAYLIGHT
BEGIN:STANDARD
TZOFFSETFROM:-0700
TZOFFSETTO:-0800
TZNAME:PST
DTSTART:20201101T090000
END:STANDARD
END:VTIMEZONE
BEGIN:VEVENT
DTSTART;TZID=America/Los_Angeles:20190809T150000
DTEND;TZID=America/Los_Angeles:20190809T190000
DTSTAMP:20260419T193449
CREATED:20190729T200242Z
LAST-MODIFIED:20190729T221717Z
UID:7567-1565362800-1565377200@visitcadelta.com
SUMMARY:Stockton Brew Fest
DESCRIPTION:Mark your calendars for Stockton’s ten-day long Brew Fest! With over thirty microbreweries across California\, discover new styles\, brewers\, and that one new beer to love. The party gets bigger at the Waterloo Gun & Bocce Club on August 10th. Find all sorts of food trucks goodies that can be deliciously paired with your beer or participate in crazy beer games and giveaways all day long. Purchase your tickets and receive a complementary tasting glass and unlimited beer tastings! \nVIP $45\nGeneral Admission $35\nDesignated Driver $10 \nVisit Stockton Beer Fest to purchase tickets\, see details\, and other VIP perks.
URL:https://visitcadelta.com/event/stockton-brew-fest/2019-08-09/
LOCATION:Waterloo Gun & Bocce Club\, 4343 N Ashley Ln\, Stockton\, CA\, 95215
CATEGORIES:Food and Drink
ATTACH;FMTTYPE=image/png:https://visitcadelta.com/wp-content/uploads/2019/07/beerfestvcad.png
END:VEVENT
END:VCALENDAR