BEGIN:VCALENDAR
VERSION:2.0
PRODID:-//Visit the California Delta - ECPv6.15.18//NONSGML v1.0//EN
CALSCALE:GREGORIAN
METHOD:PUBLISH
X-WR-CALNAME:Visit the California Delta
X-ORIGINAL-URL:https://visitcadelta.com
X-WR-CALDESC:Events for Visit the California Delta
REFRESH-INTERVAL;VALUE=DURATION:PT1H
X-Robots-Tag:noindex
X-PUBLISHED-TTL:PT1H
BEGIN:VTIMEZONE
TZID:America/Los_Angeles
BEGIN:DAYLIGHT
TZOFFSETFROM:-0800
TZOFFSETTO:-0700
TZNAME:PDT
DTSTART:20190310T100000
END:DAYLIGHT
BEGIN:STANDARD
TZOFFSETFROM:-0700
TZOFFSETTO:-0800
TZNAME:PST
DTSTART:20191103T090000
END:STANDARD
BEGIN:DAYLIGHT
TZOFFSETFROM:-0800
TZOFFSETTO:-0700
TZNAME:PDT
DTSTART:20200308T100000
END:DAYLIGHT
BEGIN:STANDARD
TZOFFSETFROM:-0700
TZOFFSETTO:-0800
TZNAME:PST
DTSTART:20201101T090000
END:STANDARD
BEGIN:DAYLIGHT
TZOFFSETFROM:-0800
TZOFFSETTO:-0700
TZNAME:PDT
DTSTART:20210314T100000
END:DAYLIGHT
BEGIN:STANDARD
TZOFFSETFROM:-0700
TZOFFSETTO:-0800
TZNAME:PST
DTSTART:20211107T090000
END:STANDARD
END:VTIMEZONE
BEGIN:VEVENT
DTSTART;TZID=America/Los_Angeles:20200104T090000
DTEND;TZID=America/Los_Angeles:20200104T120000
DTSTAMP:20260419T130055
CREATED:20180917T214314Z
LAST-MODIFIED:20200713T193900Z
UID:5984-1578128400-1578139200@visitcadelta.com
SUMMARY:Stone Lakes NWR Docent Tours - CANCELED
DESCRIPTION:Stroll along a flat\, 2-mile trail to a wildlife viewing platform overlooking the wetlands to see possible visitors such as Sandhill cranes\, shorebirds\, and waterfowl. A volunteer will lead the walk and share the natural history of the area. \nAll ages are welcome. No reservations are required. Restrooms are available. Visit the Stone Lakes website for more details. \n(Image from U.S. Fish & Wildlife Service) \n 
URL:https://visitcadelta.com/event/stone-lakes-national-wildlife-refuge-docent-tours-2020/2020-01-04/
LOCATION:Stone Lakes National Wildlife Refuge\, 1624 Hood Franklin Rd\, Elk Grove\, CA\,  95757
CATEGORIES:Family Friendly,Nature and Recreation
ATTACH;FMTTYPE=image/jpeg:https://visitcadelta.com/wp-content/uploads/2018/03/stone-lakes-nwr.jpg
GEO:38.3709689;-121.4954952
X-APPLE-STRUCTURED-LOCATION;VALUE=URI;X-ADDRESS=Stone Lakes National Wildlife Refuge 1624 Hood Franklin Rd Elk Grove CA  95757;X-APPLE-RADIUS=500;X-TITLE=1624 Hood Franklin Rd:geo:-121.4954952,38.3709689
END:VEVENT
END:VCALENDAR