BEGIN:VCALENDAR
VERSION:2.0
PRODID:-//Visit the California Delta - ECPv6.15.18//NONSGML v1.0//EN
CALSCALE:GREGORIAN
METHOD:PUBLISH
X-ORIGINAL-URL:https://visitcadelta.com
X-WR-CALDESC:Events for Visit the California Delta
REFRESH-INTERVAL;VALUE=DURATION:PT1H
X-Robots-Tag:noindex
X-PUBLISHED-TTL:PT1H
BEGIN:VTIMEZONE
TZID:America/Los_Angeles
BEGIN:DAYLIGHT
TZOFFSETFROM:-0800
TZOFFSETTO:-0700
TZNAME:PDT
DTSTART:20210314T100000
END:DAYLIGHT
BEGIN:STANDARD
TZOFFSETFROM:-0700
TZOFFSETTO:-0800
TZNAME:PST
DTSTART:20211107T090000
END:STANDARD
BEGIN:DAYLIGHT
TZOFFSETFROM:-0800
TZOFFSETTO:-0700
TZNAME:PDT
DTSTART:20220313T100000
END:DAYLIGHT
BEGIN:STANDARD
TZOFFSETFROM:-0700
TZOFFSETTO:-0800
TZNAME:PST
DTSTART:20221106T090000
END:STANDARD
BEGIN:DAYLIGHT
TZOFFSETFROM:-0800
TZOFFSETTO:-0700
TZNAME:PDT
DTSTART:20230312T100000
END:DAYLIGHT
BEGIN:STANDARD
TZOFFSETFROM:-0700
TZOFFSETTO:-0800
TZNAME:PST
DTSTART:20231105T090000
END:STANDARD
END:VTIMEZONE
BEGIN:VEVENT
DTSTART;TZID=America/Los_Angeles:20220409T090000
DTEND;TZID=America/Los_Angeles:20220409T120000
DTSTAMP:20260419T195602
CREATED:20220322T204410Z
LAST-MODIFIED:20220322T204410Z
UID:10030-1649494800-1649505600@visitcadelta.com
SUMMARY:Yolo Bypass Wildlife Area Tours
DESCRIPTION:Interested in birding and appreciating nature? These tours are docent led groups of 30 people. Tours involve driving with several stops\, and optional walks to accommodate all levels of outdoor enthusiasts. Tours are free with a suggested donation of $10/adult to support the Yolo Basin Foundation.
URL:https://visitcadelta.com/event/yolo-bypass-wildlife-area-tours/2022-04-09/
LOCATION:Yolo Bypass Wildlife Area\, 45211 County Road 32B\, Davis\, CA\, 95618
CATEGORIES:Nature and Recreation
END:VEVENT
END:VCALENDAR