BEGIN:VCALENDAR
VERSION:2.0
PRODID:-//Visit the California Delta - ECPv6.15.18//NONSGML v1.0//EN
CALSCALE:GREGORIAN
METHOD:PUBLISH
X-ORIGINAL-URL:https://visitcadelta.com
X-WR-CALDESC:Events for Visit the California Delta
REFRESH-INTERVAL;VALUE=DURATION:PT1H
X-Robots-Tag:noindex
X-PUBLISHED-TTL:PT1H
BEGIN:VTIMEZONE
TZID:America/Los_Angeles
BEGIN:DAYLIGHT
TZOFFSETFROM:-0800
TZOFFSETTO:-0700
TZNAME:PDT
DTSTART:20200308T100000
END:DAYLIGHT
BEGIN:STANDARD
TZOFFSETFROM:-0700
TZOFFSETTO:-0800
TZNAME:PST
DTSTART:20201101T090000
END:STANDARD
BEGIN:DAYLIGHT
TZOFFSETFROM:-0800
TZOFFSETTO:-0700
TZNAME:PDT
DTSTART:20210314T100000
END:DAYLIGHT
BEGIN:STANDARD
TZOFFSETFROM:-0700
TZOFFSETTO:-0800
TZNAME:PST
DTSTART:20211107T090000
END:STANDARD
BEGIN:DAYLIGHT
TZOFFSETFROM:-0800
TZOFFSETTO:-0700
TZNAME:PDT
DTSTART:20220313T100000
END:DAYLIGHT
BEGIN:STANDARD
TZOFFSETFROM:-0700
TZOFFSETTO:-0800
TZNAME:PST
DTSTART:20221106T090000
END:STANDARD
END:VTIMEZONE
BEGIN:VEVENT
DTSTART;VALUE=DATE:20210818
DTEND;VALUE=DATE:20210819
DTSTAMP:20260419T193531
CREATED:20210305T193539Z
LAST-MODIFIED:20210330T011729Z
UID:9533-1629244800-1629331199@visitcadelta.com
SUMMARY:Yolo County Fair
DESCRIPTION:The Yolo County Fair is the largest and oldest free gate fair in California. Since 1936\, the fair has highlighted the best agriculture\, livestock\, art\, and products of Yolo County. While dates have been announced\, times and admission prices are still to come. Mark your calendars!
URL:https://visitcadelta.com/event/yolo-county-fair/2021-08-18/
LOCATION:Yolo County Fairgrounds\, 1250 Gum Avenue\, Woodland\, CA\, 95776\, United States
CATEGORIES:Family Friendly,Food and Drink,Music Art Culture
ATTACH;FMTTYPE=image/jpeg:https://visitcadelta.com/wp-content/uploads/2021/03/yolo-county-fair.jpg
GEO:38.6683086;-121.7633022
X-APPLE-STRUCTURED-LOCATION;VALUE=URI;X-ADDRESS=Yolo County Fairgrounds 1250 Gum Avenue Woodland CA 95776 United States;X-APPLE-RADIUS=500;X-TITLE=1250 Gum Avenue:geo:-121.7633022,38.6683086
END:VEVENT
END:VCALENDAR