BEGIN:VCALENDAR
VERSION:2.0
PRODID:-//Visit the California Delta - ECPv6.15.18//NONSGML v1.0//EN
CALSCALE:GREGORIAN
METHOD:PUBLISH
X-ORIGINAL-URL:https://visitcadelta.com
X-WR-CALDESC:Events for Visit the California Delta
REFRESH-INTERVAL;VALUE=DURATION:PT1H
X-Robots-Tag:noindex
X-PUBLISHED-TTL:PT1H
BEGIN:VTIMEZONE
TZID:America/Los_Angeles
BEGIN:DAYLIGHT
TZOFFSETFROM:-0800
TZOFFSETTO:-0700
TZNAME:PDT
DTSTART:20250309T100000
END:DAYLIGHT
BEGIN:STANDARD
TZOFFSETFROM:-0700
TZOFFSETTO:-0800
TZNAME:PST
DTSTART:20251102T090000
END:STANDARD
BEGIN:DAYLIGHT
TZOFFSETFROM:-0800
TZOFFSETTO:-0700
TZNAME:PDT
DTSTART:20260308T100000
END:DAYLIGHT
BEGIN:STANDARD
TZOFFSETFROM:-0700
TZOFFSETTO:-0800
TZNAME:PST
DTSTART:20261101T090000
END:STANDARD
BEGIN:DAYLIGHT
TZOFFSETFROM:-0800
TZOFFSETTO:-0700
TZNAME:PDT
DTSTART:20270314T100000
END:DAYLIGHT
BEGIN:STANDARD
TZOFFSETFROM:-0700
TZOFFSETTO:-0800
TZNAME:PST
DTSTART:20271107T090000
END:STANDARD
END:VTIMEZONE
BEGIN:VEVENT
DTSTART;TZID=America/Los_Angeles:20260329T130000
DTEND;TZID=America/Los_Angeles:20260329T143000
DTSTAMP:20260421T130732
CREATED:20260325T192459Z
LAST-MODIFIED:20260325T192459Z
UID:11548-1774789200-1774794600@visitcadelta.com
SUMMARY:The Poetry of Nature Journaling in Oakley
DESCRIPTION:  \nJoin Big Break for a nature journaling program featuring writing prompts and drawing techniques with guest Brentwood poet Maria Denney. Participants can explore creative expression outdoors through poetry and art. \nThis is a free event.
URL:https://visitcadelta.com/event/the-poetry-of-nature-journaling-in-oakley/
LOCATION:Big Break Regional Shoreline\, 69 Big Break Rd\, Oakley\, CA\, 94561
END:VEVENT
END:VCALENDAR