BEGIN:VCALENDAR
VERSION:2.0
PRODID:-//Visit the California Delta - ECPv6.15.18//NONSGML v1.0//EN
CALSCALE:GREGORIAN
METHOD:PUBLISH
X-WR-CALNAME:Visit the California Delta
X-ORIGINAL-URL:https://visitcadelta.com
X-WR-CALDESC:Events for Visit the California Delta
REFRESH-INTERVAL;VALUE=DURATION:PT1H
X-Robots-Tag:noindex
X-PUBLISHED-TTL:PT1H
BEGIN:VTIMEZONE
TZID:America/Los_Angeles
BEGIN:DAYLIGHT
TZOFFSETFROM:-0800
TZOFFSETTO:-0700
TZNAME:PDT
DTSTART:20250309T100000
END:DAYLIGHT
BEGIN:STANDARD
TZOFFSETFROM:-0700
TZOFFSETTO:-0800
TZNAME:PST
DTSTART:20251102T090000
END:STANDARD
BEGIN:DAYLIGHT
TZOFFSETFROM:-0800
TZOFFSETTO:-0700
TZNAME:PDT
DTSTART:20260308T100000
END:DAYLIGHT
BEGIN:STANDARD
TZOFFSETFROM:-0700
TZOFFSETTO:-0800
TZNAME:PST
DTSTART:20261101T090000
END:STANDARD
BEGIN:DAYLIGHT
TZOFFSETFROM:-0800
TZOFFSETTO:-0700
TZNAME:PDT
DTSTART:20270314T100000
END:DAYLIGHT
BEGIN:STANDARD
TZOFFSETFROM:-0700
TZOFFSETTO:-0800
TZNAME:PST
DTSTART:20271107T090000
END:STANDARD
END:VTIMEZONE
BEGIN:VEVENT
DTSTART;TZID=America/Los_Angeles:20260419T090000
DTEND;TZID=America/Los_Angeles:20260419T120000
DTSTAMP:20260419T104402
CREATED:20260316T190138Z
LAST-MODIFIED:20251201T215847Z
UID:10787-1776589200-1776600000@visitcadelta.com
SUMMARY:Tour of the Yolo Bypass Wildlife Area
DESCRIPTION:The Yolo Bypass Wildlife Area tours are hosted on the third Sunday of the month from October through June. Learn about migratory bird species\, flood management techniques\, agricultural practices\, native plants of the wetlands and more! Please dress in layers as weather can be unpredictable. Registration required; more information here.
URL:https://visitcadelta.com/event/ybwa-tour-april-2026/
LOCATION:Yolo Bypass Wildlife Area Headquarters\, 45211 Chiles Road\, Davis\, CA\, 95618\, United States
GEO:38.5560776;-121.6718838
X-APPLE-STRUCTURED-LOCATION;VALUE=URI;X-ADDRESS=Yolo Bypass Wildlife Area Headquarters 45211 Chiles Road Davis CA 95618 United States;X-APPLE-RADIUS=500;X-TITLE=45211 Chiles Road:geo:-121.6718838,38.5560776
END:VEVENT
BEGIN:VEVENT
DTSTART;TZID=America/Los_Angeles:20260419T140000
DTEND;TZID=America/Los_Angeles:20260419T140000
DTSTAMP:20260419T104402
CREATED:20260325T185933Z
LAST-MODIFIED:20260325T185933Z
UID:11537-1776607200-1776607200@visitcadelta.com
SUMMARY:Talk Story Films: Journey in Multiple Worlds in Stockton
DESCRIPTION:Attend a screening of two short Talk-Story films at the Filipino American National Historical Society Museum in Stockton\, highlighting the lives of Manong Albert Juanitas and Manang Irene Estante Revillar. \nThis event is free and includes light refreshments.
URL:https://visitcadelta.com/event/talk-story-films-journey-in-multiple-worlds-in-stockton/
LOCATION:Filipino American National Historical Society Museum\, 337 E Weber Ave\, Stockton\, CA\, 95202\, United States
END:VEVENT
END:VCALENDAR