BEGIN:VCALENDAR
VERSION:2.0
PRODID:-//Visit the California Delta - ECPv6.15.18//NONSGML v1.0//EN
CALSCALE:GREGORIAN
METHOD:PUBLISH
X-WR-CALNAME:Visit the California Delta
X-ORIGINAL-URL:https://visitcadelta.com
X-WR-CALDESC:Events for Visit the California Delta
REFRESH-INTERVAL;VALUE=DURATION:PT1H
X-Robots-Tag:noindex
X-PUBLISHED-TTL:PT1H
BEGIN:VTIMEZONE
TZID:America/Los_Angeles
BEGIN:DAYLIGHT
TZOFFSETFROM:-0800
TZOFFSETTO:-0700
TZNAME:PDT
DTSTART:20180311T100000
END:DAYLIGHT
BEGIN:STANDARD
TZOFFSETFROM:-0700
TZOFFSETTO:-0800
TZNAME:PST
DTSTART:20181104T090000
END:STANDARD
BEGIN:DAYLIGHT
TZOFFSETFROM:-0800
TZOFFSETTO:-0700
TZNAME:PDT
DTSTART:20190310T100000
END:DAYLIGHT
BEGIN:STANDARD
TZOFFSETFROM:-0700
TZOFFSETTO:-0800
TZNAME:PST
DTSTART:20191103T090000
END:STANDARD
BEGIN:DAYLIGHT
TZOFFSETFROM:-0800
TZOFFSETTO:-0700
TZNAME:PDT
DTSTART:20200308T100000
END:DAYLIGHT
BEGIN:STANDARD
TZOFFSETFROM:-0700
TZOFFSETTO:-0800
TZNAME:PST
DTSTART:20201101T090000
END:STANDARD
BEGIN:DAYLIGHT
TZOFFSETFROM:-0800
TZOFFSETTO:-0700
TZNAME:PDT
DTSTART:20210314T100000
END:DAYLIGHT
BEGIN:STANDARD
TZOFFSETFROM:-0700
TZOFFSETTO:-0800
TZNAME:PST
DTSTART:20211107T090000
END:STANDARD
END:VTIMEZONE
BEGIN:VEVENT
DTSTART;TZID=America/Los_Angeles:20201001T080000
DTEND;TZID=America/Los_Angeles:20201005T120000
DTSTAMP:20260419T195128
CREATED:20200211T161025Z
LAST-MODIFIED:20200922T185741Z
UID:8400-1601539200-1601899200@visitcadelta.com
SUMMARY:Delta Century Bike Ride
DESCRIPTION:The 2020 Sacramento Century Challenge is now a 100-Hour Challenge where participants ride as much as they like – a full century\, metric century\, a half century or a fun ride – or walk\, run or engage in another activity of their own choosing between Thursday\, October 1st at 8:00 AM through Monday\, October 5th at 12:00 PM. Now more than ever the Sacramento Children’s Home Crisis Nursery needs our help so join in and “Ride or Get Active for a Reason!” The registration fee is $50 per person. For more information and to register visit Sacramento Century Challenge.
URL:https://visitcadelta.com/event/delta-century-bike-ride/
CATEGORIES:Delta Cycling,Family Friendly,Nature and Recreation
ATTACH;FMTTYPE=image/jpeg:https://visitcadelta.com/wp-content/uploads/2020/02/13119769_1239852026042982_6149276401041278703_ovcad.jpg
END:VEVENT
BEGIN:VEVENT
DTSTART;VALUE=DATE:20191005
DTEND;VALUE=DATE:20191006
DTSTAMP:20260419T195128
CREATED:20190506T224525Z
LAST-MODIFIED:20190506T224525Z
UID:7261-1570233600-1570319999@visitcadelta.com
SUMMARY:Sacramento Century Challenge
DESCRIPTION:Start at the Capitol Mall in Sacramento and meander through the California Delta Wine Region for the Sacramento Century Challenge. Register to ride 100\, 63\, 36\, or 16 miles of flat roads with gorgeous scenery. Proceeds from this year’s Sacramento Century Challenge will go to the Sacramento Children’s Home Crisis Nursery Program. \nGet all the details and register online for the Sacramento Century Challenge. Visit the Delta Cycling page for more information on biking the California Delta! \n﻿﻿ \n  \n 
URL:https://visitcadelta.com/event/sacramento-century-challenge-2019/
LOCATION:Capitol Mall\, Capitol Mall\, Sacramento\, CA
CATEGORIES:Delta Cycling,Family Friendly,Nature and Recreation
ATTACH;FMTTYPE=image/jpeg:https://visitcadelta.com/wp-content/uploads/2018/04/delta-cycling.jpg
END:VEVENT
BEGIN:VEVENT
DTSTART;VALUE=DATE:20190514
DTEND;VALUE=DATE:20190515
DTSTAMP:20260419T195128
CREATED:20190211T220549Z
LAST-MODIFIED:20190212T192858Z
UID:6570-1557792000-1557878399@visitcadelta.com
SUMMARY:Amgen Tour Through the Delta
DESCRIPTION:Who needs to travel across the Atlantic for the Tour de France when you have the Amgen Tour of California speeding right through your backyard? Watching the race is free and there will be other festivities in store. You can also volunteer for the event. \nThe Men’s Stage 3 wind through different parts of the Delta on this day. You can see the routes at amgentourofcalifornia.com \nVisit the Delta Cycling page for more information on biking the California Delta!
URL:https://visitcadelta.com/event/amgen-tour-delta-2019/
CATEGORIES:Delta Cycling,Family Friendly,Nature and Recreation
ATTACH;FMTTYPE=image/jpeg:https://visitcadelta.com/wp-content/uploads/2017/11/cycling-amgen-delta.jpg
END:VEVENT
END:VCALENDAR