BEGIN:VCALENDAR
VERSION:2.0
PRODID:-//Visit the California Delta - ECPv6.15.18//NONSGML v1.0//EN
CALSCALE:GREGORIAN
METHOD:PUBLISH
X-ORIGINAL-URL:https://visitcadelta.com
X-WR-CALDESC:Events for Visit the California Delta
REFRESH-INTERVAL;VALUE=DURATION:PT1H
X-Robots-Tag:noindex
X-PUBLISHED-TTL:PT1H
BEGIN:VTIMEZONE
TZID:America/Los_Angeles
BEGIN:DAYLIGHT
TZOFFSETFROM:-0800
TZOFFSETTO:-0700
TZNAME:PDT
DTSTART:20220313T100000
END:DAYLIGHT
BEGIN:STANDARD
TZOFFSETFROM:-0700
TZOFFSETTO:-0800
TZNAME:PST
DTSTART:20221106T090000
END:STANDARD
BEGIN:DAYLIGHT
TZOFFSETFROM:-0800
TZOFFSETTO:-0700
TZNAME:PDT
DTSTART:20230312T100000
END:DAYLIGHT
BEGIN:STANDARD
TZOFFSETFROM:-0700
TZOFFSETTO:-0800
TZNAME:PST
DTSTART:20231105T090000
END:STANDARD
BEGIN:DAYLIGHT
TZOFFSETFROM:-0800
TZOFFSETTO:-0700
TZNAME:PDT
DTSTART:20240310T100000
END:DAYLIGHT
BEGIN:STANDARD
TZOFFSETFROM:-0700
TZOFFSETTO:-0800
TZNAME:PST
DTSTART:20241103T090000
END:STANDARD
END:VTIMEZONE
BEGIN:VEVENT
DTSTART;TZID=America/Los_Angeles:20230429T090000
DTEND;TZID=America/Los_Angeles:20230429T160000
DTSTAMP:20260424T111209
CREATED:20230201T233323Z
LAST-MODIFIED:20230201T233323Z
UID:10181-1682758800-1682784000@visitcadelta.com
SUMMARY:California Duck Days
DESCRIPTION:California Duck Days is a family oriented\, community-based outdoor festival with activities for people of all ages. On-site activities for families include interactive exhibits\, wetland themed arts and crafts\, and much more.
URL:https://visitcadelta.com/event/california-duck-days/
LOCATION:Yolo Bypass Wildlife Area Headquarters\, 45211 Chiles Road\, Davis\, CA\, 95618\, United States
CATEGORIES:Nature and Recreation
GEO:38.5560776;-121.6718838
X-APPLE-STRUCTURED-LOCATION;VALUE=URI;X-ADDRESS=Yolo Bypass Wildlife Area Headquarters 45211 Chiles Road Davis CA 95618 United States;X-APPLE-RADIUS=500;X-TITLE=45211 Chiles Road:geo:-121.6718838,38.5560776
END:VEVENT
END:VCALENDAR