BEGIN:VCALENDAR
VERSION:2.0
PRODID:-//Visit the California Delta - ECPv6.15.18//NONSGML v1.0//EN
CALSCALE:GREGORIAN
METHOD:PUBLISH
X-WR-CALNAME:Visit the California Delta
X-ORIGINAL-URL:https://visitcadelta.com
X-WR-CALDESC:Events for Visit the California Delta
REFRESH-INTERVAL;VALUE=DURATION:PT1H
X-Robots-Tag:noindex
X-PUBLISHED-TTL:PT1H
BEGIN:VTIMEZONE
TZID:America/Los_Angeles
BEGIN:DAYLIGHT
TZOFFSETFROM:-0800
TZOFFSETTO:-0700
TZNAME:PDT
DTSTART:20180311T100000
END:DAYLIGHT
BEGIN:STANDARD
TZOFFSETFROM:-0700
TZOFFSETTO:-0800
TZNAME:PST
DTSTART:20181104T090000
END:STANDARD
BEGIN:DAYLIGHT
TZOFFSETFROM:-0800
TZOFFSETTO:-0700
TZNAME:PDT
DTSTART:20190310T100000
END:DAYLIGHT
BEGIN:STANDARD
TZOFFSETFROM:-0700
TZOFFSETTO:-0800
TZNAME:PST
DTSTART:20191103T090000
END:STANDARD
BEGIN:DAYLIGHT
TZOFFSETFROM:-0800
TZOFFSETTO:-0700
TZNAME:PDT
DTSTART:20200308T100000
END:DAYLIGHT
BEGIN:STANDARD
TZOFFSETFROM:-0700
TZOFFSETTO:-0800
TZNAME:PST
DTSTART:20201101T090000
END:STANDARD
END:VTIMEZONE
BEGIN:VEVENT
DTSTART;VALUE=DATE:20190629
DTEND;VALUE=DATE:20190701
DTSTAMP:20260422T174132
CREATED:20190419T162555Z
LAST-MODIFIED:20190419T163927Z
UID:6985-1561766400-1561939199@visitcadelta.com
SUMMARY:Delta (Kite)Board Meeting
DESCRIPTION:Watch the excitement as kiteboarders convene in the Delta to catch some air from the water! This event is free for the public to enjoy. There will be food trucks on hand. Grab your lawn chair for a day of fun in the sun! Interested in competing? Get the full details on the event page. \nThe Delta is a watersport paradise – cool off at all these Delta watersport hot spots!
URL:https://visitcadelta.com/event/delta-kiteboard-meeting-2019/
LOCATION:Riverview Park\, River Park Dr.\, Pittsburg\, CA
CATEGORIES:Family Friendly,Nature and Recreation
ATTACH;FMTTYPE=image/jpeg:https://visitcadelta.com/wp-content/uploads/2018/06/delta-board-meeting.jpg
END:VEVENT
BEGIN:VEVENT
DTSTART;TZID=America/Los_Angeles:20190607T184500
DTEND;TZID=America/Los_Angeles:20190607T214500
DTSTAMP:20260422T174132
CREATED:20190503T172428Z
LAST-MODIFIED:20190503T172428Z
UID:7250-1559933100-1559943900@visitcadelta.com
SUMMARY:Bat Talks and Walks
DESCRIPTION:Starting Friday\, June 7 through September 20\nDays and times vary \nLearn about one of the Delta’s amazing migratory species! One of the largest colonies of Mexican free-tailed bats takes up residence under the Yolo Causeway during the summer. Learn about these beneficial creatures in a 45 minutes presentation and then head out on a tour to watch them in action as they stream out just after sunset. This is a really fun experience for all- plus\, it’s free for kids 15 and under! Visit the Yolo Basin Foundation website for more information and to register.
URL:https://visitcadelta.com/event/bat-talks-walks-2019/
LOCATION:Yolo Bypass Wildlife Area\, 45211 County Road 32B\, Davis\, CA\, 95618
CATEGORIES:Nature and Recreation
ATTACH;FMTTYPE=image/jpeg:https://visitcadelta.com/wp-content/uploads/2018/06/delta-yolo-bats.jpg
END:VEVENT
BEGIN:VEVENT
DTSTART;TZID=America/Los_Angeles:20190518T100000
DTEND;TZID=America/Los_Angeles:20190518T160000
DTSTAMP:20260422T174132
CREATED:20190429T202610Z
LAST-MODIFIED:20190429T202610Z
UID:7218-1558173600-1558195200@visitcadelta.com
SUMMARY:Walk on the Wildside
DESCRIPTION:A FREE event filled with hiking tours\, presentations\, live animal shows\, music\, children’s hands-on activities. Plenty of guided and self-guided tours will be ongoing throughout the day so cease the chance to spot over 120 active great blue herons\, double-crested cormorants\, and egret rookery nests. \nCheck out event details at RegionalSan website.
URL:https://visitcadelta.com/event/walk-on-the-wildside/
LOCATION:River Road\, 8301 River Rd\, Sacrameno\, CA\, 95832
CATEGORIES:Family Friendly,Nature and Recreation
ATTACH;FMTTYPE=image/jpeg:https://visitcadelta.com/wp-content/uploads/2019/04/wow6.jpg
END:VEVENT
BEGIN:VEVENT
DTSTART;VALUE=DATE:20190514
DTEND;VALUE=DATE:20190515
DTSTAMP:20260422T174132
CREATED:20190211T220549Z
LAST-MODIFIED:20190212T192858Z
UID:6570-1557792000-1557878399@visitcadelta.com
SUMMARY:Amgen Tour Through the Delta
DESCRIPTION:Who needs to travel across the Atlantic for the Tour de France when you have the Amgen Tour of California speeding right through your backyard? Watching the race is free and there will be other festivities in store. You can also volunteer for the event. \nThe Men’s Stage 3 wind through different parts of the Delta on this day. You can see the routes at amgentourofcalifornia.com \nVisit the Delta Cycling page for more information on biking the California Delta!
URL:https://visitcadelta.com/event/amgen-tour-delta-2019/
LOCATION:CA
CATEGORIES:Delta Cycling,Family Friendly,Nature and Recreation
ATTACH;FMTTYPE=image/jpeg:https://visitcadelta.com/wp-content/uploads/2017/11/cycling-amgen-delta.jpg
END:VEVENT
BEGIN:VEVENT
DTSTART;TZID=America/Los_Angeles:20190511T090000
DTEND;TZID=America/Los_Angeles:20190511T120000
DTSTAMP:20260422T174132
CREATED:20190417T212433Z
LAST-MODIFIED:20190417T214215Z
UID:6958-1557565200-1557576000@visitcadelta.com
SUMMARY:Guided Nature Walk
DESCRIPTION:Take a walk! A stroll! Or a hike! This route will have you exploring part of the River Walk Trail and the Wetlands Walk Trail. Spot migratory waterfowl and even Sandhill Cranes. Learn about the Plains Miwok\, the first inhabitants of the area. This is a great opportunity to bring our your binoculars to see all types of plant and animal species thriving in the Cosumnes Preserve. \nFor details and registration\, visit Cosumnes River Preserve .
URL:https://visitcadelta.com/event/guided-nature-walk/
LOCATION:CA
CATEGORIES:Family Friendly,Nature and Recreation
ATTACH;FMTTYPE=image/jpeg:https://visitcadelta.com/wp-content/uploads/2019/04/img_1357-1.jpeg
END:VEVENT
BEGIN:VEVENT
DTSTART;TZID=America/Los_Angeles:20190511T083000
DTEND;TZID=America/Los_Angeles:20190511T123000
DTSTAMP:20260422T174132
CREATED:20190429T191513Z
LAST-MODIFIED:20190430T170156Z
UID:7213-1557563400-1557577800@visitcadelta.com
SUMMARY:SacTown Urban Dash 5K
DESCRIPTION:Set your alarms early for a race through West Sacramento! Pick up your bibs and take a moment to stretch before dashing along the course. Run or walk\, but you’ll definitely appreciate the beauty of the Sacramento River beside you. Lastly\, re-hydrate yourself at the end of the race with a complimentary beer/beverage. \n5K Participant- $45\n5K Child Participant (3-10 years old)- $15\n*Ages 2 and under FREE \nRegistration/Bib Pick-up- 8:30AM-9:30AM\nRace Time- 9:30AM-12:30PM \nWalkers/strollers/kids will start at 9:45AM \n*Shirt sizes are no longer guaranteed after April 14th- limited sizes and quantity available. \nFor registration and details\, visit the SacTown Urban Dash 5K.
URL:https://visitcadelta.com/event/sactown-urban-dash-5k/
LOCATION:The Barn\, 985 Riverfront St\, West Sacramento\, CA\, 95691
CATEGORIES:Family Friendly,Nature and Recreation
ATTACH;FMTTYPE=image/jpeg:https://visitcadelta.com/wp-content/uploads/2019/04/195db3ef-19a6-4e2a-8a95-03dc9ca4a2a6-bco5mi.jpg
GEO:38.575197;-121.5150843
X-APPLE-STRUCTURED-LOCATION;VALUE=URI;X-ADDRESS=The Barn 985 Riverfront St West Sacramento CA 95691;X-APPLE-RADIUS=500;X-TITLE=985 Riverfront St:geo:-121.5150843,38.575197
END:VEVENT
BEGIN:VEVENT
DTSTART;TZID=America/Los_Angeles:20190509T180000
DTEND;TZID=America/Los_Angeles:20190509T200000
DTSTAMP:20260422T174132
CREATED:20190306T192449Z
LAST-MODIFIED:20190306T192449Z
UID:6687-1557424800-1557432000@visitcadelta.com
SUMMARY:Dockwalker Volunteer Training
DESCRIPTION:Volunteer and learn how to become a Dockwalker in your community. Whether you’re 15 or 100 years young\, you can become a Dockwalker. Help educate boaters on safety out in waters and share clean boating practices. You will also receive educational materials to distribute at marinas or boat launches. It’s all about being safe and environmentally friendly when boating so help spread boater awareness! \nRegister for Dockwalker training at Division of Boating and Waterways. Find details through the Dockwalker Program. \n 
URL:https://visitcadelta.com/event/dockwalker-volunteer-training/
LOCATION:Stockton Yacht Club\, 3235 River Drive\, Stockton\, CA\, 95204
CATEGORIES:Nature and Recreation
ATTACH;FMTTYPE=image/jpeg:https://visitcadelta.com/wp-content/uploads/2019/03/pjh_delta-5-1.jpeg
GEO:37.9717004;-121.3504883
X-APPLE-STRUCTURED-LOCATION;VALUE=URI;X-ADDRESS=Stockton Yacht Club 3235 River Drive Stockton CA 95204;X-APPLE-RADIUS=500;X-TITLE=3235 River Drive:geo:-121.3504883,37.9717004
END:VEVENT
BEGIN:VEVENT
DTSTART;TZID=America/Los_Angeles:20190504T140000
DTEND;TZID=America/Los_Angeles:20190504T150000
DTSTAMP:20260422T174132
CREATED:20190426T183212Z
LAST-MODIFIED:20190426T183212Z
UID:7140-1556978400-1556982000@visitcadelta.com
SUMMARY:Turtley Awesome Eggs
DESCRIPTION:Drop in for a quick hour nature hike. Get a gorgeous view of Big Break and spot turtle eggs along the way. Many turtles hatch their offspring in Big Break. If you’re a turtle lover this hike is for you! No registration is required\, just stop by. \nFor details\, visit East Bay Regional Park.
URL:https://visitcadelta.com/event/turtley-awesome-eggs/
LOCATION:CA
CATEGORIES:Family Friendly,Nature and Recreation
ATTACH;FMTTYPE=image/jpeg:https://visitcadelta.com/wp-content/uploads/2019/04/57471827_2548455085224482_4378900019344834560_o-1.jpg
END:VEVENT
BEGIN:VEVENT
DTSTART;TZID=America/Los_Angeles:20190504T090000
DTEND;TZID=America/Los_Angeles:20190504T120000
DTSTAMP:20260422T174132
CREATED:20190417T193810Z
LAST-MODIFIED:20190422T182344Z
UID:6951-1556960400-1556971200@visitcadelta.com
SUMMARY:Civic Pride Day 2019
DESCRIPTION:Help tidy up the Pittsburg community! Remove and prevent litter from getting into waterways. Take your pick from five locations to clean up\, from Buchanan Park\, MLK Jr. Spillway\, Civic Park\, and more. Register yourself and a friend (because two always better than one) and simply meetup at the location. Collection bags\, safety vests\, litter grabbers\, and water are provided. \nFor registration and all locations\, visit the City of Pittsburg California.
URL:https://visitcadelta.com/event/civic-pride-day-2019/
LOCATION:Various locations in Pittsburg\, Pittsburg
CATEGORIES:Family Friendly,Nature and Recreation
ATTACH;FMTTYPE=image/jpeg:https://visitcadelta.com/wp-content/uploads/2019/04/51378895_2201928743204690_7153386061484261376_n.jpeg
END:VEVENT
BEGIN:VEVENT
DTSTART;TZID=America/Los_Angeles:20190413T100000
DTEND;TZID=America/Los_Angeles:20190413T150000
DTSTAMP:20260422T174132
CREATED:20190306T233324Z
LAST-MODIFIED:20190306T233324Z
UID:6694-1555149600-1555167600@visitcadelta.com
SUMMARY:Opening Day Pittsburg Yacht Club
DESCRIPTION:It’s opening day for the Pittsburg Yacht Club. This year’s theme is “Holidays on the Delta”. Sacramento Bayliners will also be cruising in to get in on the fun. Celebrate with a good ol’ parade and a potluck lunch afterward. Bring a dish you enjoy and share it with others. Get your sailor hats and Christmas attire on because it’s yacht time! \nSee the flyer for details.
URL:https://visitcadelta.com/event/opening-day-pittsburg-yacht-club/
LOCATION:Pittsburg Yacht Club\, 3 Marina Blvd\, Pittsburg\, CA\, 94565
CATEGORIES:Food and Drink,Music Art Culture,Nature and Recreation
ATTACH;FMTTYPE=image/png:https://visitcadelta.com/wp-content/uploads/2019/03/06aded0d-8469-4fca-893c-06b3f8b937c7.png
END:VEVENT
BEGIN:VEVENT
DTSTART;TZID=America/Los_Angeles:20190406T100000
DTEND;TZID=America/Los_Angeles:20190406T160000
DTSTAMP:20260422T174132
CREATED:20190306T181011Z
LAST-MODIFIED:20190306T182204Z
UID:6680-1554544800-1554566400@visitcadelta.com
SUMMARY:Camp Tiny House
DESCRIPTION:Calling to all tiny house enthusiasts! Potluck lunch and home tours\, with opening panel discussion about “Going Tiny”. Visitors are encouraged to bring a side dish to share.  Members of our tiny house community will participate in a panel discussion\, with a meet-and-mingle\, before opening their Tiny Houses for visitor tours. Meet other tiny house enthusiasts and learn all about these unique home styles. \nFind more details from Park Delta Bay or the event page. \n  \n 
URL:https://visitcadelta.com/event/camp-tiny-house-2019-04-06/
LOCATION:Park Delta Bay\, 922 W Brannan Island Rd.\, Isleton\, CA\, 95641
CATEGORIES:Family Friendly,Food and Drink,Nature and Recreation
ATTACH;FMTTYPE=image/jpeg:https://visitcadelta.com/wp-content/uploads/2018/09/37395471_2207683152578640_4556760039615889408_n.jpg
END:VEVENT
BEGIN:VEVENT
DTSTART;VALUE=DATE:20190404
DTEND;VALUE=DATE:20190414
DTSTAMP:20260422T174132
CREATED:20190311T182638Z
LAST-MODIFIED:20190311T182638Z
UID:6701-1554336000-1555199999@visitcadelta.com
SUMMARY:Creek Week and Clean-up Day
DESCRIPTION:Get involved and support the health of the Delta during Creek Week! There are activities all week long from April 6th to 13th like the Bufferlands Bird & Blooms Tour\, Steelhead Creek Beaver Pond Walk\, or Arcade Creek Exploration. Ending Creek Week is the big clean-up day and celebration on April 13th is the big clean-up day. To volunteer\, make sure to sign up and sign a waiver form! \nVisit the website\, creekweek.net or their brochure for exact locations and details.
URL:https://visitcadelta.com/event/creek-week-clean-day-2019/
LOCATION:Various Locations\, Delta
CATEGORIES:Family Friendly,Nature and Recreation
ATTACH;FMTTYPE=image/png:https://visitcadelta.com/wp-content/uploads/2017/04/creekweek.png
GEO:41.573663;-84.0052235
END:VEVENT
BEGIN:VEVENT
DTSTART;TZID=America/Los_Angeles:20190331T130000
DTEND;TZID=America/Los_Angeles:20190331T150000
DTSTAMP:20260422T174132
CREATED:20190325T194946Z
LAST-MODIFIED:20190325T195314Z
UID:6721-1554037200-1554044400@visitcadelta.com
SUMMARY:Introduction to Kayaking
DESCRIPTION:Get the paddles ready! Learn all the basics of kayaking such as different types of kayaks and their best uses. Get into the waters to learn how to handle equipment and grasp paddling techniques. By the end of this lesson\, you’ll be ready for the Delta waters! \n$54 per paddler \nFor ticket and details\, visit the event page.
URL:https://visitcadelta.com/event/introduction-to-kayaking/
LOCATION:CA
CATEGORIES:Nature and Recreation
ATTACH;FMTTYPE=image/jpeg:https://visitcadelta.com/wp-content/uploads/2019/03/7d7d1e64-318e-4a55-883c-091c710967cd-2.jpeg
END:VEVENT
BEGIN:VEVENT
DTSTART;TZID=America/Los_Angeles:20190307T190000
DTEND;TZID=America/Los_Angeles:20190307T203000
DTSTAMP:20260422T174132
CREATED:20190208T170240Z
LAST-MODIFIED:20190220T190454Z
UID:6523-1551985200-1551990600@visitcadelta.com
SUMMARY:The Yolo Bypass: A Key Link in the State's Water and Flood Picture
DESCRIPTION:Immediate-past Board Chair of Yolo Basin Foundation\, Pete Bontadelli will be discussing the existing biological opinion for salmon and current state and federal water projects. Looking at the past role of the Bypass and its importance to flood protection for the Central Valley. Join Bontadelli as he reviews the position of the Yolo Bypass past\, present\, and future. \nVisit the Yolo Basin Foundation for event details.
URL:https://visitcadelta.com/event/yolo-bypass-key-link-states-water-flood-picture/
LOCATION:Yolo Bypass Wildlife Area Headquarters\, 45211 Chiles Road\, Davis\, CA\, 95618\, United States
CATEGORIES:Nature and Recreation
ATTACH;FMTTYPE=image/png:https://visitcadelta.com/wp-content/uploads/2019/02/yolo-bypass-area.png
GEO:38.5560776;-121.6718838
X-APPLE-STRUCTURED-LOCATION;VALUE=URI;X-ADDRESS=Yolo Bypass Wildlife Area Headquarters 45211 Chiles Road Davis CA 95618 United States;X-APPLE-RADIUS=500;X-TITLE=45211 Chiles Road:geo:-121.6718838,38.5560776
END:VEVENT
BEGIN:VEVENT
DTSTART;TZID=America/Los_Angeles:20190306T080000
DTEND;TZID=America/Los_Angeles:20190306T163000
DTSTAMP:20260422T174132
CREATED:20190206T213928Z
LAST-MODIFIED:20190220T184824Z
UID:6517-1551859200-1551889800@visitcadelta.com
SUMMARY:California Boating Congress
DESCRIPTION:Join the marine industry and boating community in Sacramento to advocate on issues affecting this important part of our State’s economy and culture. There will be a number of speakers on topics including boating regulations\, abandoned vessels\, safe boating\, and fishing. \nVisit the event page for schedule and details.
URL:https://visitcadelta.com/event/california-boating-congress/
LOCATION:Embassy Suites Hilton\, 100 Capitol Mall\, Sacramento\, CA\, 95814
CATEGORIES:Nature and Recreation
ATTACH;FMTTYPE=image/jpeg:https://visitcadelta.com/wp-content/uploads/2019/02/nn-1.jpeg
END:VEVENT
BEGIN:VEVENT
DTSTART;TZID=America/Los_Angeles:20190302T060000
DTEND;TZID=America/Los_Angeles:20190302T123000
DTSTAMP:20260422T174132
CREATED:20190206T211814Z
LAST-MODIFIED:20190206T214638Z
UID:6504-1551506400-1551529800@visitcadelta.com
SUMMARY:The Bob McMillen Memorial Fishing Tournament
DESCRIPTION:Rise and shine so you can reel in that prize! The San Joaquin County Parks and Recreation and Delta Fly Fishers presents a fishing tournament for youth and adults. This a one type fishing competition. Registration for this tournament is free but make sure to obtain a fishing permit. A $6 vehicle-parking fee also applies. Don’t forget to bring your own fishing gear! \nVisit the event page for registration and permit details.
URL:https://visitcadelta.com/event/bob-mcmillen-memorial-fishing-tournament/
LOCATION:Regional Oak Park\, 4520 W Eight Mile Rd\, Stockton\, CA\, 95209
CATEGORIES:Family Friendly,Nature and Recreation
ATTACH;FMTTYPE=image/jpeg:https://visitcadelta.com/wp-content/uploads/2019/02/va-fishings.jpeg
END:VEVENT
BEGIN:VEVENT
DTSTART;VALUE=DATE:20190223
DTEND;VALUE=DATE:20190224
DTSTAMP:20260422T174132
CREATED:20181226T185026Z
LAST-MODIFIED:20181226T230712Z
UID:6292-1550880000-1550966399@visitcadelta.com
SUMMARY:California Duck Days
DESCRIPTION:This annual wetlands and wildlife festival takes place at the Yolo Bypass Wildlife Area which extends into the Delta and is at the heart of the Pacific Flyway. There are field trips\, workshops\, and activities for everyone from owling to avian photography\, duck calling to birdhouse building. \n\n\n\n\n\n\nAll workshops and activities are included in the entrance fee ($20/car). Field trips cost extra. See the website for more details\, the full schedule\, and to register early – you definitely do not want to miss this!
URL:https://visitcadelta.com/event/california-duck-days-2019/
LOCATION:Yolo Bypass Wildlife Area\, 45211 County Road 32B\, Davis\, CA\, 95618
CATEGORIES:Family Friendly,Nature and Recreation
ATTACH;FMTTYPE=image/jpeg:https://visitcadelta.com/wp-content/uploads/2018/02/duckdays.jpg
END:VEVENT
BEGIN:VEVENT
DTSTART;TZID=America/Los_Angeles:20190105T153000
DTEND;TZID=America/Los_Angeles:20190105T173000
DTSTAMP:20260422T174132
CREATED:20181226T183423Z
LAST-MODIFIED:20181226T230201Z
UID:6225-1546702200-1546709400@visitcadelta.com
SUMMARY:Sandhill Crane Tours
DESCRIPTION:Head out to the Woodbridge Ecological Reserve to see the majestic Sandhill Cranes as they spend their winter in the Delta. Guided tours are held the first three weekends of each month from October through February. The tours involved very little walking so bring your camp chair to enjoy the cranes and other waterfowl.  If you have binoculars\, go ahead and bring those along as well\, but they are not necessary! \nGet more information and register early for the Sandhill Crane Wetland Tours! \n 
URL:https://visitcadelta.com/event/sandhill-crane-tours-2019/2019-01-05/
LOCATION:Woodbridge Ecological Reserve\,  7730 W Woodbridge Rd.\, Lodi\, CA\, 95242
CATEGORIES:Family Friendly,Nature and Recreation
ATTACH;FMTTYPE=image/jpeg:https://visitcadelta.com/wp-content/uploads/2017/10/delta-sandhill-cranes.jpg
GEO:38.1623159;-121.41105
X-APPLE-STRUCTURED-LOCATION;VALUE=URI;X-ADDRESS=Woodbridge Ecological Reserve  7730 W Woodbridge Rd. Lodi CA 95242;X-APPLE-RADIUS=500;X-TITLE=7730 W Woodbridge Rd.:geo:-121.41105,38.1623159
END:VEVENT
END:VCALENDAR