BEGIN:VCALENDAR
VERSION:2.0
PRODID:-//Visit the California Delta - ECPv6.15.18//NONSGML v1.0//EN
CALSCALE:GREGORIAN
METHOD:PUBLISH
X-ORIGINAL-URL:https://visitcadelta.com
X-WR-CALDESC:Events for Visit the California Delta
REFRESH-INTERVAL;VALUE=DURATION:PT1H
X-Robots-Tag:noindex
X-PUBLISHED-TTL:PT1H
BEGIN:VTIMEZONE
TZID:America/Los_Angeles
BEGIN:DAYLIGHT
TZOFFSETFROM:-0800
TZOFFSETTO:-0700
TZNAME:PDT
DTSTART:20200308T100000
END:DAYLIGHT
BEGIN:STANDARD
TZOFFSETFROM:-0700
TZOFFSETTO:-0800
TZNAME:PST
DTSTART:20201101T090000
END:STANDARD
BEGIN:DAYLIGHT
TZOFFSETFROM:-0800
TZOFFSETTO:-0700
TZNAME:PDT
DTSTART:20210314T100000
END:DAYLIGHT
BEGIN:STANDARD
TZOFFSETFROM:-0700
TZOFFSETTO:-0800
TZNAME:PST
DTSTART:20211107T090000
END:STANDARD
BEGIN:DAYLIGHT
TZOFFSETFROM:-0800
TZOFFSETTO:-0700
TZNAME:PDT
DTSTART:20220313T100000
END:DAYLIGHT
BEGIN:STANDARD
TZOFFSETFROM:-0700
TZOFFSETTO:-0800
TZNAME:PST
DTSTART:20221106T090000
END:STANDARD
END:VTIMEZONE
BEGIN:VEVENT
DTSTART;TZID=America/Los_Angeles:20211218T140000
DTEND;TZID=America/Los_Angeles:20211218T180000
DTSTAMP:20260424T210118
CREATED:20211217T192643Z
LAST-MODIFIED:20211217T192643Z
UID:9823-1639836000-1639850400@visitcadelta.com
SUMMARY:Isleton Small Business Celebration
DESCRIPTION:40 Main St. Art Gallery is hosting this Saturday’s event. Restaurants\, drinking establishments\, vintage shops\, Isleton Museum\, and the Chamber of Commerce will be open. Local businesses will offer great gifts\, and there will be music and refreshments!
URL:https://visitcadelta.com/event/isleton-small-business-celebration/
LOCATION:Main Street Isleton\, Main Street\, Isleton\, CA\, 95641
CATEGORIES:Family Friendly,Holiday Celebrations,Small Business
GEO:38.1625943;-121.605733
X-APPLE-STRUCTURED-LOCATION;VALUE=URI;X-ADDRESS=Main Street Isleton Main Street Isleton CA 95641;X-APPLE-RADIUS=500;X-TITLE=Main Street:geo:-121.605733,38.1625943
END:VEVENT
END:VCALENDAR