BEGIN:VCALENDAR
VERSION:2.0
PRODID:-//Visit the California Delta - ECPv6.15.18//NONSGML v1.0//EN
CALSCALE:GREGORIAN
METHOD:PUBLISH
X-ORIGINAL-URL:https://visitcadelta.com
X-WR-CALDESC:Events for Visit the California Delta
REFRESH-INTERVAL;VALUE=DURATION:PT1H
X-Robots-Tag:noindex
X-PUBLISHED-TTL:PT1H
BEGIN:VTIMEZONE
TZID:America/Los_Angeles
BEGIN:DAYLIGHT
TZOFFSETFROM:-0800
TZOFFSETTO:-0700
TZNAME:PDT
DTSTART:20210314T100000
END:DAYLIGHT
BEGIN:STANDARD
TZOFFSETFROM:-0700
TZOFFSETTO:-0800
TZNAME:PST
DTSTART:20211107T090000
END:STANDARD
BEGIN:DAYLIGHT
TZOFFSETFROM:-0800
TZOFFSETTO:-0700
TZNAME:PDT
DTSTART:20220313T100000
END:DAYLIGHT
BEGIN:STANDARD
TZOFFSETFROM:-0700
TZOFFSETTO:-0800
TZNAME:PST
DTSTART:20221106T090000
END:STANDARD
BEGIN:DAYLIGHT
TZOFFSETFROM:-0800
TZOFFSETTO:-0700
TZNAME:PDT
DTSTART:20230312T100000
END:DAYLIGHT
BEGIN:STANDARD
TZOFFSETFROM:-0700
TZOFFSETTO:-0800
TZNAME:PST
DTSTART:20231105T090000
END:STANDARD
END:VTIMEZONE
BEGIN:VEVENT
DTSTART;TZID=America/Los_Angeles:20220305T130000
DTEND;TZID=America/Los_Angeles:20220305T170000
DTSTAMP:20260424T161554
CREATED:20220303T234917Z
LAST-MODIFIED:20220303T234917Z
UID:9991-1646485200-1646499600@visitcadelta.com
SUMMARY:Grand Opening of Quong Wo Sing Building
DESCRIPTION:Celebrate the restoration of the Isleton Chamber of Commerce Quong Wo Sing building. It’s been listed by the National Park Service as “Certified Rehabilitation” and the Isleton Chamber of Commerce office is now open to serve. 
URL:https://visitcadelta.com/event/grand-opening-of-quong-wo-sing-building/
LOCATION:Isleton Chamber Of Commerce Office\, 23 Main St\, Isleton\, CA\, 95641\, United States
CATEGORIES:Family Friendly,History and Heritage,Small Business
GEO:38.1626812;-121.6065368
X-APPLE-STRUCTURED-LOCATION;VALUE=URI;X-ADDRESS=Isleton Chamber Of Commerce Office 23 Main St Isleton CA 95641 United States;X-APPLE-RADIUS=500;X-TITLE=23 Main St:geo:-121.6065368,38.1626812
END:VEVENT
BEGIN:VEVENT
DTSTART;TZID=America/Los_Angeles:20220312T120000
DTEND;TZID=America/Los_Angeles:20220312T170000
DTSTAMP:20260424T161554
CREATED:20220303T235332Z
LAST-MODIFIED:20220303T235359Z
UID:9997-1647086400-1647104400@visitcadelta.com
SUMMARY:Old Sacramento St. Patrick's Parade
DESCRIPTION:Old Sacramento Waterfront is excited to welcome back the Annual St. Patrick’s Day Parade & Festival! Several vendors and the Beer Garden will be open for service. Enjoy the beautiful waterfront and charm of Old Sacramento.
URL:https://visitcadelta.com/event/old-sacramento-st-patricks-parade/
LOCATION:Old Sacramento\, 1st Street\, Sacramento\, 95814\, United States
CATEGORIES:Food and Drink,Holiday Celebrations,Music Art Culture,Small Business
GEO:38.5860779;-121.5081124
X-APPLE-STRUCTURED-LOCATION;VALUE=URI;X-ADDRESS=Old Sacramento 1st Street Sacramento 95814 United States;X-APPLE-RADIUS=500;X-TITLE=1st Street:geo:-121.5081124,38.5860779
END:VEVENT
END:VCALENDAR