BEGIN:VCALENDAR
VERSION:2.0
PRODID:-//Visit the California Delta - ECPv6.15.18//NONSGML v1.0//EN
CALSCALE:GREGORIAN
METHOD:PUBLISH
X-WR-CALNAME:Visit the California Delta
X-ORIGINAL-URL:https://visitcadelta.com
X-WR-CALDESC:Events for Visit the California Delta
REFRESH-INTERVAL;VALUE=DURATION:PT1H
X-Robots-Tag:noindex
X-PUBLISHED-TTL:PT1H
BEGIN:VTIMEZONE
TZID:America/Los_Angeles
BEGIN:DAYLIGHT
TZOFFSETFROM:-0800
TZOFFSETTO:-0700
TZNAME:PDT
DTSTART:20210314T100000
END:DAYLIGHT
BEGIN:STANDARD
TZOFFSETFROM:-0700
TZOFFSETTO:-0800
TZNAME:PST
DTSTART:20211107T090000
END:STANDARD
BEGIN:DAYLIGHT
TZOFFSETFROM:-0800
TZOFFSETTO:-0700
TZNAME:PDT
DTSTART:20220313T100000
END:DAYLIGHT
BEGIN:STANDARD
TZOFFSETFROM:-0700
TZOFFSETTO:-0800
TZNAME:PST
DTSTART:20221106T090000
END:STANDARD
BEGIN:DAYLIGHT
TZOFFSETFROM:-0800
TZOFFSETTO:-0700
TZNAME:PDT
DTSTART:20230312T100000
END:DAYLIGHT
BEGIN:STANDARD
TZOFFSETFROM:-0700
TZOFFSETTO:-0800
TZNAME:PST
DTSTART:20231105T090000
END:STANDARD
END:VTIMEZONE
BEGIN:VEVENT
DTSTART;TZID=America/Los_Angeles:20220522T100000
DTEND;TZID=America/Los_Angeles:20220522T140000
DTSTAMP:20260424T130117
CREATED:20220317T025056Z
LAST-MODIFIED:20220317T025056Z
UID:10019-1653213600-1653228000@visitcadelta.com
SUMMARY:Old Sugar Mill Wedding Open House
DESCRIPTION:Thinking of planning a wedding? Then check out the Old Sugar Mill’s Open House where you can meet the vendors\, tour the venue\, and see the latest trends in wedding & event design. Admission is free with advanced registration.
URL:https://visitcadelta.com/event/old-sugar-mill-wedding-open-house/
LOCATION:Old Sugar Mill\, 35265 Willow Ave\, Clarksburg\, CA\, 95612
CATEGORIES:Food and Drink,Small Business
GEO:38.422495;-121.5324569
X-APPLE-STRUCTURED-LOCATION;VALUE=URI;X-ADDRESS=Old Sugar Mill 35265 Willow Ave Clarksburg CA 95612;X-APPLE-RADIUS=500;X-TITLE=35265 Willow Ave:geo:-121.5324569,38.422495
END:VEVENT
END:VCALENDAR