BEGIN:VCALENDAR
VERSION:2.0
PRODID:-//Visit the California Delta - ECPv6.15.18//NONSGML v1.0//EN
CALSCALE:GREGORIAN
METHOD:PUBLISH
X-WR-CALNAME:Visit the California Delta
X-ORIGINAL-URL:https://visitcadelta.com
X-WR-CALDESC:Events for Visit the California Delta
REFRESH-INTERVAL;VALUE=DURATION:PT1H
X-Robots-Tag:noindex
X-PUBLISHED-TTL:PT1H
BEGIN:VTIMEZONE
TZID:America/Los_Angeles
BEGIN:DAYLIGHT
TZOFFSETFROM:-0800
TZOFFSETTO:-0700
TZNAME:PDT
DTSTART:20250309T100000
END:DAYLIGHT
BEGIN:STANDARD
TZOFFSETFROM:-0700
TZOFFSETTO:-0800
TZNAME:PST
DTSTART:20251102T090000
END:STANDARD
BEGIN:DAYLIGHT
TZOFFSETFROM:-0800
TZOFFSETTO:-0700
TZNAME:PDT
DTSTART:20260308T100000
END:DAYLIGHT
BEGIN:STANDARD
TZOFFSETFROM:-0700
TZOFFSETTO:-0800
TZNAME:PST
DTSTART:20261101T090000
END:STANDARD
BEGIN:DAYLIGHT
TZOFFSETFROM:-0800
TZOFFSETTO:-0700
TZNAME:PDT
DTSTART:20270314T100000
END:DAYLIGHT
BEGIN:STANDARD
TZOFFSETFROM:-0700
TZOFFSETTO:-0800
TZNAME:PST
DTSTART:20271107T090000
END:STANDARD
END:VTIMEZONE
BEGIN:VEVENT
DTSTART;TZID=America/Los_Angeles:20260416T183000
DTEND;TZID=America/Los_Angeles:20260416T200000
DTSTAMP:20260421T144459
CREATED:20260325T190515Z
LAST-MODIFIED:20260325T190515Z
UID:11526-1776364200-1776369600@visitcadelta.com
SUMMARY:Sip and Stroll in Oakley
DESCRIPTION:Join Big Break for a monthly social hour featuring themed mocktails\, hors d’oeuvres\, an art activity\, and an evening stroll in the park. This drop-in program is held every third Thursday of the month and meets at the Visitor Center. \nThe event is free and open to adults ages 18 and older.
URL:https://visitcadelta.com/event/sip-and-stroll-in-oakley/
LOCATION:Big Break Regional Shoreline\, 69 Big Break Rd\, Oakley\, CA\, 94561
END:VEVENT
BEGIN:VEVENT
DTSTART;TZID=America/Los_Angeles:20260418T090000
DTEND;TZID=America/Los_Angeles:20260418T090000
DTSTAMP:20260421T144459
CREATED:20260410T224850Z
LAST-MODIFIED:20260410T224937Z
UID:11600-1776502800-1776502800@visitcadelta.com
SUMMARY:History Hike and History Tour in Locke
DESCRIPTION:Enjoy Delta Meadows’ video about one piece of Locke history: the gong shown here! (Link goes to Facebook post.) \nEnjoy at 2.5 mile hike through the Delta Meadows Park Property along its Railroad Trail and hear about  the people and institutions that have shaped area history\, including Chinese immigrants from Zhongshan\, the Southern Pacific Railroad\, the rancher and millionaire George Locke\, early settlers and trappers from the Hudson Bay Company\, and the Junizumne tribelet of the Sierra Miwok\, who inhabited the area originally for thousands of years and whose ancestor continue to live in the surrounding communities. Meet at 9 a.m. at the Delta Meadows parking lot\, 13971 River Rd\, Walnut Grove. \nAt noon\, meet at the porch of the Locke Boarding House Museum (13916 Main St.\, Walnut Grove) for a Locke History Tour.
URL:https://visitcadelta.com/event/history-hike-and-history-tour-in-locke/
LOCATION:Delta Meadows Park Property\, 13971 River Rd\, Walnut Grove\, CA\, 95690\, United States
END:VEVENT
BEGIN:VEVENT
DTSTART;TZID=America/Los_Angeles:20260418T090000
DTEND;TZID=America/Los_Angeles:20260418T130000
DTSTAMP:20260421T144459
CREATED:20260320T231007Z
LAST-MODIFIED:20260320T233442Z
UID:11518-1776502800-1776517200@visitcadelta.com
SUMMARY:Keep Antioch Beautiful - Cleanup
DESCRIPTION:Join volunteer cleanup efforts in Antioch honoring Earth Day and Arbor Day\, with options at the Antioch Skate Park or Nick Rodriguez Center. Check in at 9 a.m.\, cleanup 9:30-11:30 a.m.\, free lunch for volunteers noon-1 p.m.. Learn more.
URL:https://visitcadelta.com/event/keep-antioch-beautiful-cleanup/
LOCATION:Waldie Plaza\, Waldie Plaza\, Antioch\, CA\, 94509
GEO:38.0169122;-121.8151
X-APPLE-STRUCTURED-LOCATION;VALUE=URI;X-ADDRESS=Waldie Plaza Waldie Plaza Antioch CA 94509;X-APPLE-RADIUS=500;X-TITLE=Waldie Plaza:geo:-121.8151,38.0169122
END:VEVENT
BEGIN:VEVENT
DTSTART;TZID=America/Los_Angeles:20260418T103000
DTEND;TZID=America/Los_Angeles:20260418T120000
DTSTAMP:20260421T144459
CREATED:20260322T150058Z
LAST-MODIFIED:20260113T184133Z
UID:11121-1776508200-1776513600@visitcadelta.com
SUMMARY:Contra Costa County Historical Society Book Club in Martinez
DESCRIPTION:Join the Contra Costa County Historical Society Book Club for its fourth meeting\, featuring a discussion of “Ghosts of Black Diamond Mines.” A field trip will also take place to visit Rose Hill Cemetery.
URL:https://visitcadelta.com/event/contra-costa-county-historical-society-book-club-in-martinez-4/
LOCATION:Contra Costa County Historical Society\, 724 Escobar St\, Martinez\, CA\, 94553\, United States
END:VEVENT
BEGIN:VEVENT
DTSTART;TZID=America/Los_Angeles:20260418T173000
DTEND;TZID=America/Los_Angeles:20260418T173000
DTSTAMP:20260421T144459
CREATED:20260317T182532Z
LAST-MODIFIED:20260317T182532Z
UID:11511-1776533400-1776533400@visitcadelta.com
SUMMARY:Crab Feed 2026 in Martinez
DESCRIPTION:Join the Martinez Historical Society for its annual crab feed fundraiser featuring Dungeness crab\, an Italian-style dinner\, live auction\, raffle\, and entertainment. Proceeds support the organization’s mission of preserving local history. \nDoors open at 5:30 p.m. with dinner served at 7:00 p.m.\, followed by a program.
URL:https://visitcadelta.com/event/crab-feed-2026-in-martinez/
LOCATION:Martinez Refinery Clubhouse\, 1635 Pacheco Blvd\, Martinez\, CA\, 94553\, United States
END:VEVENT
BEGIN:VEVENT
DTSTART;TZID=America/Los_Angeles:20260419T090000
DTEND;TZID=America/Los_Angeles:20260419T120000
DTSTAMP:20260421T144459
CREATED:20260316T190138Z
LAST-MODIFIED:20251201T215847Z
UID:10787-1776589200-1776600000@visitcadelta.com
SUMMARY:Tour of the Yolo Bypass Wildlife Area
DESCRIPTION:The Yolo Bypass Wildlife Area tours are hosted on the third Sunday of the month from October through June. Learn about migratory bird species\, flood management techniques\, agricultural practices\, native plants of the wetlands and more! Please dress in layers as weather can be unpredictable. Registration required; more information here.
URL:https://visitcadelta.com/event/ybwa-tour-april-2026/
LOCATION:Yolo Bypass Wildlife Area Headquarters\, 45211 Chiles Road\, Davis\, CA\, 95618\, United States
GEO:38.5560776;-121.6718838
X-APPLE-STRUCTURED-LOCATION;VALUE=URI;X-ADDRESS=Yolo Bypass Wildlife Area Headquarters 45211 Chiles Road Davis CA 95618 United States;X-APPLE-RADIUS=500;X-TITLE=45211 Chiles Road:geo:-121.6718838,38.5560776
END:VEVENT
BEGIN:VEVENT
DTSTART;TZID=America/Los_Angeles:20260419T140000
DTEND;TZID=America/Los_Angeles:20260419T140000
DTSTAMP:20260421T144459
CREATED:20260325T185933Z
LAST-MODIFIED:20260325T185933Z
UID:11537-1776607200-1776607200@visitcadelta.com
SUMMARY:Talk Story Films: Journey in Multiple Worlds in Stockton
DESCRIPTION:Attend a screening of two short Talk-Story films at the Filipino American National Historical Society Museum in Stockton\, highlighting the lives of Manong Albert Juanitas and Manang Irene Estante Revillar. \nThis event is free and includes light refreshments.
URL:https://visitcadelta.com/event/talk-story-films-journey-in-multiple-worlds-in-stockton/
LOCATION:Filipino American National Historical Society Museum\, 337 E Weber Ave\, Stockton\, CA\, 95202\, United States
END:VEVENT
BEGIN:VEVENT
DTSTART;TZID=America/Los_Angeles:20260425T090000
DTEND;TZID=America/Los_Angeles:20260425T160000
DTSTAMP:20260421T144459
CREATED:20251216T001208Z
LAST-MODIFIED:20260205T020229Z
UID:10864-1777107600-1777132800@visitcadelta.com
SUMMARY:California Duck Days in Davis
DESCRIPTION:California Duck Days is a family-friendly outdoor festival featuring wetland-themed arts and crafts\, live animals\, nature activities\, and interactive exhibits for all ages. Food trucks will be on-site\, and attendees are encouraged to bring a water bottle. No dogs allowed. Parking is available in the CA Department of Fish and Wildlife back lot.
URL:https://visitcadelta.com/event/california-duck-days-2026/
LOCATION:Yolo Basin Foundation\, 45211 County Road 32B\, Davis\, CA\, 95618\, United States
END:VEVENT
BEGIN:VEVENT
DTSTART;TZID=America/Los_Angeles:20260425T100000
DTEND;TZID=America/Los_Angeles:20260425T100000
DTSTAMP:20260421T144459
CREATED:20260416T003508Z
LAST-MODIFIED:20260416T003508Z
UID:11613-1777111200-1777111200@visitcadelta.com
SUMMARY:Rio Vista Community Garden Grand Opening
DESCRIPTION:Help build a space rooted in connection\, creativity\, and sustainability at the Rio Vista Community Garden Grand Opening. Paint garden beds\, plants seeds\, do chalk art at this youth gardening event at the community garden\, located at South 3rd Street and St. Gertrude’s Avenue.
URL:https://visitcadelta.com/event/rio-vista-community-garden-grand-opening/
LOCATION:Rio Vista Roots Community Garden\, 350 S. 3rd St\, Rio Vista\, CA\, United States
END:VEVENT
BEGIN:VEVENT
DTSTART;TZID=America/Los_Angeles:20260426T140000
DTEND;TZID=America/Los_Angeles:20260426T160000
DTSTAMP:20260421T144459
CREATED:20260316T200434Z
LAST-MODIFIED:20260316T200519Z
UID:11483-1777212000-1777219200@visitcadelta.com
SUMMARY:Sunday at the Museum: History Talk in Crockett
DESCRIPTION:Descendants of George Morrison Rolph\, the first plant manager of the California and Hawaiian Sugar Refining (C&H) company\, will share stories about his life in early Crockett. The free program will take place at the Crockett Museum.
URL:https://visitcadelta.com/event/sunday-at-the-museum-history-talk-in-crockett/
LOCATION:Crockett Museum\, 900 Loring Ave\, Crockett\, CA\, 94525\, United States
END:VEVENT
BEGIN:VEVENT
DTSTART;TZID=America/Los_Angeles:20260429T170000
DTEND;TZID=America/Los_Angeles:20260429T170000
DTSTAMP:20260421T144459
CREATED:20260410T230448Z
LAST-MODIFIED:20260410T235149Z
UID:11608-1777482000-1777482000@visitcadelta.com
SUMMARY:Spring Fashion Show in Antioch
DESCRIPTION:Fourth Annual Spring Fashion Show includes over 40 outfits\, silent auction and raffle. Tickets are $10. Visit Rivertown Treasure Chest\, contact Debbie Blaisure at (510) 909-4618\, or email rivertowntreasurechest@gmail.com to make a reservation or for donate items for silent auction/raffle. All proceeds benefit the Downtown Antioch Association to support events that support local businesses. \nMore information.
URL:https://visitcadelta.com/event/spring-fashion-show-in-antioch/
LOCATION:La Plazuela Mexican Restaurant & Bar\, 400 G St.\, Antioch\, CA\, United States
END:VEVENT
BEGIN:VEVENT
DTSTART;TZID=America/Los_Angeles:20260501T160000
DTEND;TZID=America/Los_Angeles:20260501T190000
DTSTAMP:20260421T144459
CREATED:20260410T225658Z
LAST-MODIFIED:20260410T230008Z
UID:11605-1777651200-1777662000@visitcadelta.com
SUMMARY:Uno de Mayo in Rio Vista
DESCRIPTION:Enjoy live mariachi\, dance performances\, churros and food\, and drink specials at Rio Vista Downtown Association’s Uno de Mayo\, from 2nd Street to the River.
URL:https://visitcadelta.com/event/uno-de-mayo-in-rio-vista/
LOCATION:Rio Vista\, 116 Main Street\, Rio Vista\, CA\, 94571\, United States
GEO:38.15624;-121.6914991
X-APPLE-STRUCTURED-LOCATION;VALUE=URI;X-ADDRESS=Rio Vista 116 Main Street Rio Vista CA 94571 United States;X-APPLE-RADIUS=500;X-TITLE=116 Main Street:geo:-121.6914991,38.15624
END:VEVENT
BEGIN:VEVENT
DTSTART;TZID=America/Los_Angeles:20260502T100000
DTEND;TZID=America/Los_Angeles:20260502T170000
DTSTAMP:20260421T144459
CREATED:20260420T215459Z
LAST-MODIFIED:20260420T221109Z
UID:11618-1777716000-1777741200@visitcadelta.com
SUMMARY:Riverfront Arts Fest in Rio Vista
DESCRIPTION:People’s Choice Art Show\, Youth Art Showcase\, Artist Booth\, Live Music\, Beer & Wine Pavilion\, Fine Art and Craft Vendors\, Youth Art Activities\, Art on Wheels and Waves\, Walking Art\, Gourmet Food Trucks. For information\, call 707-646-1710 or visit this website.
URL:https://visitcadelta.com/event/riverfront-arts-fest-in-rio-vista/
LOCATION:Downtown Rio Vista\, Rio Vista\, CA\, United States
END:VEVENT
BEGIN:VEVENT
DTSTART;TZID=America/Los_Angeles:20260502T120000
DTEND;TZID=America/Los_Angeles:20260502T130000
DTSTAMP:20260421T144459
CREATED:20260327T214227Z
LAST-MODIFIED:20260327T214227Z
UID:11557-1777723200-1777726800@visitcadelta.com
SUMMARY:Learn How to Make Fermented Pickles in Benicia
DESCRIPTION:Learn to make traditional fermented pickles starting with fresh cucumbers and salt\, and leave with the jar of pickles you make! \nMore information here.
URL:https://visitcadelta.com/event/learn-how-to-make-fermented-pickles-in-benicia/
LOCATION:New Harbor Community Church\, 4858 E 2nd St\, Benicia\, CA\, 94510\, United States
END:VEVENT
BEGIN:VEVENT
DTSTART;TZID=America/Los_Angeles:20260509T110000
DTEND;TZID=America/Los_Angeles:20260509T160000
DTSTAMP:20260421T144459
CREATED:20260323T225724Z
LAST-MODIFIED:20260330T215528Z
UID:11522-1778324400-1778342400@visitcadelta.com
SUMMARY:Asian Pacific Spring Festival in Locke
DESCRIPTION:Join the Locke Foundation for its Asian Pacific Spring Festival in Locke. Enjoy lion dances\, martial arts\, taiko drumming\, music\, arts and crafts\, and food. \nAdmission and parking are free.
URL:https://visitcadelta.com/event/asian-pacific-spring-festival-in-locke/
LOCATION:Historic Locke\, 13916 Main St\, Walnut Grove\, CA\, 95690\, United States
ORGANIZER;CN="Locke Foundation":MAILTO:lockefoundation1915@gmail.com
END:VEVENT
BEGIN:VEVENT
DTSTART;TZID=America/Los_Angeles:20260509T110000
DTEND;TZID=America/Los_Angeles:20260509T180000
DTSTAMP:20260421T144459
CREATED:20260406T185955Z
LAST-MODIFIED:20260406T194214Z
UID:11595-1778324400-1778349600@visitcadelta.com
SUMMARY:Jazz and Blues Festival in Antioch
DESCRIPTION:Music (Deer Valley Jazz Band\, Charged Particles\, Frankie G and the Conviction\, Stratify\, MJ’s Brass Boppers)\, artisan vendors\, food trucks\, and beer and wine. Williamson Ranch Park is located at Lone Tree Way and Hillcrest Avenue. More information.
URL:https://visitcadelta.com/event/jazz-and-blues-festival-in-antioch/
LOCATION:Antioch Williamson Ranch Park\, Antioch\, CA\, 94531\, United States
END:VEVENT
BEGIN:VEVENT
DTSTART;TZID=America/Los_Angeles:20260516T103000
DTEND;TZID=America/Los_Angeles:20260516T120000
DTSTAMP:20260421T144459
CREATED:20260419T150048Z
LAST-MODIFIED:20260113T184428Z
UID:11123-1778927400-1778932800@visitcadelta.com
SUMMARY:Contra Costa County Historical Society Book Club in Martinez
DESCRIPTION:Join the Contra Costa County Historical Society Book Club for its fifth meeting\, featuring a discussion of Beneath Tangled Vines by Dan Hanel. A field trip will also take place to visit Point Molate/Winehaven.
URL:https://visitcadelta.com/event/contra-costa-county-historical-society-book-club-in-martinez-5/
LOCATION:Contra Costa County Historical Society\, 724 Escobar St\, Martinez\, CA\, 94553\, United States
END:VEVENT
BEGIN:VEVENT
DTSTART;TZID=America/Los_Angeles:20260521T183000
DTEND;TZID=America/Los_Angeles:20260521T200000
DTSTAMP:20260421T144459
CREATED:20260325T190700Z
LAST-MODIFIED:20260325T190700Z
UID:11544-1779388200-1779393600@visitcadelta.com
SUMMARY:Sip and Stroll in Oakley
DESCRIPTION:Join Big Break for a monthly social hour featuring themed mocktails\, hors d’oeuvres\, an art activity\, and an evening stroll in the park. This drop-in program is held every third Thursday of the month and meets at the Visitor Center. \nThe event is free and open to adults ages 18 and older.
URL:https://visitcadelta.com/event/sip-and-stroll-in-oakley-2/
LOCATION:Big Break Regional Shoreline\, 69 Big Break Rd\, Oakley\, CA\, 94561
END:VEVENT
BEGIN:VEVENT
DTSTART;VALUE=DATE:20260529
DTEND;VALUE=DATE:20260531
DTSTAMP:20260421T144459
CREATED:20260316T224200Z
LAST-MODIFIED:20260316T224200Z
UID:11488-1780012800-1780185599@visitcadelta.com
SUMMARY:Sunset Bat Flyout Paddle in Galt
DESCRIPTION:Join Wild Spirit Recreation for an evening paddle at the Cosumnes River Preserve to watch bats emerge at sunset. Guided by experienced California Naturalists\, the trip offers an opportunity to connect with nature and experience the landscape from the water. \nA limited number of boats are available\, and participants may bring their own watercraft. The event takes place on multiple dates from May through September.
URL:https://visitcadelta.com/event/sunset-bat-flyout-paddle-in-galt/
LOCATION:Cosumnes River Preserve\, 13501 Franklin Blvd\, Galt\, CA\, 95632\, United States
GEO:38.2657046;-121.4393238
X-APPLE-STRUCTURED-LOCATION;VALUE=URI;X-ADDRESS=Cosumnes River Preserve 13501 Franklin Blvd Galt CA 95632 United States;X-APPLE-RADIUS=500;X-TITLE=13501 Franklin Blvd:geo:-121.4393238,38.2657046
END:VEVENT
BEGIN:VEVENT
DTSTART;TZID=America/Los_Angeles:20260613T100000
DTEND;TZID=America/Los_Angeles:20260613T150000
DTSTAMP:20260421T144459
CREATED:20260330T191658Z
LAST-MODIFIED:20260330T191658Z
UID:11568-1781344800-1781362800@visitcadelta.com
SUMMARY:Martinez Beaver Festival in Martinez
DESCRIPTION:Celebrate the 17th annual Martinez Beaver Festival at Susana Park! Enjoy live music ranging from Irish folk to big band\, interactive exhibits including a giant mobile fish tank\, rare birds\, bees\, and bats\, and family-friendly activities. Children can earn a “Beaver Pond Totem” by learning about how beavers help water systems and painting their own tail. Adults can explore wildlife booths and learn about urban wildlife and beavers in the area. \nThe festival also features a silent auction with unique treasures and family adventures\, and chalk artist Amy Gallaher Hall will be creating a beaver mural.
URL:https://visitcadelta.com/event/martinez-beaver-festival-in-martinez/
LOCATION:Susana Park\, Susana St & Estudillo St\, Martinez\, CA\, 94553\, United States
END:VEVENT
BEGIN:VEVENT
DTSTART;TZID=America/Los_Angeles:20260618T183000
DTEND;TZID=America/Los_Angeles:20260618T200000
DTSTAMP:20260421T144459
CREATED:20260325T190914Z
LAST-MODIFIED:20260325T190914Z
UID:11546-1781807400-1781812800@visitcadelta.com
SUMMARY:Sip and Stroll in Oakley
DESCRIPTION:Join Big Break for a monthly social hour featuring themed mocktails\, hors d’oeuvres\, an art activity\, and an evening stroll in the park. This drop-in program is held every third Thursday of the month and meets at the Visitor Center. \nThe event is free and open to adults ages 18 and older.
URL:https://visitcadelta.com/event/sip-and-stroll-in-oakley-3/
LOCATION:Big Break Regional Shoreline\, 69 Big Break Rd\, Oakley\, CA\, 94561
END:VEVENT
END:VCALENDAR