BEGIN:VCALENDAR
VERSION:2.0
PRODID:-//Visit the California Delta - ECPv6.15.18//NONSGML v1.0//EN
CALSCALE:GREGORIAN
METHOD:PUBLISH
X-WR-CALNAME:Visit the California Delta
X-ORIGINAL-URL:https://visitcadelta.com
X-WR-CALDESC:Events for Visit the California Delta
REFRESH-INTERVAL;VALUE=DURATION:PT1H
X-Robots-Tag:noindex
X-PUBLISHED-TTL:PT1H
BEGIN:VTIMEZONE
TZID:America/Los_Angeles
BEGIN:DAYLIGHT
TZOFFSETFROM:-0800
TZOFFSETTO:-0700
TZNAME:PDT
DTSTART:20240310T100000
END:DAYLIGHT
BEGIN:STANDARD
TZOFFSETFROM:-0700
TZOFFSETTO:-0800
TZNAME:PST
DTSTART:20241103T090000
END:STANDARD
BEGIN:DAYLIGHT
TZOFFSETFROM:-0800
TZOFFSETTO:-0700
TZNAME:PDT
DTSTART:20250309T100000
END:DAYLIGHT
BEGIN:STANDARD
TZOFFSETFROM:-0700
TZOFFSETTO:-0800
TZNAME:PST
DTSTART:20251102T090000
END:STANDARD
BEGIN:DAYLIGHT
TZOFFSETFROM:-0800
TZOFFSETTO:-0700
TZNAME:PDT
DTSTART:20260308T100000
END:DAYLIGHT
BEGIN:STANDARD
TZOFFSETFROM:-0700
TZOFFSETTO:-0800
TZNAME:PST
DTSTART:20261101T090000
END:STANDARD
BEGIN:DAYLIGHT
TZOFFSETFROM:-0800
TZOFFSETTO:-0700
TZNAME:PDT
DTSTART:20270314T100000
END:DAYLIGHT
BEGIN:STANDARD
TZOFFSETFROM:-0700
TZOFFSETTO:-0800
TZNAME:PST
DTSTART:20271107T090000
END:STANDARD
END:VTIMEZONE
BEGIN:VEVENT
DTSTART;TZID=America/Los_Angeles:20260214T120000
DTEND;TZID=America/Los_Angeles:20260214T160000
DTSTAMP:20260421T181746
CREATED:20251229T194458Z
LAST-MODIFIED:20260210T184839Z
UID:10925-1771070400-1771084800@visitcadelta.com
SUMMARY:Locke Chinese New Year Celebration in Walnut Grove
DESCRIPTION:Click on image to see at full size \nCome visit the only surviving rural Chinese town in the U.S.! Experience lion dance and martial arts\, Chinese music\, arts and crafts\, face painting\, guest lectures\, and a screening of the Voices: Chinese Women of the Delta documentary. \nThe event also features a lecture\, Stories of My Owyang Family in the Delta\, presented by Sharon Wong Fong\, and an accompanying exhibition at the Locke Boarding House Museum exploring the Owyang family history through photographs\, documents\, and artifacts. \nSuitable for families and children. Admission and parking are free.
URL:https://visitcadelta.com/event/locke-chinese-new-year-celebration-in-walnut-grove/
LOCATION:Historic Locke\, 13916 Main St\, Walnut Grove\, CA\, 95690\, United States
ORGANIZER;CN="Locke Foundation":MAILTO:lockefoundation1915@gmail.com
END:VEVENT
BEGIN:VEVENT
DTSTART;TZID=America/Los_Angeles:20260214T090000
DTEND;TZID=America/Los_Angeles:20260214T090000
DTSTAMP:20260421T181746
CREATED:20260205T223228Z
LAST-MODIFIED:20260205T223228Z
UID:11357-1771059600-1771059600@visitcadelta.com
SUMMARY:Delta Meadows Bird Walk in Walnut Grove
DESCRIPTION:Join a State Parks interpreter for the Delta Meadows Birdwalk\, exploring California Delta wetlands and the birds that inhabit them. The guided walk travels through oak woodlands and marshes while highlighting the importance of these endangered habitats for birds and other wildlife. \nThe walk meets at the Delta Meadows parking lot and covers approximately 1 mile over about 1 hour and 45 minutes. Participants should wear comfortable shoes\, dress for the weather\, and bring water. Binoculars are optional. Admission and participation are free and open to all ages and skill levels.
URL:https://visitcadelta.com/event/delta-meadows-bird-walk-in-walnut-grove/
LOCATION:Delta Meadows River Park\, Delta Meadows River Park\, Walnut Grove\, CA\, 95690\, United States
END:VEVENT
BEGIN:VEVENT
DTSTART;TZID=America/Los_Angeles:20260213T173000
DTEND;TZID=America/Los_Angeles:20260213T190000
DTSTAMP:20260421T181746
CREATED:20260127T003905Z
LAST-MODIFIED:20260130T191740Z
UID:11208-1771003800-1771009200@visitcadelta.com
SUMMARY:SOLD OUT - 2026 CSBA Isleton Chapter Crab feed in Rio Vista
DESCRIPTION:Join the California Striped Bass Association in Rio Vista for an all-you-can-eat crab feed featuring marinated and plain crab\, salad\, and garlic bread\, plus a raffle and silent auction. Tickets are available for purchase online through the CSBA website.
URL:https://visitcadelta.com/event/2026-csba-isleton-chapter-crab-feed-in-rio-vista/
LOCATION:St. Joseph Catholic Church\, 220 S 4th street\, Rio Vista\, CA\, 94571\, United States
END:VEVENT
BEGIN:VEVENT
DTSTART;TZID=America/Los_Angeles:20260212T180000
DTEND;TZID=America/Los_Angeles:20260212T200000
DTSTAMP:20260421T181746
CREATED:20260122T190802Z
LAST-MODIFIED:20260205T014639Z
UID:11172-1770919200-1770926400@visitcadelta.com
SUMMARY:Art Reception: Black History Month Art Show in West Sacramento
DESCRIPTION:Visit Gallery 1075’s annual Black History Month art show at the West Sacramento Community Center. This free event offers an opportunity to experience and support local artists. All ages are welcome\, and light refreshments will be provided. \nLimited street parking is available along West Capitol Avenue. Guests may also use the City Hall and Community Center parking lots. The exhibition will be on display through Feb. 27. \n 
URL:https://visitcadelta.com/event/art-reception-black-history-month-art-show-in-west-sacramento/
LOCATION:Gallery 1075\, 1075 W Capitol Ave\, West Sacramento\, CA\, 95691\, United States
END:VEVENT
BEGIN:VEVENT
DTSTART;TZID=America/Los_Angeles:20260207T120000
DTEND;TZID=America/Los_Angeles:20260207T120000
DTSTAMP:20260421T181746
CREATED:20260205T222730Z
LAST-MODIFIED:20260217T183650Z
UID:11353-1770465600-1770465600@visitcadelta.com
SUMMARY:Biodiversity Hike in Walnut Grove
DESCRIPTION:Join a State Parks interpreter for the Delta Meadows Biodiversity Hike\, exploring native and invasive species\, the importance of biodiversity\, and how the site’s history has shaped local plant and animal life. The hike begins at the Delta Meadows parking lot and covers approximately 1 mile over about 1.5 hours. \nParticipants should wear comfortable shoes\, dress for the weather\, and bring water and a snack. There are no public restrooms on site. Admission and participation are free.
URL:https://visitcadelta.com/event/biodiversity-hike-in-walnut-grove-1/
LOCATION:Delta Meadows River Park\, Delta Meadows River Park\, Walnut Grove\, CA\, 95690\, United States
END:VEVENT
BEGIN:VEVENT
DTSTART;TZID=America/Los_Angeles:20260207T090000
DTEND;TZID=America/Los_Angeles:20260207T150000
DTSTAMP:20260421T181746
CREATED:20260115T223927Z
LAST-MODIFIED:20260115T223927Z
UID:11149-1770454800-1770476400@visitcadelta.com
SUMMARY:19th annual Galt Winter Bird Festival in Galt
DESCRIPTION:Join the City of Galt for its annual Winter Bird Festival to celebrate winter wildlife. This is a free\, family-friendly event featuring bird-watching walks\, crafts\, and live animal presentations\, where you can observe birds and other wildlife. Discover facts about winter bird species\, participate in hands-on activities\, and explore local vendors during the festival.
URL:https://visitcadelta.com/event/19th-annual-galt-winter-bird-festival-in-galt/
LOCATION:Robert L McCaffrey Middle School\, 997 Park Terrace Dr\, Galt\, CA\, 95632\, United States
END:VEVENT
BEGIN:VEVENT
DTSTART;TZID=America/Los_Angeles:20260205T190000
DTEND;TZID=America/Los_Angeles:20260205T210000
DTSTAMP:20260421T181746
CREATED:20260204T191030Z
LAST-MODIFIED:20260205T014356Z
UID:11342-1770318000-1770325200@visitcadelta.com
SUMMARY:Flyway Nights Speaker Series: The California Department of Fish and Wildlife Beaver Restoration Program (via Zoom)
DESCRIPTION:Molly Alves and members of the California Department of Fish and Wildlife Beaver Restoration Program team will present an overview of the Beaver Restoration Program\, including its origins\, goals\, and progress to date. The presentation will cover beaver translocation\, conflict management\, site selection\, statewide planning efforts\, and opportunities for public involvement. \nSpeakers include Molly Alves\, Beaver Restoration Program Supervisor\, along with Kyle Pagel\, Tanner Harris\, and Lee Margadant from the Beaver Restoration Program. \nThis virtual event will be held via Zoom and is part of Flyway Nights\, a monthly speaker series highlighting environmental issues\, conservation research\, and the natural history of Northern California. Registration is required to attend.
URL:https://visitcadelta.com/event/flyway-nights-speaker-series-the-california-department-of-fish-and-wildlife-beaver-restoration-program/
LOCATION:Zoom Presentation
END:VEVENT
BEGIN:VEVENT
DTSTART;TZID=America/Los_Angeles:20260130T180000
DTEND;TZID=America/Los_Angeles:20260130T203000
DTSTAMP:20260421T181746
CREATED:20251201T214129Z
LAST-MODIFIED:20251217T165100Z
UID:10767-1769796000-1769805000@visitcadelta.com
SUMMARY:Movie Night in Stockton: 'River's End'
DESCRIPTION:Join the DELTA CHAMBERS as it presents “River’s End\,” a captivating documentary shedding light on California’s Latest Water War. This in-person event will take place at Delta Marine Sales Showroom. Discover the complexities of water management in California and the challenges faced in ensuring sustainable water resources. Information here.
URL:https://visitcadelta.com/event/movie-night-rivers-end/
LOCATION:Delta Marine Sales\, 1300 W Fremont St\, Stockton\, CA\, 95203\, United States
END:VEVENT
BEGIN:VEVENT
DTSTART;TZID=America/Los_Angeles:20260127T183000
DTEND;TZID=America/Los_Angeles:20260127T183000
DTSTAMP:20260421T181746
CREATED:20251230T191937Z
LAST-MODIFIED:20251231T171049Z
UID:10947-1769538600-1769538600@visitcadelta.com
SUMMARY:'Lost Sacramentos: Railroads of a Missing Metropolis' in Sacramento
DESCRIPTION:The Sacramento Historical Society welcomes local historian Andrew McLeod for a talk on the lost world of railroads in Sacramento. The lecture explores how early rail networks shaped the region’s communities and industry and highlights a new online exhibit for the California State Railroad Museum. \nMcLeod is a coauthor of the Sacramento Public Library’s book Lost Gold Rush Towns of Sacramento\, a former Confluence Tours guide\, and a past board member of the Society.
URL:https://visitcadelta.com/event/lost-sacramentos-railroads-of-a-missing-metropolis-in-sacramento/
LOCATION:Columbus Hall\, 5961 Newman Ct\, Sacramento\, CA\, 95819\, United States
END:VEVENT
BEGIN:VEVENT
DTSTART;TZID=America/Los_Angeles:20260124T170000
DTEND;TZID=America/Los_Angeles:20260124T220000
DTSTAMP:20260421T181746
CREATED:20260122T214648Z
LAST-MODIFIED:20260122T214823Z
UID:11187-1769274000-1769292000@visitcadelta.com
SUMMARY:Downtown Brentwood Crab Feed in Brentwood
DESCRIPTION:The Downtown Brentwood Coalition is hosting its 2nd Annual Crab Feed in Downtown Brentwood. The feast menu includes cold\, easy-peel shrimp\, unlimited crab\, Caesar salad\, pasta\, and more. Two drinks are included with admission. In addition to food and drinks\, guests can enjoy raffles\, prizes\, music\, and photo booths. This is a 21+ event. \nThis event is a fundraiser to support continued efforts to enhance economic growth.
URL:https://visitcadelta.com/event/downtown-brentwood-crab-feed-in-brentwood/
LOCATION:Downtown Brentwood\, 35 Oak St\, Brentwood\, CA\, 94513\, United States
END:VEVENT
BEGIN:VEVENT
DTSTART;TZID=America/Los_Angeles:20260124T113000
DTEND;TZID=America/Los_Angeles:20260124T143000
DTSTAMP:20260421T181746
CREATED:20251222T184623Z
LAST-MODIFIED:20251222T184623Z
UID:10906-1769254200-1769265000@visitcadelta.com
SUMMARY:Contra Costa County Historical Society Annual Membership Meeting and Luncheon in Concord
DESCRIPTION:Join the Contra Costa County Historical Society to commemorate the 250th anniversary of the Juan Bautista de Anza Expedition and the 75th anniversary of CCCHS. \nPresentations by CCCHS staff\, along with board member and historian Beverly Lane\, will highlight Anza’s journey through present-day Contra Costa County and the founding of CCCHS. Lunch and beverages will be served\, with raffle drawings and book sales. \nParking is limited behind the Concord Museum and Event Center\, and Galindo House.
URL:https://visitcadelta.com/event/contra-costa-county-historical-society-annual-membership-meeting-and-luncheon-in-concord/
LOCATION:Concord Museum and Event Center\, 1928 Clayton Road\, Concord\, CA\, 94520\, United States
END:VEVENT
BEGIN:VEVENT
DTSTART;TZID=America/Los_Angeles:20260118T090000
DTEND;TZID=America/Los_Angeles:20260118T120000
DTSTAMP:20260421T181746
CREATED:20251222T200107Z
LAST-MODIFIED:20251201T215436Z
UID:10780-1768726800-1768737600@visitcadelta.com
SUMMARY:Tour of the Yolo Bypass Wildlife Area
DESCRIPTION:The Yolo Bypass Wildlife Area tours are hosted on the third Sunday of the month from October through June. Learn about migratory bird species\, flood management techniques\, agricultural practices\, native plants of the wetlands and more! Please dress in layers as weather can be unpredictable. Registration required; more information here.
URL:https://visitcadelta.com/event/ybwa-tour-january-2026/
LOCATION:Yolo Bypass Wildlife Area Headquarters\, 45211 Chiles Road\, Davis\, CA\, 95618\, United States
GEO:38.5560776;-121.6718838
X-APPLE-STRUCTURED-LOCATION;VALUE=URI;X-ADDRESS=Yolo Bypass Wildlife Area Headquarters 45211 Chiles Road Davis CA 95618 United States;X-APPLE-RADIUS=500;X-TITLE=45211 Chiles Road:geo:-121.6718838,38.5560776
END:VEVENT
BEGIN:VEVENT
DTSTART;TZID=America/Los_Angeles:20260117T120000
DTEND;TZID=America/Los_Angeles:20260117T120000
DTSTAMP:20260421T181746
CREATED:20251229T223919Z
LAST-MODIFIED:20251231T170901Z
UID:10943-1768651200-1768651200@visitcadelta.com
SUMMARY:History Tour in Locke
DESCRIPTION:Join State Parks staff for a short guided tour of the historic Chinese American community of Locke. Hear stories and learn about the history of the only remaining rural community built by and for the Chinese. \nMeet in front of the Locke Boarding House at noon for a tour lasting about an hour and a half. Admission and participation are free.
URL:https://visitcadelta.com/event/history-tour-in-locke/
LOCATION:Locke Boarding House\, 13916 Main St\, Walnut Grove\, CA\, 95690
END:VEVENT
BEGIN:VEVENT
DTSTART;TZID=America/Los_Angeles:20260117T110000
DTEND;TZID=America/Los_Angeles:20260117T150000
DTSTAMP:20260421T181746
CREATED:20260106T204717Z
LAST-MODIFIED:20260106T204738Z
UID:11107-1768647600-1768662000@visitcadelta.com
SUMMARY:Wildflower Seed Ball Workshop in Suisun City
DESCRIPTION:Join the Western Railway Museum for a hands-on Wildflower Seed Ball Workshop focused on native plants\, pollinators\, and environmental stewardship. Guests of all ages will create seed balls using natural materials\, enjoy an educational presentation on sustainable practices\, and view floral-inspired art displays with select artworks available for purchase. Each participant will create seed balls to take home and plant.
URL:https://visitcadelta.com/event/wildflower-seed-ball-workshop-in-suisun-city/
LOCATION:Western Railway Museum\, 5848 California 12\, Suisun City\, CA\, 94585\, United States
END:VEVENT
BEGIN:VEVENT
DTSTART;TZID=America/Los_Angeles:20260117T103000
DTEND;TZID=America/Los_Angeles:20260117T120000
DTSTAMP:20260421T181746
CREATED:20260113T172552Z
LAST-MODIFIED:20260113T172552Z
UID:11112-1768645800-1768651200@visitcadelta.com
SUMMARY:Contra Costa County Historical Society Book Club in Martinez
DESCRIPTION:Join the Contra Costa County Historical Society and host Melissa Jacobson for the group’s first meeting\, featuring an introduction to the book club and a meet-and-greet with other members. Books will be available at The History Center\, and assistance with club sign-up will be provided. The club focuses on California history\, with an emphasis on local history through the reading and discussion of selected texts.
URL:https://visitcadelta.com/event/contra-costa-county-historical-society-book-club-in-martinez/
LOCATION:Contra Costa County Historical Society\, 724 Escobar St\, Martinez\, CA\, 94553\, United States
END:VEVENT
BEGIN:VEVENT
DTSTART;TZID=America/Los_Angeles:20260113T100000
DTEND;TZID=America/Los_Angeles:20260113T110000
DTSTAMP:20260421T181746
CREATED:20260102T205201Z
LAST-MODIFIED:20260115T234050Z
UID:11087-1768298400-1768302000@visitcadelta.com
SUMMARY:2026 Docent Meet-and-Greet in Stockton
DESCRIPTION:Curious about becoming a docent at the Haggin Museum? Meet current docents and the Education Department to learn about the role\, training\, and what it’s like to bring the museum’s collections to life for visitors. No prior history or art knowledge is required. \nDocent training runs from February 3 to June 16\, 2026\, on Tuesdays from 9 a.m. to noon. For more information\, contact the Education Department at (209) 940-6315 or education@hagginmuseum.org.
URL:https://visitcadelta.com/event/2026-docent-meet-and-greet-in-stockton/
LOCATION:Haggin Museum\, 1201 N Pershing Ave\, Stockton\, CA\, 95203\, United States
GEO:37.9602519;-121.31431
X-APPLE-STRUCTURED-LOCATION;VALUE=URI;X-ADDRESS=Haggin Museum 1201 N Pershing Ave Stockton CA 95203 United States;X-APPLE-RADIUS=500;X-TITLE=1201 N Pershing Ave:geo:-121.31431,37.9602519
END:VEVENT
BEGIN:VEVENT
DTSTART;TZID=America/Los_Angeles:20260111T140000
DTEND;TZID=America/Los_Angeles:20260111T170000
DTSTAMP:20260421T181746
CREATED:20251209T171836Z
LAST-MODIFIED:20251217T164946Z
UID:10833-1768140000-1768150800@visitcadelta.com
SUMMARY:Speaker's Series in Concord - Lindsay Marie Morris
DESCRIPTION:Author Lindsay Marie Morris will be discussing her book “Beneath the Sicilian Stars.” This is a free event with books available for purchase and signing. Parking will be available on Marina Ct.
URL:https://visitcadelta.com/event/speakers-series-lindsay-marie-morris/
LOCATION:Concord Museum and Event Center\, 1928 Clayton Road\, Concord\, CA\, 94520\, United States
END:VEVENT
BEGIN:VEVENT
DTSTART;TZID=America/Los_Angeles:20260110T130000
DTEND;TZID=America/Los_Angeles:20260110T150000
DTSTAMP:20260421T181746
CREATED:20251209T173554Z
LAST-MODIFIED:20251217T164901Z
UID:10846-1768050000-1768057200@visitcadelta.com
SUMMARY:'Beneath the Sicilian Stars' in Pittsburg: Author Event with Lindsay Marie Morris
DESCRIPTION:Join author Lindsay Marie Morris as she shares the inspirations behind her book Beneath the Sicilian Stars. Books will be available for purchase and signing onsite. To attend\, please RSVP by calling 925-439-7501.
URL:https://visitcadelta.com/event/beneath-the-sicilian-stars-author-event-with-lindsay-marie-morris/
LOCATION:Pittsburg Historical Museum\, 515 Railroad Ave\, Pittsburg\, CA\, 94565\, United States
END:VEVENT
BEGIN:VEVENT
DTSTART;TZID=America/Los_Angeles:20260110T100000
DTEND;TZID=America/Los_Angeles:20260110T120000
DTSTAMP:20260421T181746
CREATED:20260106T200745Z
LAST-MODIFIED:20260106T200745Z
UID:11099-1768039200-1768046400@visitcadelta.com
SUMMARY:Walk and Talk hosted by Antioch Mayor Ron Bernal in Antioch
DESCRIPTION:Join the East Bay Regional Park District and Antioch Mayor Ron Bernal for a 1-mile\, naturalist-guided Walk and Talk at Black Diamond Mines Regional Preserve. Participants will explore the park’s history and scenery while learning about the physical and mental health benefits of spending time outdoors. \nParking will be available in the upper parking lot at the end of Somerville Road. To RSVP\, contact govaffairs@ebparks.org.
URL:https://visitcadelta.com/event/walk-and-talk-hosted-by-antioch-mayor-ron-bernal-in-antioch/
LOCATION:Black Diamond Mines Regional Preserve\, 5175 Somersville Rd\, Antioch\, CA\, 94509\, United States
END:VEVENT
BEGIN:VEVENT
DTSTART;TZID=America/Los_Angeles:20260110T090000
DTEND;TZID=America/Los_Angeles:20260110T090000
DTSTAMP:20260421T181746
CREATED:20260106T203406Z
LAST-MODIFIED:20260106T203441Z
UID:11105-1768035600-1768035600@visitcadelta.com
SUMMARY:Delta Meadows State Park Property Birdwalk in Walnut Grove
DESCRIPTION:Join Parks staff for a guided birdwalk through Delta Meadows\, led by a State Parks interpreter. Participants will explore wetlands\, oak woodlands\, and marshes while learning about local bird species and endangered habitats. The 1-mile walk is free and open to all ages and skill levels.
URL:https://visitcadelta.com/event/delta-meadows-state-park-property-birdwalk-in-walnut-grove/
LOCATION:Delta Meadows River Park\, Delta Meadows River Park\, Walnut Grove\, CA\, 95690\, United States
END:VEVENT
BEGIN:VEVENT
DTSTART;TZID=America/Los_Angeles:20260102T130000
DTEND;TZID=America/Los_Angeles:20260102T133000
DTSTAMP:20260421T181746
CREATED:20251229T222724Z
LAST-MODIFIED:20251229T222724Z
UID:10932-1767358800-1767360600@visitcadelta.com
SUMMARY:Storytime at the Muir Mansion in Martinez
DESCRIPTION:Join a National Park Service ranger for a reading program about John Muir’s adventures and life in his mansion. After the program\, you can explore the historic house and its surrounding scenery at your leisure. \nThis program is free\, and no reservations are required.
URL:https://visitcadelta.com/event/storytime-at-the-muir-mansion-in-martinez/
LOCATION:John Muir National Historic Site\, 4202 Alhambra Ave\, Martinez\, CA\, 94553\, United States
END:VEVENT
BEGIN:VEVENT
DTSTART;TZID=America/Los_Angeles:20260101T100000
DTEND;TZID=America/Los_Angeles:20260101T120000
DTSTAMP:20260421T181746
CREATED:20251229T190721Z
LAST-MODIFIED:20251229T192124Z
UID:10917-1767261600-1767268800@visitcadelta.com
SUMMARY:First Day Hike at Delta Meadows Park Property (Walnut Grove)
DESCRIPTION:Search the sky for the red-tailed hawks\, venture through the emergent wetlands and riparian oak woodlands\, hike to the boat launch and hopefully see some birds! This free 1-mile hike will take approximately 1 hour and 45 minutes. Bring comfortable shoes\, warm clothing\, water\, and binoculars. No registration required. Find more First Day Hikes at parks.ca.gov/firstdayhikes.
URL:https://visitcadelta.com/event/first-day-hike-at-delta-meadows-park-property-walnut-grove/
LOCATION:Delta Meadows Park Property\, 13971 River Rd\, Walnut Grove\, CA\, 95690\, United States
END:VEVENT
BEGIN:VEVENT
DTSTART;TZID=America/Los_Angeles:20251227T090000
DTEND;TZID=America/Los_Angeles:20251227T090000
DTSTAMP:20260421T181746
CREATED:20251206T042622Z
LAST-MODIFIED:20251215T230528Z
UID:10812-1766826000-1766826000@visitcadelta.com
SUMMARY:Learn to Fish at Brannan Island SRA
DESCRIPTION:Learn to fish with Parks staff on Saturday\, December 27 at 9 a.m. at the Brannan Island SRA fishing pier. Get a quick intro to gear\, Delta fishing basics\, and how to fish responsibly. You’ll also have the chance to catch your own fish with staff guidance. \nThe program is free\, with park entry $10 (you can also check out a California State Parks pass from your local library for free admission). Loaner gear is first-come\, and anyone 16 and older needs a valid fishing license from the California Department of Fish and Wildlife.
URL:https://visitcadelta.com/event/learn-to-fish-at-brannan-island-sra/
LOCATION:Brannan Island State Recreation Area\, 17645 Highway 160\, Rio Vista\, CA\, 94571\, United States
END:VEVENT
BEGIN:VEVENT
DTSTART;TZID=America/Los_Angeles:20251221T090000
DTEND;TZID=America/Los_Angeles:20251221T120000
DTSTAMP:20260421T181746
CREATED:20251201T214849Z
LAST-MODIFIED:20251215T230453Z
UID:10775-1766307600-1766318400@visitcadelta.com
SUMMARY:Tour of the Yolo Bypass Wildlife Area
DESCRIPTION:The Yolo Bypass Wildlife Area tours are hosted on the third Sunday of the month from October through June. Learn about migratory bird species\, flood management techniques\, agricultural practices\, native plants of the wetlands and more! Please dress in layers as weather can be unpredictable. Registration required; more information here.
URL:https://visitcadelta.com/event/tour-of-the-yolo-bypass-wildlife-area/
LOCATION:Yolo Bypass Wildlife Area Headquarters\, 45211 Chiles Road\, Davis\, CA\, 95618\, United States
GEO:38.5560776;-121.6718838
X-APPLE-STRUCTURED-LOCATION;VALUE=URI;X-ADDRESS=Yolo Bypass Wildlife Area Headquarters 45211 Chiles Road Davis CA 95618 United States;X-APPLE-RADIUS=500;X-TITLE=45211 Chiles Road:geo:-121.6718838,38.5560776
END:VEVENT
BEGIN:VEVENT
DTSTART;TZID=America/Los_Angeles:20251213T120000
DTEND;TZID=America/Los_Angeles:20251213T150000
DTSTAMP:20260421T181746
CREATED:20251201T213557Z
LAST-MODIFIED:20251201T214256Z
UID:10763-1765627200-1765638000@visitcadelta.com
SUMMARY:Festive Drinks and Refreshments at Crockett Museum
DESCRIPTION:Crockett Museum opens at 10 a.m.\, but at noon\, warm festive drinks and other refreshments will be served\, and craft projects will be available to create. Take a break from shopping and enjoy meandering around the Museum! Museum website.
URL:https://visitcadelta.com/event/festive-drinks-and-refreshments-at-crockett-museum/
LOCATION:Crockett Museum\, 900 Loring Ave\, Crockett\, CA\, 94525\, United States
END:VEVENT
BEGIN:VEVENT
DTSTART;TZID=America/Los_Angeles:20251213T090000
DTEND;TZID=America/Los_Angeles:20251213T130000
DTSTAMP:20260421T181746
CREATED:20251105T184056Z
LAST-MODIFIED:20251217T164806Z
UID:10643-1765616400-1765630800@visitcadelta.com
SUMMARY:Delta Meadows State Park Property Birdwalk in Walnut Grove
DESCRIPTION:Join Parks interpreters for a light hike through the riparian oak woodlands and emergent wetlands of the Sacramento-San Joaquin Delta in search of the many bird species that call the Delta home.
URL:https://visitcadelta.com/event/delta-meadows-state-park-property-birdwalk/
LOCATION:Delta Meadows River Park\, Delta Meadows River Park\, Walnut Grove\, CA\, 95690\, United States
END:VEVENT
BEGIN:VEVENT
DTSTART;VALUE=DATE:20251213
DTEND;VALUE=DATE:20251214
DTSTAMP:20260421T181746
CREATED:20251201T213043Z
LAST-MODIFIED:20251201T213123Z
UID:10759-1765584000-1765670399@visitcadelta.com
SUMMARY:49th Annual Paul Schorr Memorial Holiday Run and Walk for Health
DESCRIPTION:A cherished community event that promotes fitness and well-being. Founded 49 years ago by Tom Torlakson\, this event honors the legacy of Paul Schorr\, a dedicated race director who passionately supported local runners as well as local Kiwanis & Rotary members. Participants of all ages are encouraged to lace up their shoes and enjoy a day of fun camaraderie\, and holiday spirit. Race information here.
URL:https://visitcadelta.com/event/49th-annual-paul-schorr-memorial-holiday-run-and-walk-for-health/
LOCATION:Contra Loma Regional Park\, 1200 Frederickson Lane\, Antioch\, CA\, 94509\, United States
END:VEVENT
BEGIN:VEVENT
DTSTART;TZID=America/Los_Angeles:20251212T173000
DTEND;TZID=America/Los_Angeles:20251212T173000
DTSTAMP:20260421T181746
CREATED:20251208T185842Z
LAST-MODIFIED:20251208T185842Z
UID:10821-1765560600-1765560600@visitcadelta.com
SUMMARY:Christmas Parade
DESCRIPTION:The Walnut Grove Fire Department presents its Christmas Parade\, featuring Santa at Mel’s Mocha. Children 12 and under receive a free slice at the Pizza Factory. Parade starts at 5:30 p.m. For information\, call Taylor VLS at 916-709-4653 or Guillermo Jr. at 916-270-5246\, or email walnutgrovefd@gmail.com.
URL:https://visitcadelta.com/event/christmas-parade/
LOCATION:Mel’s Mocha\, 14131 River Rd\, Walnut Grove\, CA\, 95690\, United States
END:VEVENT
BEGIN:VEVENT
DTSTART;TZID=America/Los_Angeles:20251207T160000
DTEND;TZID=America/Los_Angeles:20251207T210000
DTSTAMP:20260421T181746
CREATED:20251201T231048Z
LAST-MODIFIED:20251217T164444Z
UID:10793-1765123200-1765141200@visitcadelta.com
SUMMARY:Brentwood PAL Tamale Festival
DESCRIPTION:Brentwood Police Activities League is hosting its 2025 Brentwood PAL Tamale Fest. The event features all-you-can-eat tamales\, rice\, beans\, and dessert.
URL:https://visitcadelta.com/event/brentwood-pal-set-for-tamale-festival/
LOCATION:Brentwood Community Center\, 35 Oak Street\, Brentwood\, CA\, 94513\, United States
END:VEVENT
BEGIN:VEVENT
DTSTART;TZID=America/Los_Angeles:20251206T173000
DTEND;TZID=America/Los_Angeles:20251206T203000
DTSTAMP:20260421T181746
CREATED:20251121T173407Z
LAST-MODIFIED:20251121T173422Z
UID:10722-1765042200-1765053000@visitcadelta.com
SUMMARY:Discovery Bay Parade-of-Lights
DESCRIPTION:Celebrate the season at Discovery Bay’s 23rd Annual Parade-of-Lights. The parade will feature festive floats starting at Discovery Bay Marina and finishing in front of the community tree.
URL:https://visitcadelta.com/event/discovery-bay-parade-of-lights/
LOCATION:Discovery Bay\, 1650 Discovery Bay Boulevard\, Discovery Bay\, CA\, 94505\, United States
END:VEVENT
END:VCALENDAR