BEGIN:VCALENDAR
VERSION:2.0
PRODID:-//Visit the California Delta - ECPv6.15.18//NONSGML v1.0//EN
CALSCALE:GREGORIAN
METHOD:PUBLISH
X-WR-CALNAME:Visit the California Delta
X-ORIGINAL-URL:https://visitcadelta.com
X-WR-CALDESC:Events for Visit the California Delta
REFRESH-INTERVAL;VALUE=DURATION:PT1H
X-Robots-Tag:noindex
X-PUBLISHED-TTL:PT1H
BEGIN:VTIMEZONE
TZID:America/Los_Angeles
BEGIN:DAYLIGHT
TZOFFSETFROM:-0800
TZOFFSETTO:-0700
TZNAME:PDT
DTSTART:20180311T100000
END:DAYLIGHT
BEGIN:STANDARD
TZOFFSETFROM:-0700
TZOFFSETTO:-0800
TZNAME:PST
DTSTART:20181104T090000
END:STANDARD
BEGIN:DAYLIGHT
TZOFFSETFROM:-0800
TZOFFSETTO:-0700
TZNAME:PDT
DTSTART:20190310T100000
END:DAYLIGHT
BEGIN:STANDARD
TZOFFSETFROM:-0700
TZOFFSETTO:-0800
TZNAME:PST
DTSTART:20191103T090000
END:STANDARD
BEGIN:DAYLIGHT
TZOFFSETFROM:-0800
TZOFFSETTO:-0700
TZNAME:PDT
DTSTART:20200308T100000
END:DAYLIGHT
BEGIN:STANDARD
TZOFFSETFROM:-0700
TZOFFSETTO:-0800
TZNAME:PST
DTSTART:20201101T090000
END:STANDARD
END:VTIMEZONE
BEGIN:VEVENT
DTSTART;TZID=America/Los_Angeles:20190302T060000
DTEND;TZID=America/Los_Angeles:20190302T123000
DTSTAMP:20260423T171042
CREATED:20190206T211814Z
LAST-MODIFIED:20190206T214638Z
UID:6504-1551506400-1551529800@visitcadelta.com
SUMMARY:The Bob McMillen Memorial Fishing Tournament
DESCRIPTION:Rise and shine so you can reel in that prize! The San Joaquin County Parks and Recreation and Delta Fly Fishers presents a fishing tournament for youth and adults. This a one type fishing competition. Registration for this tournament is free but make sure to obtain a fishing permit. A $6 vehicle-parking fee also applies. Don’t forget to bring your own fishing gear! \nVisit the event page for registration and permit details.
URL:https://visitcadelta.com/event/bob-mcmillen-memorial-fishing-tournament/
LOCATION:Regional Oak Park\, 4520 W Eight Mile Rd\, Stockton\, CA\, 95209
CATEGORIES:Family Friendly,Nature and Recreation
ATTACH;FMTTYPE=image/jpeg:https://visitcadelta.com/wp-content/uploads/2019/02/va-fishings.jpeg
END:VEVENT
BEGIN:VEVENT
DTSTART;TZID=America/Los_Angeles:20190223T130000
DTEND;TZID=America/Los_Angeles:20190223T160000
DTSTAMP:20260423T171042
CREATED:20190116T220023Z
LAST-MODIFIED:20190125T202451Z
UID:6439-1550926800-1550937600@visitcadelta.com
SUMMARY:Crab Feed: Black History Celebration
DESCRIPTION:The annual Crab Feed is coming back once again! Enjoy a dinner loaded with crab accompanied by saucy pasta\, buttery garlic bread\, and crisp salad. Other beverages and desserts will be available for purchase. Listen to music and spoken word poetry through the dinner. Also\, don’t only feast your eyes on the food\, but door prizes will be available for you to win big! \nFor tickets and details\, view the event page.
URL:https://visitcadelta.com/event/crab-feed-black-history-celebration/
LOCATION:Pittsburg Senior Center\, 300 Presidio Lane\, Pittsburg\, CA\, 94565
CATEGORIES:Food and Drink
ATTACH;FMTTYPE=image/jpeg:https://visitcadelta.com/wp-content/uploads/2019/01/crbabb.jpeg
END:VEVENT
BEGIN:VEVENT
DTSTART;VALUE=DATE:20190223
DTEND;VALUE=DATE:20190224
DTSTAMP:20260423T171042
CREATED:20181226T185026Z
LAST-MODIFIED:20181226T230712Z
UID:6292-1550880000-1550966399@visitcadelta.com
SUMMARY:California Duck Days
DESCRIPTION:This annual wetlands and wildlife festival takes place at the Yolo Bypass Wildlife Area which extends into the Delta and is at the heart of the Pacific Flyway. There are field trips\, workshops\, and activities for everyone from owling to avian photography\, duck calling to birdhouse building. \n\n\n\n\n\n\nAll workshops and activities are included in the entrance fee ($20/car). Field trips cost extra. See the website for more details\, the full schedule\, and to register early – you definitely do not want to miss this!
URL:https://visitcadelta.com/event/california-duck-days-2019/
LOCATION:Yolo Bypass Wildlife Area\, 45211 County Road 32B\, Davis\, CA\, 95618
CATEGORIES:Family Friendly,Nature and Recreation
ATTACH;FMTTYPE=image/jpeg:https://visitcadelta.com/wp-content/uploads/2018/02/duckdays.jpg
END:VEVENT
BEGIN:VEVENT
DTSTART;TZID=America/Los_Angeles:20190222T190000
DTEND;TZID=America/Los_Angeles:20190222T213000
DTSTAMP:20260423T171042
CREATED:20190130T231346Z
LAST-MODIFIED:20190130T231346Z
UID:6490-1550862000-1550871000@visitcadelta.com
SUMMARY:Blues for the Delta: A Benefit Concert
DESCRIPTION:Destress your weekend with the tunes of blues\, jazz\, latin\, and soul music while raising awareness for the San Francisco Bay-Delta estuary restoration. Performing this evening is Papa Hip\, a six-member Sacramento band passionate for supporting community causes and musical diversity. Chime into a symphonic fusion of saxophones\, harmonicas\, drums\, and much more! \nVisit Restore the Delta for details and tickets. \n 
URL:https://visitcadelta.com/event/blues-delta-benefit-concert/
LOCATION:CA
CATEGORIES:Music Art Culture
ATTACH;FMTTYPE=image/png:https://visitcadelta.com/wp-content/uploads/2019/01/delta-blues-vca-1.png
END:VEVENT
BEGIN:VEVENT
DTSTART;TZID=America/Los_Angeles:20190221T170000
DTEND;TZID=America/Los_Angeles:20190221T200000
DTSTAMP:20260423T171042
CREATED:20190115T180349Z
LAST-MODIFIED:20190115T180349Z
UID:6455-1550768400-1550779200@visitcadelta.com
SUMMARY:Antioch Food Truck Thursday
DESCRIPTION:Gourmet food and dessert trucks EVERY Thursday! Head to Antioch for a Delta foodie frenzy! This family and pet-friendly event will delight your taste buds with rotating trucks every week – including Lucky 13 Beer & Wine Truck serving craft beer and wine! See the Antioch Food Truck Thursday event page for more delicious details. \nCan’t wait till Thursday? There are tasty treats\, delicious delicacies\, wonderful wineries\, and oh so much more in the Delta! Start your culinary exploration… 
URL:https://visitcadelta.com/event/antioch-food-truck-thursday-2/
LOCATION:Antioch Community Center\, 4703 Lone Tree Way\, Antioch\, CA
CATEGORIES:Family Friendly,Food and Drink
ATTACH;FMTTYPE=image/jpeg:https://visitcadelta.com/wp-content/uploads/2018/06/food-truck-thursday-antioch.jpg
END:VEVENT
BEGIN:VEVENT
DTSTART;TZID=America/Los_Angeles:20190217T100000
DTEND;TZID=America/Los_Angeles:20190217T160000
DTSTAMP:20260423T171042
CREATED:20190215T162956Z
LAST-MODIFIED:20190215T163328Z
UID:6656-1550397600-1550419200@visitcadelta.com
SUMMARY:21st Annual Spam Festival
DESCRIPTION:Spam! Spam! Spam! Dare to join in a cooking contest\, spam toss\, or even spam eating? If you are\, show off your skills and go for it. Or be a spectator of this spamful event\, either way\, it’s going to be fun. \nCheck out the flyer for details.
URL:https://visitcadelta.com/event/21st-annual-spam-festival/
LOCATION:CA
CATEGORIES:Family Friendly,Food and Drink
ATTACH;FMTTYPE=image/png:https://visitcadelta.com/wp-content/uploads/2019/02/imageedit_9_5096414577-1.png
END:VEVENT
BEGIN:VEVENT
DTSTART;TZID=America/Los_Angeles:20190216T120000
DTEND;TZID=America/Los_Angeles:20190216T160000
DTSTAMP:20260423T171042
CREATED:20190128T181701Z
LAST-MODIFIED:20190128T183439Z
UID:6486-1550318400-1550332800@visitcadelta.com
SUMMARY:Chinese New Year Celebration
DESCRIPTION:Ring in the Year of the Pig in Historic Locke! This year’s celebration\, hosted by the Locke Foundation\, includes a lion dance\, martial arts demonstrations\, a presentation at the Old Locke Chinese Gambling House\, free Chinese snacks\, and lucky red money envelopes (while supplies last). Explore Locke’s fascinating history while celebrating with friends and family at this FREE event on Main Street. \nVisit the Locke Foundation for details.
URL:https://visitcadelta.com/event/chinese-new-year-celebration-locke-2/
LOCATION:Main Street\, Locke\, CA\, 95690
CATEGORIES:Family Friendly,Music Art Culture
ATTACH;FMTTYPE=image/png:https://visitcadelta.com/wp-content/uploads/2017/04/locke-festival-2.png
GEO:38.2505673;-121.508808
END:VEVENT
BEGIN:VEVENT
DTSTART;TZID=America/Los_Angeles:20190209T110000
DTEND;TZID=America/Los_Angeles:20190209T160000
DTSTAMP:20260423T171042
CREATED:20190117T171122Z
LAST-MODIFIED:20190117T171150Z
UID:6476-1549710000-1549728000@visitcadelta.com
SUMMARY:Asian New Year Celebration
DESCRIPTION:
URL:https://visitcadelta.com/event/asian-new-year-2019-isleton/
LOCATION:Main Street Isleton\, Main Street\, Isleton\, CA\, 95641
CATEGORIES:Family Friendly,Food and Drink,Music Art Culture
ATTACH;FMTTYPE=image/jpeg:https://visitcadelta.com/wp-content/uploads/2018/01/lion-dance-653736.jpg
GEO:38.1625943;-121.605733
X-APPLE-STRUCTURED-LOCATION;VALUE=URI;X-ADDRESS=Main Street Isleton Main Street Isleton CA 95641;X-APPLE-RADIUS=500;X-TITLE=Main Street:geo:-121.605733,38.1625943
END:VEVENT
BEGIN:VEVENT
DTSTART;TZID=America/Los_Angeles:20190207T110000
DTEND;TZID=America/Los_Angeles:20190207T150000
DTSTAMP:20260423T171042
CREATED:20190116T215949Z
LAST-MODIFIED:20190125T195351Z
UID:6430-1549537200-1549551600@visitcadelta.com
SUMMARY:Locke Art Studio Silk Screen Printing
DESCRIPTION:In celebration of Sacramento Museum Week\, a variety of local museums will be offering special events and activities. Locke Art Studio will be hosting a live silk screen printing demo. Don’t miss a piece of artwork being made in front of your eyes! \n\n\n\n\n\n\n\n\n\n\nLocke Boarding House offers free public admission on Saturday\, February 2 (11:00AM-3:00PM) in celebration of museum week. \n\n\n\n\n\n\n\n\n\n\nDetails about museum week\, visit Sacramento Museum Week. View more artwork at Locke Art Studio.
URL:https://visitcadelta.com/event/locke-art-studio-silk-screen-printing/
LOCATION:Locke Art Studio\, 1265 Levee Road\, Walnut Grove\, CA\, 95690
CATEGORIES:Music Art Culture
ATTACH;FMTTYPE=image/jpeg:https://visitcadelta.com/wp-content/uploads/2019/01/imageedit_3_8396960306.jpeg
END:VEVENT
BEGIN:VEVENT
DTSTART;TZID=America/Los_Angeles:20190202T110000
DTEND;TZID=America/Los_Angeles:20190202T150000
DTSTAMP:20260423T171042
CREATED:20190116T215901Z
LAST-MODIFIED:20190116T215901Z
UID:6360-1549105200-1549119600@visitcadelta.com
SUMMARY:Locke Boarding House
DESCRIPTION:Celebrating the 21st Annual Free Museum Day\, 24 Sacramento museums will be offering free admission including Locke Boarding House. Learn about the lifestyle and history of the Southern Pacific Railroad workers. Explore artifacts from the 1920s that tell their own story from the past.  The Boarding House itself is a unique museum of its own so don’t miss this chance! \nLocke Art Studio will also be offering a free Joy Kuo Master silk screen printing demonstration on Thursday\, February 7 (11:00AM-3:00PM) to keep museum week rolling! \nLearn more about the museum at the Locke Foundation. For details about free museum day\, visit Sacramento Museum Week.
URL:https://visitcadelta.com/event/locke-boarding-house/
LOCATION:CA
CATEGORIES:Music Art Culture
ATTACH;FMTTYPE=image/jpeg:https://visitcadelta.com/wp-content/uploads/2019/01/imageedit_1_4931915588.jpeg
END:VEVENT
BEGIN:VEVENT
DTSTART;TZID=America/Los_Angeles:20190111T130000
DTEND;TZID=America/Los_Angeles:20190111T190000
DTSTAMP:20260423T171042
CREATED:20181231T191046Z
LAST-MODIFIED:20190109T211947Z
UID:6194-1547211600-1547233200@visitcadelta.com
SUMMARY:Lodi Antique Show
DESCRIPTION:Dealers from all around the west coast will be showcasing their antique pieces. Browse through a wide selection of items and you just might find a treasure. Make it a weekend experience with a leisurely drive through the Delta!\nGeneral Admission $6 \nDate and times\nJan 11: 1PM-7PM\nJan 12: 10AM-5PM\nJan 13: 10AM-4PM \nFor details\, visit the Lodi Antique Show website.
URL:https://visitcadelta.com/event/lodi-antique-show/2019-01-11/
LOCATION:Lodi Grape Festival Grounds\, 413 E. Lockeford Street\, Lodi\, CA\, 95240
CATEGORIES:Music Art Culture
ATTACH;FMTTYPE=image/jpeg:https://visitcadelta.com/wp-content/uploads/2018/12/img_0895.jpg
GEO:38.1385596;-121.2636049
X-APPLE-STRUCTURED-LOCATION;VALUE=URI;X-ADDRESS=Lodi Grape Festival Grounds 413 E. Lockeford Street Lodi CA 95240;X-APPLE-RADIUS=500;X-TITLE=413 E. Lockeford Street:geo:-121.2636049,38.1385596
END:VEVENT
BEGIN:VEVENT
DTSTART;TZID=America/Los_Angeles:20190105T153000
DTEND;TZID=America/Los_Angeles:20190105T173000
DTSTAMP:20260423T171042
CREATED:20181226T183423Z
LAST-MODIFIED:20181226T230201Z
UID:6225-1546702200-1546709400@visitcadelta.com
SUMMARY:Sandhill Crane Tours
DESCRIPTION:Head out to the Woodbridge Ecological Reserve to see the majestic Sandhill Cranes as they spend their winter in the Delta. Guided tours are held the first three weekends of each month from October through February. The tours involved very little walking so bring your camp chair to enjoy the cranes and other waterfowl.  If you have binoculars\, go ahead and bring those along as well\, but they are not necessary! \nGet more information and register early for the Sandhill Crane Wetland Tours! \n 
URL:https://visitcadelta.com/event/sandhill-crane-tours-2019/2019-01-05/
LOCATION:Woodbridge Ecological Reserve\,  7730 W Woodbridge Rd.\, Lodi\, CA\, 95242
CATEGORIES:Family Friendly,Nature and Recreation
ATTACH;FMTTYPE=image/jpeg:https://visitcadelta.com/wp-content/uploads/2017/10/delta-sandhill-cranes.jpg
GEO:38.1623159;-121.41105
X-APPLE-STRUCTURED-LOCATION;VALUE=URI;X-ADDRESS=Woodbridge Ecological Reserve  7730 W Woodbridge Rd. Lodi CA 95242;X-APPLE-RADIUS=500;X-TITLE=7730 W Woodbridge Rd.:geo:-121.41105,38.1623159
END:VEVENT
END:VCALENDAR