BEGIN:VCALENDAR
VERSION:2.0
PRODID:-//Visit the California Delta - ECPv6.15.18//NONSGML v1.0//EN
CALSCALE:GREGORIAN
METHOD:PUBLISH
X-WR-CALNAME:Visit the California Delta
X-ORIGINAL-URL:https://visitcadelta.com
X-WR-CALDESC:Events for Visit the California Delta
REFRESH-INTERVAL;VALUE=DURATION:PT1H
X-Robots-Tag:noindex
X-PUBLISHED-TTL:PT1H
BEGIN:VTIMEZONE
TZID:America/Los_Angeles
BEGIN:DAYLIGHT
TZOFFSETFROM:-0800
TZOFFSETTO:-0700
TZNAME:PDT
DTSTART:20220313T100000
END:DAYLIGHT
BEGIN:STANDARD
TZOFFSETFROM:-0700
TZOFFSETTO:-0800
TZNAME:PST
DTSTART:20221106T090000
END:STANDARD
BEGIN:DAYLIGHT
TZOFFSETFROM:-0800
TZOFFSETTO:-0700
TZNAME:PDT
DTSTART:20230312T100000
END:DAYLIGHT
BEGIN:STANDARD
TZOFFSETFROM:-0700
TZOFFSETTO:-0800
TZNAME:PST
DTSTART:20231105T090000
END:STANDARD
BEGIN:DAYLIGHT
TZOFFSETFROM:-0800
TZOFFSETTO:-0700
TZNAME:PDT
DTSTART:20240310T100000
END:DAYLIGHT
BEGIN:STANDARD
TZOFFSETFROM:-0700
TZOFFSETTO:-0800
TZNAME:PST
DTSTART:20241103T090000
END:STANDARD
BEGIN:DAYLIGHT
TZOFFSETFROM:-0800
TZOFFSETTO:-0700
TZNAME:PDT
DTSTART:20250309T100000
END:DAYLIGHT
BEGIN:STANDARD
TZOFFSETFROM:-0700
TZOFFSETTO:-0800
TZNAME:PST
DTSTART:20251102T090000
END:STANDARD
BEGIN:DAYLIGHT
TZOFFSETFROM:-0800
TZOFFSETTO:-0700
TZNAME:PDT
DTSTART:20260308T100000
END:DAYLIGHT
BEGIN:STANDARD
TZOFFSETFROM:-0700
TZOFFSETTO:-0800
TZNAME:PST
DTSTART:20261101T090000
END:STANDARD
END:VTIMEZONE
BEGIN:VEVENT
DTSTART;TZID=America/Los_Angeles:20251206T100000
DTEND;TZID=America/Los_Angeles:20251207T163000
DTSTAMP:20260422T043521
CREATED:20251201T232534Z
LAST-MODIFIED:20251217T164724Z
UID:10798-1765015200-1765125000@visitcadelta.com
SUMMARY:Olde Tyme Christmas Faire in Rio Vista
DESCRIPTION:The 17th Annual Olde Time Christmas Faire comes back from December 6 to 7. Handcrafted items\, baked goods and raffle prizes will be available.
URL:https://visitcadelta.com/event/olde-tyme-christmas-faire/
LOCATION:Rio Vista Museum\, 16 N Front St\, Rio Vista \, CA\, 94571
GEO:38.1563418;-121.6907403
X-APPLE-STRUCTURED-LOCATION;VALUE=URI;X-ADDRESS=Rio Vista Museum 16 N Front St Rio Vista  CA 94571;X-APPLE-RADIUS=500;X-TITLE=16 N Front St:geo:-121.6907403,38.1563418
END:VEVENT
BEGIN:VEVENT
DTSTART;TZID=America/Los_Angeles:20251205T113000
DTEND;TZID=America/Los_Angeles:20251221T183000
DTSTAMP:20260422T043521
CREATED:20251114T193752Z
LAST-MODIFIED:20251217T164645Z
UID:10675-1764934200-1766341800@visitcadelta.com
SUMMARY:Santa Trains in Suisun City
DESCRIPTION:The Western Railway Museum offers its annual holiday “magical winter train rides\,” followed by an indoor light show and a chance to meet Santa Claus and slurp homemade cocoa. \n 
URL:https://visitcadelta.com/event/santa-trains/
LOCATION:Western Railway Museum\, 5848 California 12\, Suisun City\, CA\, 94585\, United States
END:VEVENT
BEGIN:VEVENT
DTSTART;TZID=America/Los_Angeles:20251129T170000
DTEND;TZID=America/Los_Angeles:20251129T190000
DTSTAMP:20260422T043521
CREATED:20251114T191902Z
LAST-MODIFIED:20251114T194223Z
UID:10659-1764435600-1764442800@visitcadelta.com
SUMMARY:43rd Annual Holiday Parade & Tree Lighting
DESCRIPTION:This annual event features illuminated floats\, community groups\, and a variety of holiday-themed attractions. Parade route starts on First Street\, goes through downtown Brentwood\, and ends on Brentwood Blvd. at Oak St. A Christmas tree lighting ceremony in City Park follows the parade. \n 
URL:https://visitcadelta.com/event/43rd-annual-holiday-parade-tree-lighting/
LOCATION:Downtown Brentwood\, 35 Oak St\, Brentwood\, CA\, 94513\, United States
END:VEVENT
BEGIN:VEVENT
DTSTART;TZID=America/Los_Angeles:20251129T110000
DTEND;TZID=America/Los_Angeles:20251129T140000
DTSTAMP:20260422T043521
CREATED:20251114T192312Z
LAST-MODIFIED:20251114T192312Z
UID:10668-1764414000-1764424800@visitcadelta.com
SUMMARY:The Cocoa with CoCo authors Book Fair
DESCRIPTION:A conversation with Contra Costa County authors. Also featured – rare and collectible books for purchase. For more information call (925) 229-1042.
URL:https://visitcadelta.com/event/the-cocoa-with-coco-authors-book-fair/
LOCATION:Contra Costa County Historical Society\, 724 Escobar St\, Martinez\, CA\, 94553\, United States
END:VEVENT
BEGIN:VEVENT
DTSTART;TZID=America/Los_Angeles:20251122T173000
DTEND;TZID=America/Los_Angeles:20251122T203000
DTSTAMP:20260422T043521
CREATED:20251114T190133Z
LAST-MODIFIED:20251114T190133Z
UID:10656-1763832600-1763843400@visitcadelta.com
SUMMARY:Big Break Star Party
DESCRIPTION:A special evening of stargazing at Big Break Regional Shoreline. Visitors will discover constellations and “learn about our place in the galaxy.” Only red light headlamps or red lens flashlights are allowed – white light disrupts the group’s night vision. This is a free drop-in program – no registration is required. For information call (510) 544-3050.
URL:https://visitcadelta.com/event/big-break-star-party/
LOCATION:Big Break Regional Shoreline\, 69 Big Break Rd\, Oakley\, CA\, 94561
END:VEVENT
BEGIN:VEVENT
DTSTART;TZID=America/Los_Angeles:20251115T140000
DTEND;TZID=America/Los_Angeles:20251115T160000
DTSTAMP:20260422T043521
CREATED:20251114T185658Z
LAST-MODIFIED:20251114T185658Z
UID:10654-1763215200-1763222400@visitcadelta.com
SUMMARY:First People of the Delta: Indigenous Histories of the Sacramento Region
DESCRIPTION:A conversation about how the Sacramento-San Joaquin Delta’s vibrant Indigenous communities’ deep knowledge of the land and waterways sustained them for generations. A free event presented by the Sacramento River Delta Historical Society. \nEmail srdhspresident@gmail.com for more information.
URL:https://visitcadelta.com/event/first-people-of-the-delta-indigenous-histories-of-the-sacramento-region/
LOCATION:Jean Harvie Community Center\, 14273 River Rd\, Walnut Grove\, CA\, 95690\, United States
END:VEVENT
BEGIN:VEVENT
DTSTART;TZID=America/Los_Angeles:20251108T100000
DTEND;TZID=America/Los_Angeles:20251108T130000
DTSTAMP:20260422T043521
CREATED:20251103T175930Z
LAST-MODIFIED:20251103T175930Z
UID:10634-1762596000-1762606800@visitcadelta.com
SUMMARY:Tree Planting
DESCRIPTION:Sustainable Solano and the Rio Vista Youth Air Protectors help plant trees along Airport Road to improve walkability and air quality.
URL:https://visitcadelta.com/event/tree-planting/
LOCATION:Airport Road & Baumann Road\, Airport & Baumann Road\, Rio Vista\, CA\, 94571\, United States
END:VEVENT
BEGIN:VEVENT
DTSTART;TZID=America/Los_Angeles:20251025T160000
DTEND;TZID=America/Los_Angeles:20251025T200000
DTSTAMP:20260422T043521
CREATED:20250912T205821Z
LAST-MODIFIED:20250917T163719Z
UID:10442-1761408000-1761422400@visitcadelta.com
SUMMARY:Hometown Halloween in Brentwood
DESCRIPTION:Trick or treating. \n \n 
URL:https://visitcadelta.com/event/hometown-halloween-in-brentwood/
LOCATION:Oak and First streets\, Brentwood
END:VEVENT
BEGIN:VEVENT
DTSTART;TZID=America/Los_Angeles:20251025T100000
DTEND;TZID=America/Los_Angeles:20251025T160000
DTSTAMP:20260422T043521
CREATED:20250912T205407Z
LAST-MODIFIED:20250912T214650Z
UID:10438-1761386400-1761408000@visitcadelta.com
SUMMARY:Rivertown Trunk or Treat Car and Bike Show in Antioch
DESCRIPTION:Pet costume contest\, kids costume contest\, store to store trick or treating\, monster truck rides\, kids zone\, music\, vendors.
URL:https://visitcadelta.com/event/rivertown-trunk-or-treat-car-and-bike-show/
LOCATION:708 West 2nd St.\, Antioch\, 708 West 2nd St.\, Antioch\, CA\, United States
END:VEVENT
BEGIN:VEVENT
DTSTART;TZID=America/Los_Angeles:20251025T080000
DTEND;TZID=America/Los_Angeles:20251101T090000
DTSTAMP:20260422T043521
CREATED:20251029T212858Z
LAST-MODIFIED:20251029T212858Z
UID:10628-1761379200-1761987600@visitcadelta.com
SUMMARY:Friends of the Library Fall Book Sale
DESCRIPTION:50 cents per item\, three for $1\, or a brown paper bag full of books for $5.
URL:https://visitcadelta.com/event/friends-of-the-library-fall-book-sale/
LOCATION:Rio Vista Library\, 44 S 2nd St\, Rio Vista\, CA\, 94571\, United States
END:VEVENT
BEGIN:VEVENT
DTSTART;TZID=America/Los_Angeles:20251019T110000
DTEND;TZID=America/Los_Angeles:20251019T180000
DTSTAMP:20260422T043521
CREATED:20250912T211528Z
LAST-MODIFIED:20250912T211528Z
UID:10457-1760871600-1760896800@visitcadelta.com
SUMMARY:Pawstoberfest in Brentwood
DESCRIPTION:Activities\, treats\, pets!
URL:https://visitcadelta.com/event/pawstoberfest-in-brentwood/
LOCATION:Brentwood Downtown City Park\, 150 City Park Way\, Brentwood\, CA\, 94513
GEO:37.9344929;-121.6943804
X-APPLE-STRUCTURED-LOCATION;VALUE=URI;X-ADDRESS=Brentwood Downtown City Park 150 City Park Way Brentwood CA 94513;X-APPLE-RADIUS=500;X-TITLE=150 City Park Way:geo:-121.6943804,37.9344929
END:VEVENT
BEGIN:VEVENT
DTSTART;TZID=America/Los_Angeles:20251018T140000
DTEND;TZID=America/Los_Angeles:20251018T180000
DTSTAMP:20260422T043521
CREATED:20250912T210943Z
LAST-MODIFIED:20250912T215811Z
UID:10451-1760796000-1760810400@visitcadelta.com
SUMMARY:Falloween in Antioch
DESCRIPTION:Trunk or treating\, games\, costume and pumpkin-carving contests face painting. Event website.
URL:https://visitcadelta.com/event/fall-o-ween-in-antioch/
LOCATION:Antioch Water Park\, 4701 Lone Tree Way\, Antioch\, CA\, 94531\, United States
GEO:37.9655397;-121.7727429
X-APPLE-STRUCTURED-LOCATION;VALUE=URI;X-ADDRESS=Antioch Water Park 4701 Lone Tree Way Antioch CA 94531 United States;X-APPLE-RADIUS=500;X-TITLE=4701 Lone Tree Way:geo:-121.7727429,37.9655397
END:VEVENT
BEGIN:VEVENT
DTSTART;TZID=America/Los_Angeles:20251018T100000
DTEND;TZID=America/Los_Angeles:20251018T160000
DTSTAMP:20260422T043521
CREATED:20250926T231259Z
LAST-MODIFIED:20250930T185028Z
UID:10529-1760781600-1760803200@visitcadelta.com
SUMMARY:Delta Bay Foundation's Flora\, Fauna\, & Fun
DESCRIPTION:A fall celebration of the natural beauty\, agricultural richness\, and cultural history of the California Delta.
URL:https://visitcadelta.com/event/delta-bay-foundations-flora-fauna-fun/
LOCATION:Brannan Island State Recreation Area\, 17645 Highway 160\, Rio Vista\, CA\, 94571\, United States
END:VEVENT
BEGIN:VEVENT
DTSTART;TZID=America/Los_Angeles:20251018T090000
DTEND;TZID=America/Los_Angeles:20251018T130000
DTSTAMP:20260422T043521
CREATED:20250926T231801Z
LAST-MODIFIED:20250930T044636Z
UID:10536-1760778000-1760792400@visitcadelta.com
SUMMARY:Brentwood Rotary Hosts Digs & Rigs
DESCRIPTION:Hands-on experience invites kids and families to explore and climb on construction equipment\, utility trucks\, emergency vehicles and more.
URL:https://visitcadelta.com/event/brentwood-rotary-hosts-digs-rigs/
LOCATION:Cornerstone Church Parking Lot 6641 Lone Tree Way Brentwood CA
END:VEVENT
BEGIN:VEVENT
DTSTART;VALUE=DATE:20251016
DTEND;VALUE=DATE:20251020
DTSTAMP:20260422T043521
CREATED:20250926T230936Z
LAST-MODIFIED:20250926T232936Z
UID:10522-1760572800-1760918399@visitcadelta.com
SUMMARY:89th Annual Walnut Festival
DESCRIPTION:Family-friendly entertainment\, live music\, carnival with more than 15 rides\, Kid Zone\, artists\, craftsmen\, designers\, jewelers\, builders\, food specialties\, craft beer garden and more. (temporarily relocated this year from Walnut Creek)
URL:https://visitcadelta.com/event/89th-annual-walnut-festival/
LOCATION:Antioch Fair Grounds
END:VEVENT
BEGIN:VEVENT
DTSTART;TZID=America/Los_Angeles:20251011T130000
DTEND;TZID=America/Los_Angeles:20251011T190000
DTSTAMP:20260422T043521
CREATED:20250926T230419Z
LAST-MODIFIED:20250926T232557Z
UID:10509-1760187600-1760209200@visitcadelta.com
SUMMARY:Downtown Brentwood Coalition Oktoberfest
DESCRIPTION:Sierra Nevada Biergarten\, live bands\, Fun Zone including craft stations\, local performers\, demonstrations\, wiener dog costume parade\, one-man circus and more.
URL:https://visitcadelta.com/event/downtown-brentwood-coalition-oktoberfest/
LOCATION:CA
END:VEVENT
BEGIN:VEVENT
DTSTART;TZID=America/Los_Angeles:20251011T090000
DTEND;TZID=America/Los_Angeles:20251011T140000
DTSTAMP:20260422T043521
CREATED:20250926T230659Z
LAST-MODIFIED:20250926T232713Z
UID:10514-1760173200-1760191200@visitcadelta.com
SUMMARY:Tractor Fest
DESCRIPTION:Hands-on tractor show\, tractor parade\, kids activities\, food trucks.
URL:https://visitcadelta.com/event/tractor-fest/
LOCATION:San Joaquin County Historical Museum in Micke Grove Park
END:VEVENT
BEGIN:VEVENT
DTSTART;TZID=America/Los_Angeles:20251004T110000
DTEND;TZID=America/Los_Angeles:20251004T170000
DTSTAMP:20260422T043521
CREATED:20250926T225920Z
LAST-MODIFIED:20250926T230151Z
UID:10504-1759575600-1759597200@visitcadelta.com
SUMMARY:Antioch Rhythms by the River
DESCRIPTION:Music\, food\, beer and wine garden\, cornhole tournament\, kids zone.
URL:https://visitcadelta.com/event/antioch-rhythms-by-the-river/
LOCATION:West 2nd and G streets\, Antioch
END:VEVENT
BEGIN:VEVENT
DTSTART;TZID=America/Los_Angeles:20251001T100000
DTEND;TZID=America/Los_Angeles:20251001T120000
DTSTAMP:20260422T043521
CREATED:20250926T225452Z
LAST-MODIFIED:20250926T225452Z
UID:10497-1759312800-1759320000@visitcadelta.com
SUMMARY:Readapalooza
DESCRIPTION:Free books\, games stories\, snacks and the Rolling Reader outreach van. The event is suitable for babies (<1 year)\, toddlers (1-3 years) and preschoolers (3-5 years).
URL:https://visitcadelta.com/event/readapalooza/
LOCATION:6190 Bethel Island Road
END:VEVENT
BEGIN:VEVENT
DTSTART;TZID=America/Los_Angeles:20250925T180000
DTEND;TZID=America/Los_Angeles:20250925T193000
DTSTAMP:20260422T043521
CREATED:20250926T225038Z
LAST-MODIFIED:20250926T225038Z
UID:10490-1758823200-1758828600@visitcadelta.com
SUMMARY:Contra Costa County District 3 Town Hall
DESCRIPTION:Supervisor (and DPC Chair) Diane Burgis town hall meeting about District 3 residents’ concerns. \n(District 3 residents can take a survey here.)
URL:https://visitcadelta.com/event/contra-costa-county-district-3-town-hall/
LOCATION:1250 O’Hara Ave
END:VEVENT
BEGIN:VEVENT
DTSTART;TZID=America/Los_Angeles:20250923T183000
DTEND;TZID=America/Los_Angeles:20250923T203000
DTSTAMP:20260422T043521
CREATED:20250926T224704Z
LAST-MODIFIED:20250926T224704Z
UID:10482-1758652200-1758659400@visitcadelta.com
SUMMARY:Tales of the Sacramento-San Joaquin Delta - California's First and Only National Heritage Area
DESCRIPTION:Delta Protection Commission Program Manager Blake Roberts addresses the Sacramento Historical Society. 6:30-8:30 p.m. Free for members\, $20 for non-members.
URL:https://visitcadelta.com/event/tales-of-the-sacramento-san-joaquin-delta-californias-first-and-only-national-heritage-area/
LOCATION:Columbus Hall\, 5961 Newman Court\, Sacramento
END:VEVENT
BEGIN:VEVENT
DTSTART;TZID=America/Los_Angeles:20230617T100000
DTEND;TZID=America/Los_Angeles:20230618T200000
DTSTAMP:20260422T043521
CREATED:20230201T234125Z
LAST-MODIFIED:20230201T234125Z
UID:10190-1686996000-1687118400@visitcadelta.com
SUMMARY:Crawdad Festival 2023
DESCRIPTION:
URL:https://visitcadelta.com/event/crawdad-festival-2023/
LOCATION:Main Street\, Isleton\, Main Street\, Isleton\, CA\, 95641\, United States
CATEGORIES:Food and Drink
END:VEVENT
BEGIN:VEVENT
DTSTART;TZID=America/Los_Angeles:20230513T080000
DTEND;TZID=America/Los_Angeles:20230513T170000
DTSTAMP:20260422T043521
CREATED:20230201T233917Z
LAST-MODIFIED:20230201T233917Z
UID:10188-1683964800-1683997200@visitcadelta.com
SUMMARY:City of Isleton's 100th Anniversary Celebration
DESCRIPTION:
URL:https://visitcadelta.com/event/city-of-isletons-100th-anniversary-celebration/
LOCATION:Isleton Chamber Of Commerce Office\, 23 Main St\, Isleton\, CA\, 95641\, United States
CATEGORIES:History and Heritage
GEO:38.1626812;-121.6065368
X-APPLE-STRUCTURED-LOCATION;VALUE=URI;X-ADDRESS=Isleton Chamber Of Commerce Office 23 Main St Isleton CA 95641 United States;X-APPLE-RADIUS=500;X-TITLE=23 Main St:geo:-121.6065368,38.1626812
END:VEVENT
BEGIN:VEVENT
DTSTART;VALUE=DATE:20230509
DTEND;VALUE=DATE:20230510
DTSTAMP:20260422T043521
CREATED:20230201T233639Z
LAST-MODIFIED:20230201T233639Z
UID:10184-1683590400-1683676799@visitcadelta.com
SUMMARY:Asian American\, Native Hawaiian\, and Pacific Islander (AANHPI) Ceremony
DESCRIPTION:On May 9\, 2023\, Contra Costa County will host a multicultural celebration to honor Asian American\, Native Hawaiian\, and Pacific Islander cultures and traditions. The AANHPI Celebration will showcase dance\, music\, food\, and unique customs from some Asian and Pacific Islander communities represented in Contra Costa County\, including Nepalese\, Korean\, Filipino\, Chinese\, Vietnamese\, Cambodian\, Lao\, Thai\, and Burmese communities.
URL:https://visitcadelta.com/event/asian-american-native-hawaiian-and-pacific-islander-aanhpi-ceremony/
LOCATION:Contra Costa County Adminstration Building\, 1025 Escobar Street\, Martinez\, CA\, 94553\, United States
CATEGORIES:Music Art Culture
END:VEVENT
BEGIN:VEVENT
DTSTART;TZID=America/Los_Angeles:20230429T090000
DTEND;TZID=America/Los_Angeles:20230429T160000
DTSTAMP:20260422T043521
CREATED:20230201T233323Z
LAST-MODIFIED:20230201T233323Z
UID:10181-1682758800-1682784000@visitcadelta.com
SUMMARY:California Duck Days
DESCRIPTION:California Duck Days is a family oriented\, community-based outdoor festival with activities for people of all ages. On-site activities for families include interactive exhibits\, wetland themed arts and crafts\, and much more.
URL:https://visitcadelta.com/event/california-duck-days/
LOCATION:Yolo Bypass Wildlife Area Headquarters\, 45211 Chiles Road\, Davis\, CA\, 95618\, United States
CATEGORIES:Nature and Recreation
GEO:38.5560776;-121.6718838
X-APPLE-STRUCTURED-LOCATION;VALUE=URI;X-ADDRESS=Yolo Bypass Wildlife Area Headquarters 45211 Chiles Road Davis CA 95618 United States;X-APPLE-RADIUS=500;X-TITLE=45211 Chiles Road:geo:-121.6718838,38.5560776
END:VEVENT
BEGIN:VEVENT
DTSTART;TZID=America/Los_Angeles:20230414T120000
DTEND;TZID=America/Los_Angeles:20230416T190000
DTSTAMP:20260422T043521
CREATED:20230201T233201Z
LAST-MODIFIED:20230201T233201Z
UID:10178-1681473600-1681671600@visitcadelta.com
SUMMARY:San Joaquin Asparagus Festival
DESCRIPTION:The San Joaquin Asparagus Festival draws a considerable amount of visitors in the Spring that come together to enjoy the fun\, savor the food and catch up with old friends\, all while making new memories! Join back at the San Joaquin County Fairgrounds.
URL:https://visitcadelta.com/event/san-joaquin-asparagus-festival/
LOCATION:San Joaquin County Fairgrounds\, 1658 S. Airport Way\, Stockton\, CA\, 95206\, United States
CATEGORIES:Food and Drink
GEO:37.941034;-121.270243
X-APPLE-STRUCTURED-LOCATION;VALUE=URI;X-ADDRESS=San Joaquin County Fairgrounds 1658 S. Airport Way Stockton CA 95206 United States;X-APPLE-RADIUS=500;X-TITLE=1658 S. Airport Way:geo:-121.270243,37.941034
END:VEVENT
BEGIN:VEVENT
DTSTART;VALUE=DATE:20230304
DTEND;VALUE=DATE:20230305
DTSTAMP:20260422T043521
CREATED:20230201T232843Z
LAST-MODIFIED:20230201T232844Z
UID:10176-1677888000-1677974399@visitcadelta.com
SUMMARY:Sacramento County History Day
DESCRIPTION:Sacramento County History Day makes history come alive for students by engaging them in discovering the historical\, cultural and social significance of the past. The 2022-23 Sacramento County History Day theme is Frontiers in History: People\, Places\, and Ideas. The annual History Day competition will take place on March 4\, 2023.
URL:https://visitcadelta.com/event/sacramento-county-history-day/
LOCATION:CA
CATEGORIES:History and Heritage
END:VEVENT
BEGIN:VEVENT
DTSTART;TZID=America/Los_Angeles:20230219T100000
DTEND;TZID=America/Los_Angeles:20230219T160000
DTSTAMP:20260422T043521
CREATED:20230201T232208Z
LAST-MODIFIED:20230201T232545Z
UID:10173-1676800800-1676822400@visitcadelta.com
SUMMARY:Isleton Spam Festival
DESCRIPTION:
URL:https://visitcadelta.com/event/isleton-spam-festival/
LOCATION:Peter’s Steakhouse\, 203 2nd St\, Isleton\, CA\, 95641\, United States
CATEGORIES:Music Art Culture
GEO:38.1621979;-121.6113171
X-APPLE-STRUCTURED-LOCATION;VALUE=URI;X-ADDRESS=Peter’s Steakhouse 203 2nd St Isleton CA 95641 United States;X-APPLE-RADIUS=500;X-TITLE=203 2nd St:geo:-121.6113171,38.1621979
END:VEVENT
BEGIN:VEVENT
DTSTART;TZID=America/Los_Angeles:20230211T120000
DTEND;TZID=America/Los_Angeles:20230211T160000
DTSTAMP:20260422T043521
CREATED:20230201T225735Z
LAST-MODIFIED:20230201T231932Z
UID:10167-1676116800-1676131200@visitcadelta.com
SUMMARY:Locke Chinese New Year Foundation
DESCRIPTION:Celebrate the Year of the Rabbit in the historic Delta town of Locke. Start by viewing the Lion Dance at noon. Stay for the martial arts and tai chi demonstrations\, flower arrangement presentation\, painting and calligraphy contest\, musical performances\, and cooking discussion. The event and parking are free.
URL:https://visitcadelta.com/event/locke-chinese-new-year-foundation/
LOCATION:Main Street\, Locke\, Main Street\, Locke\, CA\, 95690
CATEGORIES:Music Art Culture
ORGANIZER;CN="Locke Foundation":MAILTO:lockefoundation1915@gmail.com
END:VEVENT
BEGIN:VEVENT
DTSTART;TZID=America/Los_Angeles:20230117T130000
DTEND;TZID=America/Los_Angeles:20230117T150000
DTSTAMP:20260422T043521
CREATED:20221020T164809Z
LAST-MODIFIED:20221024T211645Z
UID:10159-1673960400-1673967600@visitcadelta.com
SUMMARY:LMC Lifelong Learning Center Lecture - Local History as Experienced through Real Photo Postcards
DESCRIPTION:The Los Medanos College Lifelong Learning Adult Lectures are fee-based\, not-for-credit classes on specialized topics that are designed for personal growth and enrichment for attendees. Lectures are taught by individuals who are experts in their field and passionate about the topics they are addressing. \nThe Lifelong Learning Center is holding a series of monthly lectures on the history of the Delta. Join Carol Jensen\, local historian\, on Tuesday\, January 17 from 1 PM to 3 PM as she talks about local history as experience through real photo postcards. \nFrom about 1890 until the First World War\, traveling photographers would roam the country snapping shots of families\, homes and farmland. Real photos are printed on postcard stock\, purchased in bulk and sent to families in Europe by those wishing to display their prosperity in the New World. Real photo postcards are a wonderful cultural archive items that capture the times and show what life was like back then. For example\, a postcard sent to a Mrs. Smith in San Francisco reads\, “Hello Girlie – How are you? and yours? So terribly warm here today am almost roasted. Had a dandy time at Frank Eaton and Ruby Hudson Eaton’s’ reception. I suppose you heard that they were married?” It is a completely new research opportunity engaging in real photo postcard (“RPP”) history. It allows individuals to learn about their community\, helps others to remember the area and remind new residents of the reasons they moved out here.
URL:https://visitcadelta.com/event/lmc-lifelong-learning-center-lecture-local-history-as-experienced-through-real-photo-postcards/
LOCATION:Los Medanos College\, Brentwood Campus\, 1351 Pioneer Square\, Brentwood\, CA\, 94513\, United States
CATEGORIES:Music Art Culture
GEO:37.8959141;-121.7212826
X-APPLE-STRUCTURED-LOCATION;VALUE=URI;X-ADDRESS=Los Medanos College Brentwood Campus 1351 Pioneer Square Brentwood CA 94513 United States;X-APPLE-RADIUS=500;X-TITLE=1351 Pioneer Square:geo:-121.7212826,37.8959141
END:VEVENT
END:VCALENDAR