BEGIN:VCALENDAR
VERSION:2.0
PRODID:-//Visit the California Delta - ECPv6.15.18//NONSGML v1.0//EN
CALSCALE:GREGORIAN
METHOD:PUBLISH
X-WR-CALNAME:Visit the California Delta
X-ORIGINAL-URL:https://visitcadelta.com
X-WR-CALDESC:Events for Visit the California Delta
REFRESH-INTERVAL;VALUE=DURATION:PT1H
X-Robots-Tag:noindex
X-PUBLISHED-TTL:PT1H
BEGIN:VTIMEZONE
TZID:America/Los_Angeles
BEGIN:DAYLIGHT
TZOFFSETFROM:-0800
TZOFFSETTO:-0700
TZNAME:PDT
DTSTART:20210314T100000
END:DAYLIGHT
BEGIN:STANDARD
TZOFFSETFROM:-0700
TZOFFSETTO:-0800
TZNAME:PST
DTSTART:20211107T090000
END:STANDARD
BEGIN:DAYLIGHT
TZOFFSETFROM:-0800
TZOFFSETTO:-0700
TZNAME:PDT
DTSTART:20220313T100000
END:DAYLIGHT
BEGIN:STANDARD
TZOFFSETFROM:-0700
TZOFFSETTO:-0800
TZNAME:PST
DTSTART:20221106T090000
END:STANDARD
BEGIN:DAYLIGHT
TZOFFSETFROM:-0800
TZOFFSETTO:-0700
TZNAME:PDT
DTSTART:20230312T100000
END:DAYLIGHT
BEGIN:STANDARD
TZOFFSETFROM:-0700
TZOFFSETTO:-0800
TZNAME:PST
DTSTART:20231105T090000
END:STANDARD
END:VTIMEZONE
BEGIN:VEVENT
DTSTART;TZID=America/Los_Angeles:20221105T110000
DTEND;TZID=America/Los_Angeles:20221105T140000
DTSTAMP:20260419T233737
CREATED:20221020T162557Z
LAST-MODIFIED:20221024T212013Z
UID:10148-1667646000-1667656800@visitcadelta.com
SUMMARY:Bike East Bay: Adult Learn-to-Ride Class
DESCRIPTION:This is a class for adults or teens who have either not yet learned how to ride a bike\, or learned a long time ago but want a refresher on the basics of balancing\, pedaling and steering. The trained instructors are friendly\, patient\, and will help you get off to a great start in a safe\, non-judgmental environment. A working bicycle and helmet are required in order to participate in this class. A limited number of bikes and helmets are available to rent for $30\, and are sanitized before and after each class. \nRegister with Bike East Bay: Adult Learn-to-Ride Class – Pittsburg | Bike East Bay or by calling (510) 845-7433.
URL:https://visitcadelta.com/event/bike-east-bay-adult-learn-to-ride-class/
LOCATION:Pittsburg Library\, 80 Power Avenue\, Pittsburg\, CA\, 94565
CATEGORIES:Nature and Recreation
END:VEVENT
END:VCALENDAR