BEGIN:VCALENDAR
VERSION:2.0
PRODID:-//Visit the California Delta - ECPv6.15.18//NONSGML v1.0//EN
CALSCALE:GREGORIAN
METHOD:PUBLISH
X-ORIGINAL-URL:https://visitcadelta.com
X-WR-CALDESC:Events for Visit the California Delta
REFRESH-INTERVAL;VALUE=DURATION:PT1H
X-Robots-Tag:noindex
X-PUBLISHED-TTL:PT1H
BEGIN:VTIMEZONE
TZID:America/Los_Angeles
BEGIN:DAYLIGHT
TZOFFSETFROM:-0800
TZOFFSETTO:-0700
TZNAME:PDT
DTSTART:20220313T100000
END:DAYLIGHT
BEGIN:STANDARD
TZOFFSETFROM:-0700
TZOFFSETTO:-0800
TZNAME:PST
DTSTART:20221106T090000
END:STANDARD
BEGIN:DAYLIGHT
TZOFFSETFROM:-0800
TZOFFSETTO:-0700
TZNAME:PDT
DTSTART:20230312T100000
END:DAYLIGHT
BEGIN:STANDARD
TZOFFSETFROM:-0700
TZOFFSETTO:-0800
TZNAME:PST
DTSTART:20231105T090000
END:STANDARD
BEGIN:DAYLIGHT
TZOFFSETFROM:-0800
TZOFFSETTO:-0700
TZNAME:PDT
DTSTART:20240310T100000
END:DAYLIGHT
BEGIN:STANDARD
TZOFFSETFROM:-0700
TZOFFSETTO:-0800
TZNAME:PST
DTSTART:20241103T090000
END:STANDARD
BEGIN:DAYLIGHT
TZOFFSETFROM:-0800
TZOFFSETTO:-0700
TZNAME:PDT
DTSTART:20250309T100000
END:DAYLIGHT
BEGIN:STANDARD
TZOFFSETFROM:-0700
TZOFFSETTO:-0800
TZNAME:PST
DTSTART:20251102T090000
END:STANDARD
BEGIN:DAYLIGHT
TZOFFSETFROM:-0800
TZOFFSETTO:-0700
TZNAME:PDT
DTSTART:20260308T100000
END:DAYLIGHT
BEGIN:STANDARD
TZOFFSETFROM:-0700
TZOFFSETTO:-0800
TZNAME:PST
DTSTART:20261101T090000
END:STANDARD
END:VTIMEZONE
BEGIN:VEVENT
DTSTART;TZID=America/Los_Angeles:20250925T180000
DTEND;TZID=America/Los_Angeles:20250925T193000
DTSTAMP:20260420T030622
CREATED:20250926T225038Z
LAST-MODIFIED:20250926T225038Z
UID:10490-1758823200-1758828600@visitcadelta.com
SUMMARY:Contra Costa County District 3 Town Hall
DESCRIPTION:Supervisor (and DPC Chair) Diane Burgis town hall meeting about District 3 residents’ concerns. \n(District 3 residents can take a survey here.)
URL:https://visitcadelta.com/event/contra-costa-county-district-3-town-hall/
LOCATION:1250 O’Hara Ave
END:VEVENT
BEGIN:VEVENT
DTSTART;VALUE=DATE:20230509
DTEND;VALUE=DATE:20230510
DTSTAMP:20260420T030622
CREATED:20230201T233639Z
LAST-MODIFIED:20230201T233639Z
UID:10184-1683590400-1683676799@visitcadelta.com
SUMMARY:Asian American\, Native Hawaiian\, and Pacific Islander (AANHPI) Ceremony
DESCRIPTION:On May 9\, 2023\, Contra Costa County will host a multicultural celebration to honor Asian American\, Native Hawaiian\, and Pacific Islander cultures and traditions. The AANHPI Celebration will showcase dance\, music\, food\, and unique customs from some Asian and Pacific Islander communities represented in Contra Costa County\, including Nepalese\, Korean\, Filipino\, Chinese\, Vietnamese\, Cambodian\, Lao\, Thai\, and Burmese communities.
URL:https://visitcadelta.com/event/asian-american-native-hawaiian-and-pacific-islander-aanhpi-ceremony/
LOCATION:Contra Costa County Adminstration Building\, 1025 Escobar Street\, Martinez\, CA\, 94553\, United States
CATEGORIES:Music Art Culture
END:VEVENT
END:VCALENDAR