BEGIN:VCALENDAR
VERSION:2.0
PRODID:-//Visit the California Delta - ECPv6.15.18//NONSGML v1.0//EN
CALSCALE:GREGORIAN
METHOD:PUBLISH
X-WR-CALNAME:Visit the California Delta
X-ORIGINAL-URL:https://visitcadelta.com
X-WR-CALDESC:Events for Visit the California Delta
REFRESH-INTERVAL;VALUE=DURATION:PT1H
X-Robots-Tag:noindex
X-PUBLISHED-TTL:PT1H
BEGIN:VTIMEZONE
TZID:America/Los_Angeles
BEGIN:DAYLIGHT
TZOFFSETFROM:-0800
TZOFFSETTO:-0700
TZNAME:PDT
DTSTART:20240310T100000
END:DAYLIGHT
BEGIN:STANDARD
TZOFFSETFROM:-0700
TZOFFSETTO:-0800
TZNAME:PST
DTSTART:20241103T090000
END:STANDARD
BEGIN:DAYLIGHT
TZOFFSETFROM:-0800
TZOFFSETTO:-0700
TZNAME:PDT
DTSTART:20250309T100000
END:DAYLIGHT
BEGIN:STANDARD
TZOFFSETFROM:-0700
TZOFFSETTO:-0800
TZNAME:PST
DTSTART:20251102T090000
END:STANDARD
BEGIN:DAYLIGHT
TZOFFSETFROM:-0800
TZOFFSETTO:-0700
TZNAME:PDT
DTSTART:20260308T100000
END:DAYLIGHT
BEGIN:STANDARD
TZOFFSETFROM:-0700
TZOFFSETTO:-0800
TZNAME:PST
DTSTART:20261101T090000
END:STANDARD
BEGIN:DAYLIGHT
TZOFFSETFROM:-0800
TZOFFSETTO:-0700
TZNAME:PDT
DTSTART:20270314T100000
END:DAYLIGHT
BEGIN:STANDARD
TZOFFSETFROM:-0700
TZOFFSETTO:-0800
TZNAME:PST
DTSTART:20271107T090000
END:STANDARD
END:VTIMEZONE
BEGIN:VEVENT
DTSTART;TZID=America/Los_Angeles:20260321T100000
DTEND;TZID=America/Los_Angeles:20260321T140000
DTSTAMP:20260422T021249
CREATED:20260304T211319Z
LAST-MODIFIED:20260304T232013Z
UID:11443-1774087200-1774101600@visitcadelta.com
SUMMARY:Boating and Water Safety Fair in Rio Vista
DESCRIPTION:Learn boating and water safety from local first responders\, sponsored by the Delta Bay Foundation. The Sacramento County Sheriff’s Marine Enforcement Detail and U.S. Coast Guard Auxiliary Flotilla 53 will provide demonstrations\, vessel safety checks\, and safety tips. Kids’ games and a children’s fishing event are included. \nRecreation Area entrance fees are waived for attendees\, and lunch will be available on-site. \nFor more information\, contact Corinne Corley at 816-520-9152 or follow updates on the Facebook event page.
URL:https://visitcadelta.com/event/boating-and-water-safety-fair-in-rio-vista/
LOCATION:Brannan Island State Recreation Area\, 17645 Highway 160\, Rio Vista\, CA\, 94571\, United States
END:VEVENT
BEGIN:VEVENT
DTSTART;TZID=America/Los_Angeles:20251018T100000
DTEND;TZID=America/Los_Angeles:20251018T160000
DTSTAMP:20260422T021249
CREATED:20250926T231259Z
LAST-MODIFIED:20250930T185028Z
UID:10529-1760781600-1760803200@visitcadelta.com
SUMMARY:Delta Bay Foundation's Flora\, Fauna\, & Fun
DESCRIPTION:A fall celebration of the natural beauty\, agricultural richness\, and cultural history of the California Delta.
URL:https://visitcadelta.com/event/delta-bay-foundations-flora-fauna-fun/
LOCATION:Brannan Island State Recreation Area\, 17645 Highway 160\, Rio Vista\, CA\, 94571\, United States
END:VEVENT
END:VCALENDAR