BEGIN:VCALENDAR
VERSION:2.0
PRODID:-//Visit the California Delta - ECPv6.15.18//NONSGML v1.0//EN
CALSCALE:GREGORIAN
METHOD:PUBLISH
X-ORIGINAL-URL:https://visitcadelta.com
X-WR-CALDESC:Events for Visit the California Delta
REFRESH-INTERVAL;VALUE=DURATION:PT1H
X-Robots-Tag:noindex
X-PUBLISHED-TTL:PT1H
BEGIN:VTIMEZONE
TZID:America/Los_Angeles
BEGIN:DAYLIGHT
TZOFFSETFROM:-0800
TZOFFSETTO:-0700
TZNAME:PDT
DTSTART:20250309T100000
END:DAYLIGHT
BEGIN:STANDARD
TZOFFSETFROM:-0700
TZOFFSETTO:-0800
TZNAME:PST
DTSTART:20251102T090000
END:STANDARD
BEGIN:DAYLIGHT
TZOFFSETFROM:-0800
TZOFFSETTO:-0700
TZNAME:PDT
DTSTART:20260308T100000
END:DAYLIGHT
BEGIN:STANDARD
TZOFFSETFROM:-0700
TZOFFSETTO:-0800
TZNAME:PST
DTSTART:20261101T090000
END:STANDARD
BEGIN:DAYLIGHT
TZOFFSETFROM:-0800
TZOFFSETTO:-0700
TZNAME:PDT
DTSTART:20270314T100000
END:DAYLIGHT
BEGIN:STANDARD
TZOFFSETFROM:-0700
TZOFFSETTO:-0800
TZNAME:PST
DTSTART:20271107T090000
END:STANDARD
END:VTIMEZONE
BEGIN:VEVENT
DTSTART;TZID=America/Los_Angeles:20260102T130000
DTEND;TZID=America/Los_Angeles:20260102T133000
DTSTAMP:20260419T154741
CREATED:20251229T222724Z
LAST-MODIFIED:20251229T222724Z
UID:10932-1767358800-1767360600@visitcadelta.com
SUMMARY:Storytime at the Muir Mansion in Martinez
DESCRIPTION:Join a National Park Service ranger for a reading program about John Muir’s adventures and life in his mansion. After the program\, you can explore the historic house and its surrounding scenery at your leisure. \nThis program is free\, and no reservations are required.
URL:https://visitcadelta.com/event/storytime-at-the-muir-mansion-in-martinez/
LOCATION:John Muir National Historic Site\, 4202 Alhambra Ave\, Martinez\, CA\, 94553\, United States
END:VEVENT
END:VCALENDAR