BEGIN:VCALENDAR
VERSION:2.0
PRODID:-//Visit the California Delta - ECPv6.15.18//NONSGML v1.0//EN
CALSCALE:GREGORIAN
METHOD:PUBLISH
X-WR-CALNAME:Visit the California Delta
X-ORIGINAL-URL:https://visitcadelta.com
X-WR-CALDESC:Events for Visit the California Delta
REFRESH-INTERVAL;VALUE=DURATION:PT1H
X-Robots-Tag:noindex
X-PUBLISHED-TTL:PT1H
BEGIN:VTIMEZONE
TZID:America/Los_Angeles
BEGIN:DAYLIGHT
TZOFFSETFROM:-0800
TZOFFSETTO:-0700
TZNAME:PDT
DTSTART:20250309T100000
END:DAYLIGHT
BEGIN:STANDARD
TZOFFSETFROM:-0700
TZOFFSETTO:-0800
TZNAME:PST
DTSTART:20251102T090000
END:STANDARD
BEGIN:DAYLIGHT
TZOFFSETFROM:-0800
TZOFFSETTO:-0700
TZNAME:PDT
DTSTART:20260308T100000
END:DAYLIGHT
BEGIN:STANDARD
TZOFFSETFROM:-0700
TZOFFSETTO:-0800
TZNAME:PST
DTSTART:20261101T090000
END:STANDARD
BEGIN:DAYLIGHT
TZOFFSETFROM:-0800
TZOFFSETTO:-0700
TZNAME:PDT
DTSTART:20270314T100000
END:DAYLIGHT
BEGIN:STANDARD
TZOFFSETFROM:-0700
TZOFFSETTO:-0800
TZNAME:PST
DTSTART:20271107T090000
END:STANDARD
END:VTIMEZONE
BEGIN:VEVENT
DTSTART;TZID=America/Los_Angeles:20260110T130000
DTEND;TZID=America/Los_Angeles:20260110T150000
DTSTAMP:20260419T174129
CREATED:20251209T173554Z
LAST-MODIFIED:20251217T164901Z
UID:10846-1768050000-1768057200@visitcadelta.com
SUMMARY:'Beneath the Sicilian Stars' in Pittsburg: Author Event with Lindsay Marie Morris
DESCRIPTION:Join author Lindsay Marie Morris as she shares the inspirations behind her book Beneath the Sicilian Stars. Books will be available for purchase and signing onsite. To attend\, please RSVP by calling 925-439-7501.
URL:https://visitcadelta.com/event/beneath-the-sicilian-stars-author-event-with-lindsay-marie-morris/
LOCATION:Pittsburg Historical Museum\, 515 Railroad Ave\, Pittsburg\, CA\, 94565\, United States
END:VEVENT
END:VCALENDAR