BEGIN:VCALENDAR
VERSION:2.0
PRODID:-//Visit the California Delta - ECPv6.15.18//NONSGML v1.0//EN
CALSCALE:GREGORIAN
METHOD:PUBLISH
X-WR-CALNAME:Visit the California Delta
X-ORIGINAL-URL:https://visitcadelta.com
X-WR-CALDESC:Events for Visit the California Delta
REFRESH-INTERVAL;VALUE=DURATION:PT1H
X-Robots-Tag:noindex
X-PUBLISHED-TTL:PT1H
BEGIN:VTIMEZONE
TZID:America/Los_Angeles
BEGIN:DAYLIGHT
TZOFFSETFROM:-0800
TZOFFSETTO:-0700
TZNAME:PDT
DTSTART:20250309T100000
END:DAYLIGHT
BEGIN:STANDARD
TZOFFSETFROM:-0700
TZOFFSETTO:-0800
TZNAME:PST
DTSTART:20251102T090000
END:STANDARD
BEGIN:DAYLIGHT
TZOFFSETFROM:-0800
TZOFFSETTO:-0700
TZNAME:PDT
DTSTART:20260308T100000
END:DAYLIGHT
BEGIN:STANDARD
TZOFFSETFROM:-0700
TZOFFSETTO:-0800
TZNAME:PST
DTSTART:20261101T090000
END:STANDARD
BEGIN:DAYLIGHT
TZOFFSETFROM:-0800
TZOFFSETTO:-0700
TZNAME:PDT
DTSTART:20270314T100000
END:DAYLIGHT
BEGIN:STANDARD
TZOFFSETFROM:-0700
TZOFFSETTO:-0800
TZNAME:PST
DTSTART:20271107T090000
END:STANDARD
END:VTIMEZONE
BEGIN:VEVENT
DTSTART;TZID=America/Los_Angeles:20260228T180000
DTEND;TZID=America/Los_Angeles:20260228T200000
DTSTAMP:20260419T230445
CREATED:20260126T191929Z
LAST-MODIFIED:20260205T015240Z
UID:11202-1772301600-1772308800@visitcadelta.com
SUMMARY:The Rotary Scholarship Dinner in Walnut Grove
DESCRIPTION:Join the Rotary Club of Walnut Grove at the Jean Harvie Community Center for its annual Community Fundraising Dinner and Silent Auction. Guests will enjoy complimentary wine from local vintners\, a full no-host bar\, and dinner prepared by Acoustic Events\, featuring hors d’oeuvres and a full buffet selection. \nTo view the auction catalog and bid online or at the event\, guests must be registered on the auction site. \nProceeds from the event support local community needs and provide scholarships to Delta students. At last year’s dinner\, the club awarded 13 scholarships.
URL:https://visitcadelta.com/event/the-rotary-scholarship-dinner-in-walnut-grove/
LOCATION:Jean Harvie Community Center\, 14273 River Rd\, Walnut Grove\, CA\, 95690\, United States
END:VEVENT
END:VCALENDAR