BEGIN:VCALENDAR
VERSION:2.0
PRODID:-//Visit the California Delta - ECPv6.15.18//NONSGML v1.0//EN
CALSCALE:GREGORIAN
METHOD:PUBLISH
X-WR-CALNAME:Visit the California Delta
X-ORIGINAL-URL:https://visitcadelta.com
X-WR-CALDESC:Events for Visit the California Delta
REFRESH-INTERVAL;VALUE=DURATION:PT1H
X-Robots-Tag:noindex
X-PUBLISHED-TTL:PT1H
BEGIN:VTIMEZONE
TZID:America/Los_Angeles
BEGIN:DAYLIGHT
TZOFFSETFROM:-0800
TZOFFSETTO:-0700
TZNAME:PDT
DTSTART:20190310T100000
END:DAYLIGHT
BEGIN:STANDARD
TZOFFSETFROM:-0700
TZOFFSETTO:-0800
TZNAME:PST
DTSTART:20191103T090000
END:STANDARD
BEGIN:DAYLIGHT
TZOFFSETFROM:-0800
TZOFFSETTO:-0700
TZNAME:PDT
DTSTART:20200308T100000
END:DAYLIGHT
BEGIN:STANDARD
TZOFFSETFROM:-0700
TZOFFSETTO:-0800
TZNAME:PST
DTSTART:20201101T090000
END:STANDARD
BEGIN:DAYLIGHT
TZOFFSETFROM:-0800
TZOFFSETTO:-0700
TZNAME:PDT
DTSTART:20210314T100000
END:DAYLIGHT
BEGIN:STANDARD
TZOFFSETFROM:-0700
TZOFFSETTO:-0800
TZNAME:PST
DTSTART:20211107T090000
END:STANDARD
BEGIN:DAYLIGHT
TZOFFSETFROM:-0800
TZOFFSETTO:-0700
TZNAME:PDT
DTSTART:20220313T100000
END:DAYLIGHT
BEGIN:STANDARD
TZOFFSETFROM:-0700
TZOFFSETTO:-0800
TZNAME:PST
DTSTART:20221106T090000
END:STANDARD
BEGIN:DAYLIGHT
TZOFFSETFROM:-0800
TZOFFSETTO:-0700
TZNAME:PDT
DTSTART:20230312T100000
END:DAYLIGHT
BEGIN:STANDARD
TZOFFSETFROM:-0700
TZOFFSETTO:-0800
TZNAME:PST
DTSTART:20231105T090000
END:STANDARD
BEGIN:DAYLIGHT
TZOFFSETFROM:-0800
TZOFFSETTO:-0700
TZNAME:PDT
DTSTART:20240310T100000
END:DAYLIGHT
BEGIN:STANDARD
TZOFFSETFROM:-0700
TZOFFSETTO:-0800
TZNAME:PST
DTSTART:20241103T090000
END:STANDARD
BEGIN:DAYLIGHT
TZOFFSETFROM:-0800
TZOFFSETTO:-0700
TZNAME:PDT
DTSTART:20250309T100000
END:DAYLIGHT
BEGIN:STANDARD
TZOFFSETFROM:-0700
TZOFFSETTO:-0800
TZNAME:PST
DTSTART:20251102T090000
END:STANDARD
BEGIN:DAYLIGHT
TZOFFSETFROM:-0800
TZOFFSETTO:-0700
TZNAME:PDT
DTSTART:20260308T100000
END:DAYLIGHT
BEGIN:STANDARD
TZOFFSETFROM:-0700
TZOFFSETTO:-0800
TZNAME:PST
DTSTART:20261101T090000
END:STANDARD
BEGIN:DAYLIGHT
TZOFFSETFROM:-0800
TZOFFSETTO:-0700
TZNAME:PDT
DTSTART:20270314T100000
END:DAYLIGHT
BEGIN:STANDARD
TZOFFSETFROM:-0700
TZOFFSETTO:-0800
TZNAME:PST
DTSTART:20271107T090000
END:STANDARD
END:VTIMEZONE
BEGIN:VEVENT
DTSTART;TZID=America/Los_Angeles:20260321T110000
DTEND;TZID=America/Los_Angeles:20260321T150000
DTSTAMP:20260419T180040
CREATED:20260316T183845Z
LAST-MODIFIED:20260316T184024Z
UID:11471-1774090800-1774105200@visitcadelta.com
SUMMARY:Delta Family History Day in Walnut Grove
DESCRIPTION:Join the Sacramento River Delta Historical Society for a community event focused on preserving and sharing family history. Visitors can bring photographs and paper items such as letters\, certificates\, and newspaper clippings to be digitized on-site while keeping their originals. \nThe event will also feature a Family Story Station for recording memories\, a Scrapbook Memory Station with hands-on activities for all ages\, and resources for preserving family history at home. The event is free and open to all ages.
URL:https://visitcadelta.com/event/delta-family-history-day-in-walnut-grove/
LOCATION:Jean Harvie Community Center\, 14273 River Rd\, Walnut Grove\, CA\, 95690\, United States
END:VEVENT
BEGIN:VEVENT
DTSTART;TZID=America/Los_Angeles:20251115T140000
DTEND;TZID=America/Los_Angeles:20251115T160000
DTSTAMP:20260419T180040
CREATED:20251114T185658Z
LAST-MODIFIED:20251114T185658Z
UID:10654-1763215200-1763222400@visitcadelta.com
SUMMARY:First People of the Delta: Indigenous Histories of the Sacramento Region
DESCRIPTION:A conversation about how the Sacramento-San Joaquin Delta’s vibrant Indigenous communities’ deep knowledge of the land and waterways sustained them for generations. A free event presented by the Sacramento River Delta Historical Society. \nEmail srdhspresident@gmail.com for more information.
URL:https://visitcadelta.com/event/first-people-of-the-delta-indigenous-histories-of-the-sacramento-region/
LOCATION:Jean Harvie Community Center\, 14273 River Rd\, Walnut Grove\, CA\, 95690\, United States
END:VEVENT
BEGIN:VEVENT
DTSTART;TZID=America/Los_Angeles:20200121T190000
DTEND;TZID=America/Los_Angeles:20200121T190000
DTSTAMP:20260419T180040
CREATED:20200114T204902Z
LAST-MODIFIED:20200114T205313Z
UID:8293-1579633200-1579633200@visitcadelta.com
SUMMARY:Native Peoples of the Sacramento Region
DESCRIPTION:Anthropologist David Stuart\, former director of the Sacramento (currently Powerhouse) Science Center\, will be presenting an illustrated lecture summarizing the 10\,000+ years that Native people called this area home. Discussion includes some common stereotypes about the cultures of the Nisenan\, Miwok\, and Yokuts-speaking nations. Come and listen to learn about the intriguing past and culture of Native Americans.\n\n\nFor additional details\, see the Sacramento River Delta Historical Society event flyer.
URL:https://visitcadelta.com/event/native-peoples-sacramento-region/
LOCATION:Jean Harvie Community Center\, 14273 River Rd\, Walnut Grove\, CA\, 95690\, United States
CATEGORIES:Music Art Culture
ATTACH;FMTTYPE=image/jpeg:https://visitcadelta.com/wp-content/uploads/2020/01/native-americanvacad.jpg
END:VEVENT
END:VCALENDAR