BEGIN:VCALENDAR
VERSION:2.0
PRODID:-//Visit the California Delta - ECPv6.15.18//NONSGML v1.0//EN
CALSCALE:GREGORIAN
METHOD:PUBLISH
X-WR-CALNAME:Visit the California Delta
X-ORIGINAL-URL:https://visitcadelta.com
X-WR-CALDESC:Events for Visit the California Delta
REFRESH-INTERVAL;VALUE=DURATION:PT1H
X-Robots-Tag:noindex
X-PUBLISHED-TTL:PT1H
BEGIN:VTIMEZONE
TZID:America/Los_Angeles
BEGIN:DAYLIGHT
TZOFFSETFROM:-0800
TZOFFSETTO:-0700
TZNAME:PDT
DTSTART:20220313T100000
END:DAYLIGHT
BEGIN:STANDARD
TZOFFSETFROM:-0700
TZOFFSETTO:-0800
TZNAME:PST
DTSTART:20221106T090000
END:STANDARD
BEGIN:DAYLIGHT
TZOFFSETFROM:-0800
TZOFFSETTO:-0700
TZNAME:PDT
DTSTART:20230312T100000
END:DAYLIGHT
BEGIN:STANDARD
TZOFFSETFROM:-0700
TZOFFSETTO:-0800
TZNAME:PST
DTSTART:20231105T090000
END:STANDARD
BEGIN:DAYLIGHT
TZOFFSETFROM:-0800
TZOFFSETTO:-0700
TZNAME:PDT
DTSTART:20240310T100000
END:DAYLIGHT
BEGIN:STANDARD
TZOFFSETFROM:-0700
TZOFFSETTO:-0800
TZNAME:PST
DTSTART:20241103T090000
END:STANDARD
END:VTIMEZONE
BEGIN:VEVENT
DTSTART;TZID=America/Los_Angeles:20230414T120000
DTEND;TZID=America/Los_Angeles:20230416T190000
DTSTAMP:20260420T013146
CREATED:20230201T233201Z
LAST-MODIFIED:20230201T233201Z
UID:10178-1681473600-1681671600@visitcadelta.com
SUMMARY:San Joaquin Asparagus Festival
DESCRIPTION:The San Joaquin Asparagus Festival draws a considerable amount of visitors in the Spring that come together to enjoy the fun\, savor the food and catch up with old friends\, all while making new memories! Join back at the San Joaquin County Fairgrounds.
URL:https://visitcadelta.com/event/san-joaquin-asparagus-festival/
LOCATION:San Joaquin County Fairgrounds\, 1658 S. Airport Way\, Stockton\, CA\, 95206\, United States
CATEGORIES:Food and Drink
GEO:37.941034;-121.270243
X-APPLE-STRUCTURED-LOCATION;VALUE=URI;X-ADDRESS=San Joaquin County Fairgrounds 1658 S. Airport Way Stockton CA 95206 United States;X-APPLE-RADIUS=500;X-TITLE=1658 S. Airport Way:geo:-121.270243,37.941034
END:VEVENT
END:VCALENDAR