BEGIN:VCALENDAR
VERSION:2.0
PRODID:-//Visit the California Delta - ECPv6.15.18//NONSGML v1.0//EN
CALSCALE:GREGORIAN
METHOD:PUBLISH
X-WR-CALNAME:Visit the California Delta
X-ORIGINAL-URL:https://visitcadelta.com
X-WR-CALDESC:Events for Visit the California Delta
REFRESH-INTERVAL;VALUE=DURATION:PT1H
X-Robots-Tag:noindex
X-PUBLISHED-TTL:PT1H
BEGIN:VTIMEZONE
TZID:America/Los_Angeles
BEGIN:DAYLIGHT
TZOFFSETFROM:-0800
TZOFFSETTO:-0700
TZNAME:PDT
DTSTART:20250309T100000
END:DAYLIGHT
BEGIN:STANDARD
TZOFFSETFROM:-0700
TZOFFSETTO:-0800
TZNAME:PST
DTSTART:20251102T090000
END:STANDARD
BEGIN:DAYLIGHT
TZOFFSETFROM:-0800
TZOFFSETTO:-0700
TZNAME:PDT
DTSTART:20260308T100000
END:DAYLIGHT
BEGIN:STANDARD
TZOFFSETFROM:-0700
TZOFFSETTO:-0800
TZNAME:PST
DTSTART:20261101T090000
END:STANDARD
BEGIN:DAYLIGHT
TZOFFSETFROM:-0800
TZOFFSETTO:-0700
TZNAME:PDT
DTSTART:20270314T100000
END:DAYLIGHT
BEGIN:STANDARD
TZOFFSETFROM:-0700
TZOFFSETTO:-0800
TZNAME:PST
DTSTART:20271107T090000
END:STANDARD
END:VTIMEZONE
BEGIN:VEVENT
DTSTART;TZID=America/Los_Angeles:20260221T130000
DTEND;TZID=America/Los_Angeles:20260221T150000
DTSTAMP:20260419T211755
CREATED:20260122T221104Z
LAST-MODIFIED:20260122T221104Z
UID:11193-1771678800-1771686000@visitcadelta.com
SUMMARY:Living History Speakers Series: Charles Blatcher III in Vallejo
DESCRIPTION:The Vallejo Naval and Historical Museum presents a program on Charles Young\, a soldier\, educator\, and diplomat who was the highest-ranking Black officer during his lifetime. \nGuest speaker Charles Blatcher III is an author\, publisher\, and founder and chairman of the National Coalition of Black Veteran Organizations. \nThis is a free event.
URL:https://visitcadelta.com/event/living-history-speakers-series-charles-blatcher-iii-in-vallejo/
LOCATION:Vallejo Naval and Historical Museum\, 734 Marin Street\, Vallejo\, CA\, 94590\, United States
END:VEVENT
END:VCALENDAR