BEGIN:VCALENDAR
VERSION:2.0
PRODID:-//Visit the California Delta - ECPv6.15.18//NONSGML v1.0//EN
CALSCALE:GREGORIAN
METHOD:PUBLISH
X-WR-CALNAME:Visit the California Delta
X-ORIGINAL-URL:https://visitcadelta.com
X-WR-CALDESC:Events for Visit the California Delta
REFRESH-INTERVAL;VALUE=DURATION:PT1H
X-Robots-Tag:noindex
X-PUBLISHED-TTL:PT1H
BEGIN:VTIMEZONE
TZID:America/Los_Angeles
BEGIN:DAYLIGHT
TZOFFSETFROM:-0800
TZOFFSETTO:-0700
TZNAME:PDT
DTSTART:20200308T100000
END:DAYLIGHT
BEGIN:STANDARD
TZOFFSETFROM:-0700
TZOFFSETTO:-0800
TZNAME:PST
DTSTART:20201101T090000
END:STANDARD
BEGIN:DAYLIGHT
TZOFFSETFROM:-0800
TZOFFSETTO:-0700
TZNAME:PDT
DTSTART:20210314T100000
END:DAYLIGHT
BEGIN:STANDARD
TZOFFSETFROM:-0700
TZOFFSETTO:-0800
TZNAME:PST
DTSTART:20211107T090000
END:STANDARD
BEGIN:DAYLIGHT
TZOFFSETFROM:-0800
TZOFFSETTO:-0700
TZNAME:PDT
DTSTART:20220313T100000
END:DAYLIGHT
BEGIN:STANDARD
TZOFFSETFROM:-0700
TZOFFSETTO:-0800
TZNAME:PST
DTSTART:20221106T090000
END:STANDARD
END:VTIMEZONE
BEGIN:VEVENT
DTSTART;TZID=America/Los_Angeles:20211211T180000
DTEND;TZID=America/Los_Angeles:20211211T183000
DTSTAMP:20260419T123557
CREATED:20211209T194919Z
LAST-MODIFIED:20211209T195745Z
UID:9771-1639245600-1639247400@visitcadelta.com
SUMMARY:Isleton Christmas Tree Lighting
DESCRIPTION:The City of Isleton is will light up the night with their town Christmas tree! The tree will be located between Peter’s Steakhouse and Manny’s Barzzeria\, so make sure to stop in for dinner after the tree lighting ceremony!
URL:https://visitcadelta.com/event/isleton-christmas-tree-lighting/
LOCATION:2nd Street\, Isleton\, 2nd Street\, Isleton\, CA\, 95641\, United States
CATEGORIES:Family Friendly,Holiday Celebrations
GEO:38.1619586;-121.6104277
X-APPLE-STRUCTURED-LOCATION;VALUE=URI;X-ADDRESS=2nd Street Isleton 2nd Street Isleton CA 95641 United States;X-APPLE-RADIUS=500;X-TITLE=2nd Street:geo:-121.6104277,38.1619586
END:VEVENT
END:VCALENDAR