BEGIN:VCALENDAR
VERSION:2.0
PRODID:-//Visit the California Delta - ECPv6.15.18//NONSGML v1.0//EN
CALSCALE:GREGORIAN
METHOD:PUBLISH
X-WR-CALNAME:Visit the California Delta
X-ORIGINAL-URL:https://visitcadelta.com
X-WR-CALDESC:Events for Visit the California Delta
REFRESH-INTERVAL;VALUE=DURATION:PT1H
X-Robots-Tag:noindex
X-PUBLISHED-TTL:PT1H
BEGIN:VTIMEZONE
TZID:America/Los_Angeles
BEGIN:DAYLIGHT
TZOFFSETFROM:-0800
TZOFFSETTO:-0700
TZNAME:PDT
DTSTART:20250309T100000
END:DAYLIGHT
BEGIN:STANDARD
TZOFFSETFROM:-0700
TZOFFSETTO:-0800
TZNAME:PST
DTSTART:20251102T090000
END:STANDARD
BEGIN:DAYLIGHT
TZOFFSETFROM:-0800
TZOFFSETTO:-0700
TZNAME:PDT
DTSTART:20260308T100000
END:DAYLIGHT
BEGIN:STANDARD
TZOFFSETFROM:-0700
TZOFFSETTO:-0800
TZNAME:PST
DTSTART:20261101T090000
END:STANDARD
BEGIN:DAYLIGHT
TZOFFSETFROM:-0800
TZOFFSETTO:-0700
TZNAME:PDT
DTSTART:20270314T100000
END:DAYLIGHT
BEGIN:STANDARD
TZOFFSETFROM:-0700
TZOFFSETTO:-0800
TZNAME:PST
DTSTART:20271107T090000
END:STANDARD
END:VTIMEZONE
BEGIN:VEVENT
DTSTART;TZID=America/Los_Angeles:20260404T090000
DTEND;TZID=America/Los_Angeles:20260404T113000
DTSTAMP:20260419T140711
CREATED:20260330T180831Z
LAST-MODIFIED:20260330T180831Z
UID:11561-1775293200-1775302200@visitcadelta.com
SUMMARY:Antioch Rotary Bunny Hop 5K in Antioch
DESCRIPTION:Join the Antioch Rotary Club for a fun\, family-friendly 5K at Antioch Community Park. The event includes a timed run\, kids’ activities\, an Easter egg hunt\, and a free pancake breakfast.
URL:https://visitcadelta.com/event/antioch-rotary-bunny-hop-5k-in-antioch/
LOCATION:Antioch Community Park\, 801 James Donlon Blvd\, Antioch\, CA\, 94509\, CA\, 94509\, United States
END:VEVENT
END:VCALENDAR