BEGIN:VCALENDAR
VERSION:2.0
PRODID:-//Visit the California Delta - ECPv6.15.18//NONSGML v1.0//EN
CALSCALE:GREGORIAN
METHOD:PUBLISH
X-WR-CALNAME:Visit the California Delta
X-ORIGINAL-URL:https://visitcadelta.com
X-WR-CALDESC:Events for Visit the California Delta
REFRESH-INTERVAL;VALUE=DURATION:PT1H
X-Robots-Tag:noindex
X-PUBLISHED-TTL:PT1H
BEGIN:VTIMEZONE
TZID:America/Los_Angeles
BEGIN:DAYLIGHT
TZOFFSETFROM:-0800
TZOFFSETTO:-0700
TZNAME:PDT
DTSTART:20180311T100000
END:DAYLIGHT
BEGIN:STANDARD
TZOFFSETFROM:-0700
TZOFFSETTO:-0800
TZNAME:PST
DTSTART:20181104T090000
END:STANDARD
BEGIN:DAYLIGHT
TZOFFSETFROM:-0800
TZOFFSETTO:-0700
TZNAME:PDT
DTSTART:20190310T100000
END:DAYLIGHT
BEGIN:STANDARD
TZOFFSETFROM:-0700
TZOFFSETTO:-0800
TZNAME:PST
DTSTART:20191103T090000
END:STANDARD
BEGIN:DAYLIGHT
TZOFFSETFROM:-0800
TZOFFSETTO:-0700
TZNAME:PDT
DTSTART:20200308T100000
END:DAYLIGHT
BEGIN:STANDARD
TZOFFSETFROM:-0700
TZOFFSETTO:-0800
TZNAME:PST
DTSTART:20201101T090000
END:STANDARD
BEGIN:DAYLIGHT
TZOFFSETFROM:-0800
TZOFFSETTO:-0700
TZNAME:PDT
DTSTART:20210314T100000
END:DAYLIGHT
BEGIN:STANDARD
TZOFFSETFROM:-0700
TZOFFSETTO:-0800
TZNAME:PST
DTSTART:20211107T090000
END:STANDARD
BEGIN:DAYLIGHT
TZOFFSETFROM:-0800
TZOFFSETTO:-0700
TZNAME:PDT
DTSTART:20220313T100000
END:DAYLIGHT
BEGIN:STANDARD
TZOFFSETFROM:-0700
TZOFFSETTO:-0800
TZNAME:PST
DTSTART:20221106T090000
END:STANDARD
BEGIN:DAYLIGHT
TZOFFSETFROM:-0800
TZOFFSETTO:-0700
TZNAME:PDT
DTSTART:20230312T100000
END:DAYLIGHT
BEGIN:STANDARD
TZOFFSETFROM:-0700
TZOFFSETTO:-0800
TZNAME:PST
DTSTART:20231105T090000
END:STANDARD
BEGIN:DAYLIGHT
TZOFFSETFROM:-0800
TZOFFSETTO:-0700
TZNAME:PDT
DTSTART:20240310T100000
END:DAYLIGHT
BEGIN:STANDARD
TZOFFSETFROM:-0700
TZOFFSETTO:-0800
TZNAME:PST
DTSTART:20241103T090000
END:STANDARD
BEGIN:DAYLIGHT
TZOFFSETFROM:-0800
TZOFFSETTO:-0700
TZNAME:PDT
DTSTART:20250309T100000
END:DAYLIGHT
BEGIN:STANDARD
TZOFFSETFROM:-0700
TZOFFSETTO:-0800
TZNAME:PST
DTSTART:20251102T090000
END:STANDARD
BEGIN:DAYLIGHT
TZOFFSETFROM:-0800
TZOFFSETTO:-0700
TZNAME:PDT
DTSTART:20260308T100000
END:DAYLIGHT
BEGIN:STANDARD
TZOFFSETFROM:-0700
TZOFFSETTO:-0800
TZNAME:PST
DTSTART:20261101T090000
END:STANDARD
BEGIN:DAYLIGHT
TZOFFSETFROM:-0800
TZOFFSETTO:-0700
TZNAME:PDT
DTSTART:20270314T100000
END:DAYLIGHT
BEGIN:STANDARD
TZOFFSETFROM:-0700
TZOFFSETTO:-0800
TZNAME:PST
DTSTART:20271107T090000
END:STANDARD
END:VTIMEZONE
BEGIN:VEVENT
DTSTART;TZID=America/Los_Angeles:20260416T183000
DTEND;TZID=America/Los_Angeles:20260416T200000
DTSTAMP:20260419T123752
CREATED:20260325T190515Z
LAST-MODIFIED:20260325T190515Z
UID:11526-1776364200-1776369600@visitcadelta.com
SUMMARY:Sip and Stroll in Oakley
DESCRIPTION:Join Big Break for a monthly social hour featuring themed mocktails\, hors d’oeuvres\, an art activity\, and an evening stroll in the park. This drop-in program is held every third Thursday of the month and meets at the Visitor Center. \nThe event is free and open to adults ages 18 and older.
URL:https://visitcadelta.com/event/sip-and-stroll-in-oakley/
LOCATION:Big Break Regional Shoreline\, 69 Big Break Rd\, Oakley\, CA\, 94561
END:VEVENT
BEGIN:VEVENT
DTSTART;TZID=America/Los_Angeles:20260329T130000
DTEND;TZID=America/Los_Angeles:20260329T143000
DTSTAMP:20260419T123752
CREATED:20260325T192459Z
LAST-MODIFIED:20260325T192459Z
UID:11548-1774789200-1774794600@visitcadelta.com
SUMMARY:The Poetry of Nature Journaling in Oakley
DESCRIPTION:  \nJoin Big Break for a nature journaling program featuring writing prompts and drawing techniques with guest Brentwood poet Maria Denney. Participants can explore creative expression outdoors through poetry and art. \nThis is a free event.
URL:https://visitcadelta.com/event/the-poetry-of-nature-journaling-in-oakley/
LOCATION:Big Break Regional Shoreline\, 69 Big Break Rd\, Oakley\, CA\, 94561
END:VEVENT
BEGIN:VEVENT
DTSTART;TZID=America/Los_Angeles:20260317T150000
DTEND;TZID=America/Los_Angeles:20260317T180000
DTSTAMP:20260419T123752
CREATED:20260203T194208Z
LAST-MODIFIED:20260203T194208Z
UID:11324-1773759600-1773770400@visitcadelta.com
SUMMARY:Kayaking Big Break in Oakley
DESCRIPTION:Join a guided kayak tour at Big Break to explore the Delta’s ecology and natural history while paddling through scenic waterways. Tandem kayaks\, safety gear\, and paddle instruction are provided. Participants may attend individually or with a partner. Adult or parent registration and participation are required for ages 10–17. \nThe tour meets at the Big Break Kayak Launch Site in Oakley. Participants should dress in layers and wear shoes that can get wet. A water bottle and a signed waiver are required.
URL:https://visitcadelta.com/event/kayaking-big-break-in-oakley/
LOCATION:Big Break Regional Shoreline\, 69 Big Break Rd\, Oakley\, CA\, 94561
END:VEVENT
BEGIN:VEVENT
DTSTART;TZID=America/Los_Angeles:20251122T173000
DTEND;TZID=America/Los_Angeles:20251122T203000
DTSTAMP:20260419T123752
CREATED:20251114T190133Z
LAST-MODIFIED:20251114T190133Z
UID:10656-1763832600-1763843400@visitcadelta.com
SUMMARY:Big Break Star Party
DESCRIPTION:A special evening of stargazing at Big Break Regional Shoreline. Visitors will discover constellations and “learn about our place in the galaxy.” Only red light headlamps or red lens flashlights are allowed – white light disrupts the group’s night vision. This is a free drop-in program – no registration is required. For information call (510) 544-3050.
URL:https://visitcadelta.com/event/big-break-star-party/
LOCATION:Big Break Regional Shoreline\, 69 Big Break Rd\, Oakley\, CA\, 94561
END:VEVENT
BEGIN:VEVENT
DTSTART;TZID=America/Los_Angeles:20220219T090000
DTEND;TZID=America/Los_Angeles:20220219T100000
DTSTAMP:20260419T123752
CREATED:20220210T214220Z
LAST-MODIFIED:20220210T214950Z
UID:9983-1645261200-1645264800@visitcadelta.com
SUMMARY:Great Backyard Bird Count
DESCRIPTION:Bring your passion for birds and help scientists gather data. Every February for four days\, the community count birds\, which helps to understand their populations and migration\, as the Delta supports an incredible variety of birds.
URL:https://visitcadelta.com/event/great-backyard-bird-count-2022/
LOCATION:Big Break Regional Shoreline\, 69 Big Break Rd\, Oakley\, CA\, 94561
CATEGORIES:Family Friendly,Nature and Recreation
END:VEVENT
BEGIN:VEVENT
DTSTART;TZID=America/Los_Angeles:20190816T100000
DTEND;TZID=America/Los_Angeles:20190818T160000
DTSTAMP:20260419T123752
CREATED:20190722T205742Z
LAST-MODIFIED:20190722T205905Z
UID:7521-1565949600-1566144000@visitcadelta.com
SUMMARY:Big Break Photography Exhibition
DESCRIPTION:View spectacular photographs of East Bay Regional Parks taken by visitors and local photographers. Explore the diversity of East Bay’s culture and environment through this three day exhibition and learn about these photographs by attending the reception/ photo hike on Friday\, August 16. \nFind out more details on the event page. \n  \n 
URL:https://visitcadelta.com/event/big-break-photography-exhibition/
LOCATION:Big Break Regional Shoreline\, 69 Big Break Rd\, Oakley\, CA\, 94561
CATEGORIES:Family Friendly,Music Art Culture
ATTACH;FMTTYPE=image/jpeg:https://visitcadelta.com/wp-content/uploads/2019/07/bigbreakvc2.jpg
END:VEVENT
BEGIN:VEVENT
DTSTART;TZID=America/Los_Angeles:20190811T183000
DTEND;TZID=America/Los_Angeles:20190811T200000
DTSTAMP:20260419T123752
CREATED:20190806T231526Z
LAST-MODIFIED:20190806T231526Z
UID:7644-1565548200-1565553600@visitcadelta.com
SUMMARY:Second Sundays Campfire
DESCRIPTION:Gather around the campfire and enjoy Sunday evening with your family! This campfire discussion will be on the topic of our SOLAR SYSTEM! Fun fact: We’re nowhere near the center of the galaxy.\n\nThere will be plenty of fun activities for kids to enjoy and lots to learn about Big Break Regional Shoreline. This event is FREE and registration is not required – just show up! Don’t forget the s’mores!
URL:https://visitcadelta.com/event/oakley-second-sundays-campfire-8-11-19/
LOCATION:Big Break Regional Shoreline\, 69 Big Break Rd\, Oakley\, CA\, 94561
CATEGORIES:Family Friendly,Nature and Recreation
ATTACH;FMTTYPE=image/jpeg:https://visitcadelta.com/wp-content/uploads/2018/08/38391693_2029070380496291_7739039048823472128_n.jpg
END:VEVENT
END:VCALENDAR