BEGIN:VCALENDAR
VERSION:2.0
PRODID:-//Visit the California Delta - ECPv6.15.18//NONSGML v1.0//EN
CALSCALE:GREGORIAN
METHOD:PUBLISH
X-WR-CALNAME:Visit the California Delta
X-ORIGINAL-URL:https://visitcadelta.com
X-WR-CALDESC:Events for Visit the California Delta
REFRESH-INTERVAL;VALUE=DURATION:PT1H
X-Robots-Tag:noindex
X-PUBLISHED-TTL:PT1H
BEGIN:VTIMEZONE
TZID:America/Los_Angeles
BEGIN:DAYLIGHT
TZOFFSETFROM:-0800
TZOFFSETTO:-0700
TZNAME:PDT
DTSTART:20180311T100000
END:DAYLIGHT
BEGIN:STANDARD
TZOFFSETFROM:-0700
TZOFFSETTO:-0800
TZNAME:PST
DTSTART:20181104T090000
END:STANDARD
BEGIN:DAYLIGHT
TZOFFSETFROM:-0800
TZOFFSETTO:-0700
TZNAME:PDT
DTSTART:20190310T100000
END:DAYLIGHT
BEGIN:STANDARD
TZOFFSETFROM:-0700
TZOFFSETTO:-0800
TZNAME:PST
DTSTART:20191103T090000
END:STANDARD
BEGIN:DAYLIGHT
TZOFFSETFROM:-0800
TZOFFSETTO:-0700
TZNAME:PDT
DTSTART:20200308T100000
END:DAYLIGHT
BEGIN:STANDARD
TZOFFSETFROM:-0700
TZOFFSETTO:-0800
TZNAME:PST
DTSTART:20201101T090000
END:STANDARD
END:VTIMEZONE
BEGIN:VEVENT
DTSTART;TZID=America/Los_Angeles:20190824T180000
DTEND;TZID=America/Los_Angeles:20190824T220000
DTSTAMP:20260419T141856
CREATED:20190723T202043Z
LAST-MODIFIED:20190723T202832Z
UID:7542-1566669600-1566684000@visitcadelta.com
SUMMARY:Paella Party at Bogle Winery
DESCRIPTION:It’s not your typical night out at Bogle Winery. Bogle is turning into a little like Spain. Serving up delicious tapas\, sangria\, and the star dish of the night.. paella! All cooked by Zocalo’s Chef Ryan Rose. Enjoy the rest of the evening dancing to music by Latin band Maya with a glass of wine on hand. \nGeneral Admission $60/ $50 Club Members \nFor tickets and details\, visit Bogle Winery.
URL:https://visitcadelta.com/event/paella-party-bogle-winery/
LOCATION:Bogle Winery\, 37783 County Road 144\, Clarksburg\, CA\, 95612
CATEGORIES:Food and Drink
ATTACH;FMTTYPE=image/jpeg:https://visitcadelta.com/wp-content/uploads/2019/07/paella-1167973_640111.jpg
END:VEVENT
BEGIN:VEVENT
DTSTART;TZID=America/Los_Angeles:20190719T170000
DTEND;TZID=America/Los_Angeles:20190719T200000
DTSTAMP:20260419T141856
CREATED:20190625T174630Z
LAST-MODIFIED:20190710T183124Z
UID:7438-1563555600-1563566400@visitcadelta.com
SUMMARY:Bogle Vineyards Friday Alfresco
DESCRIPTION:Make plans to spend your summer evening outdoors at Bogle Vineyards. With the sun setting in the background and a wine glass on hand\, rock on live music performed by Dr. Rock and The Stuff. Afterwards\, grab a bite to eat with food vendors on site featuring 808 Street Grindz and Masa Guiseria. Event proceeds go towards benefiting Habitat for Humanity. \nGeneral admission $15\, Bandwagon members $10 \nSee flyer for event details or check out Bogle Vineyards for other events.
URL:https://visitcadelta.com/event/bogle-vineyards-friday-alfresco/
LOCATION:Bogle Winery\, 37783 County Road 144\, Clarksburg\, CA\, 95612
CATEGORIES:Food and Drink
ATTACH;FMTTYPE=image/png:https://visitcadelta.com/wp-content/uploads/2019/06/boglevcad.png
END:VEVENT
END:VCALENDAR