BEGIN:VCALENDAR
VERSION:2.0
PRODID:-//Visit the California Delta - ECPv6.15.18//NONSGML v1.0//EN
CALSCALE:GREGORIAN
METHOD:PUBLISH
X-WR-CALNAME:Visit the California Delta
X-ORIGINAL-URL:https://visitcadelta.com
X-WR-CALDESC:Events for Visit the California Delta
REFRESH-INTERVAL;VALUE=DURATION:PT1H
X-Robots-Tag:noindex
X-PUBLISHED-TTL:PT1H
BEGIN:VTIMEZONE
TZID:America/Los_Angeles
BEGIN:DAYLIGHT
TZOFFSETFROM:-0800
TZOFFSETTO:-0700
TZNAME:PDT
DTSTART:20190310T100000
END:DAYLIGHT
BEGIN:STANDARD
TZOFFSETFROM:-0700
TZOFFSETTO:-0800
TZNAME:PST
DTSTART:20191103T090000
END:STANDARD
BEGIN:DAYLIGHT
TZOFFSETFROM:-0800
TZOFFSETTO:-0700
TZNAME:PDT
DTSTART:20200308T100000
END:DAYLIGHT
BEGIN:STANDARD
TZOFFSETFROM:-0700
TZOFFSETTO:-0800
TZNAME:PST
DTSTART:20201101T090000
END:STANDARD
BEGIN:DAYLIGHT
TZOFFSETFROM:-0800
TZOFFSETTO:-0700
TZNAME:PDT
DTSTART:20210314T100000
END:DAYLIGHT
BEGIN:STANDARD
TZOFFSETFROM:-0700
TZOFFSETTO:-0800
TZNAME:PST
DTSTART:20211107T090000
END:STANDARD
END:VTIMEZONE
BEGIN:VEVENT
DTSTART;TZID=America/Los_Angeles:20200127T183000
DTEND;TZID=America/Los_Angeles:20200127T190000
DTSTAMP:20260419T162029
CREATED:20191224T001010Z
LAST-MODIFIED:20191226T182611Z
UID:8177-1580149800-1580151600@visitcadelta.com
SUMMARY:Chinese New Year Celebration
DESCRIPTION:In celebration of the Year of the Rat\, watch live lion dancers perform with high spirits and move in dramatic forms. Listen to live music by Concord Kung Fu Academy and be ready to be in awe this evening performance at the Brentwood Library. \nFor details\, visit the Brentwood Community Center event page.
URL:https://visitcadelta.com/event/chinese-new-year-celebration/
LOCATION:Brentwood Library\, 104 Oak Street\, Brentwood\, CA\, 94513
CATEGORIES:Family Friendly,Music Art Culture
ATTACH;FMTTYPE=image/png:https://visitcadelta.com/wp-content/uploads/2019/12/chinese-ny-lionsvcad.png
END:VEVENT
END:VCALENDAR