BEGIN:VCALENDAR
VERSION:2.0
PRODID:-//Visit the California Delta - ECPv6.15.18//NONSGML v1.0//EN
CALSCALE:GREGORIAN
METHOD:PUBLISH
X-ORIGINAL-URL:https://visitcadelta.com
X-WR-CALDESC:Events for Visit the California Delta
REFRESH-INTERVAL;VALUE=DURATION:PT1H
X-Robots-Tag:noindex
X-PUBLISHED-TTL:PT1H
BEGIN:VTIMEZONE
TZID:America/Los_Angeles
BEGIN:DAYLIGHT
TZOFFSETFROM:-0800
TZOFFSETTO:-0700
TZNAME:PDT
DTSTART:20180311T100000
END:DAYLIGHT
BEGIN:STANDARD
TZOFFSETFROM:-0700
TZOFFSETTO:-0800
TZNAME:PST
DTSTART:20181104T090000
END:STANDARD
BEGIN:DAYLIGHT
TZOFFSETFROM:-0800
TZOFFSETTO:-0700
TZNAME:PDT
DTSTART:20190310T100000
END:DAYLIGHT
BEGIN:STANDARD
TZOFFSETFROM:-0700
TZOFFSETTO:-0800
TZNAME:PST
DTSTART:20191103T090000
END:STANDARD
BEGIN:DAYLIGHT
TZOFFSETFROM:-0800
TZOFFSETTO:-0700
TZNAME:PDT
DTSTART:20200308T100000
END:DAYLIGHT
BEGIN:STANDARD
TZOFFSETFROM:-0700
TZOFFSETTO:-0800
TZNAME:PST
DTSTART:20201101T090000
END:STANDARD
BEGIN:DAYLIGHT
TZOFFSETFROM:-0800
TZOFFSETTO:-0700
TZNAME:PDT
DTSTART:20210314T100000
END:DAYLIGHT
BEGIN:STANDARD
TZOFFSETFROM:-0700
TZOFFSETTO:-0800
TZNAME:PST
DTSTART:20211107T090000
END:STANDARD
END:VTIMEZONE
BEGIN:VEVENT
DTSTART;TZID=America/Los_Angeles:20201204T180000
DTEND;TZID=America/Los_Angeles:20201204T220000
DTSTAMP:20260419T163813
CREATED:20201118T205428Z
LAST-MODIFIED:20201118T205946Z
UID:9349-1607104800-1607119200@visitcadelta.com
SUMMARY:Annual Christmas Tree Lighting at Campos Family Vineyards
DESCRIPTION:Join Campos Family Vineyards for its Annual Christmas Tree Lighting. This family-friendly event also features Christmas carols\, music\, an outdoor holiday movie\, and family photos (tickets required). Food trucks and a s’mores bar are also available. As the event will be held outdoors\, please dress accordingly. Check in begins at 6pm with the tree lighting at 7pm.
URL:https://visitcadelta.com/event/annual-christmas-tree-lighting/
LOCATION:Campos Family Vineyards\, 3501 Byer Rd.\, Byron\, CA\, 94514
CATEGORIES:Family Friendly,Food and Drink
ATTACH;FMTTYPE=image/png:https://visitcadelta.com/wp-content/uploads/2020/11/36691_image-980x494-2.png
END:VEVENT
BEGIN:VEVENT
DTSTART;TZID=America/Los_Angeles:20201128T120000
DTEND;TZID=America/Los_Angeles:20201128T170000
DTSTAMP:20260419T163813
CREATED:20201118T183925Z
LAST-MODIFIED:20201119T215729Z
UID:9346-1606564800-1606582800@visitcadelta.com
SUMMARY:Holiday Sip and Shop at Campos Family Vineyards
DESCRIPTION:Great food\, great wine\, and a day to enjoy time with family and friends! Local vendors will available for shopping and food trucks will be on hand – perfectly timed for Small Business Saturday. This family-friendly event is free and will take place rain or shine! Check out other places to find that perfect holiday gift at https://visitcadelta.com/what-to-do/shopping-and-boutiques/.
URL:https://visitcadelta.com/event/holiday-sip-shop-campos-family-vineyards/
LOCATION:Campos Family Vineyards\, 3501 Byer Rd.\, Byron\, CA\, 94514
CATEGORIES:Family Friendly,Food and Drink
ATTACH;FMTTYPE=image/png:https://visitcadelta.com/wp-content/uploads/2020/11/36655_image-980x494-1.png
END:VEVENT
BEGIN:VEVENT
DTSTART;TZID=America/Los_Angeles:20191130T120000
DTEND;TZID=America/Los_Angeles:20191130T170000
DTSTAMP:20260419T163813
CREATED:20191017T153715Z
LAST-MODIFIED:20191017T153715Z
UID:7859-1575115200-1575133200@visitcadelta.com
SUMMARY:4th Annual Holiday Sip & Shop
DESCRIPTION:Don’t stop the shopping! Over 30 vendors will bring the goods right to you along with food trucks to keep you stuffed. Get groovy with gift wrapping as you sip on wine and listen to a DJ live. The Sisters on the Fly Vintage Travel trailers will also show off their charming design and colors. Continue the good vibes by taking a chance for awesome raffle prizes\, all proceeds will go to a non-profit organization\, Together We Rise. \nView more details on Eventbrite.
URL:https://visitcadelta.com/event/4th-annual-holiday-sip-shop-2019/
LOCATION:Campos Family Vineyards\, 3501 Byer Rd.\, Byron\, CA\, 94514
CATEGORIES:Family Friendly,Food and Drink
ATTACH;FMTTYPE=image/jpeg:https://visitcadelta.com/wp-content/uploads/2018/11/gift-2870161_960_7201.jpg
END:VEVENT
END:VCALENDAR