BEGIN:VCALENDAR
VERSION:2.0
PRODID:-//Visit the California Delta - ECPv6.15.18//NONSGML v1.0//EN
CALSCALE:GREGORIAN
METHOD:PUBLISH
X-ORIGINAL-URL:https://visitcadelta.com
X-WR-CALDESC:Events for Visit the California Delta
REFRESH-INTERVAL;VALUE=DURATION:PT1H
X-Robots-Tag:noindex
X-PUBLISHED-TTL:PT1H
BEGIN:VTIMEZONE
TZID:America/Los_Angeles
BEGIN:DAYLIGHT
TZOFFSETFROM:-0800
TZOFFSETTO:-0700
TZNAME:PDT
DTSTART:20210314T100000
END:DAYLIGHT
BEGIN:STANDARD
TZOFFSETFROM:-0700
TZOFFSETTO:-0800
TZNAME:PST
DTSTART:20211107T090000
END:STANDARD
BEGIN:DAYLIGHT
TZOFFSETFROM:-0800
TZOFFSETTO:-0700
TZNAME:PDT
DTSTART:20220313T100000
END:DAYLIGHT
BEGIN:STANDARD
TZOFFSETFROM:-0700
TZOFFSETTO:-0800
TZNAME:PST
DTSTART:20221106T090000
END:STANDARD
BEGIN:DAYLIGHT
TZOFFSETFROM:-0800
TZOFFSETTO:-0700
TZNAME:PDT
DTSTART:20230312T100000
END:DAYLIGHT
BEGIN:STANDARD
TZOFFSETFROM:-0700
TZOFFSETTO:-0800
TZNAME:PST
DTSTART:20231105T090000
END:STANDARD
END:VTIMEZONE
BEGIN:VEVENT
DTSTART;TZID=America/Los_Angeles:20220205T100000
DTEND;TZID=America/Los_Angeles:20220205T140000
DTSTAMP:20260419T110531
CREATED:20211227T220453Z
LAST-MODIFIED:20211227T220612Z
UID:9836-1644055200-1644069600@visitcadelta.com
SUMMARY:Galt Winter Bird Festival
DESCRIPTION:The Galt Winter Bird Festival is a live & virtual celebration of birds\, providing an in-person and online experience to continue Galt’s tradition of connecting the community to nature and growing the knowledge and love of birding. Enjoy a bird photography exhibit\, presentations\, and tours. There will also be kid’s activities and a youth art contest. \nGalt is just beyond the Delta’s boundaries\, but birds don’t care about map boundaries do they?  If you love birding in the Delta\, you will love the Galt Winter Bird Festival!
URL:https://visitcadelta.com/event/galt-winter-bird-festival/
LOCATION:Chabolla Community Center\, 610 Chabolla Avenue\, Galt\, 95632\, United States
CATEGORIES:Family Friendly,Nature and Recreation
GEO:38.25066;-121.2983584
X-APPLE-STRUCTURED-LOCATION;VALUE=URI;X-ADDRESS=Chabolla Community Center 610 Chabolla Avenue Galt 95632 United States;X-APPLE-RADIUS=500;X-TITLE=610 Chabolla Avenue:geo:-121.2983584,38.25066
END:VEVENT
END:VCALENDAR