BEGIN:VCALENDAR
VERSION:2.0
PRODID:-//Visit the California Delta - ECPv6.15.18//NONSGML v1.0//EN
CALSCALE:GREGORIAN
METHOD:PUBLISH
X-ORIGINAL-URL:https://visitcadelta.com
X-WR-CALDESC:Events for Visit the California Delta
REFRESH-INTERVAL;VALUE=DURATION:PT1H
X-Robots-Tag:noindex
X-PUBLISHED-TTL:PT1H
BEGIN:VTIMEZONE
TZID:America/Los_Angeles
BEGIN:DAYLIGHT
TZOFFSETFROM:-0800
TZOFFSETTO:-0700
TZNAME:PDT
DTSTART:20250309T100000
END:DAYLIGHT
BEGIN:STANDARD
TZOFFSETFROM:-0700
TZOFFSETTO:-0800
TZNAME:PST
DTSTART:20251102T090000
END:STANDARD
BEGIN:DAYLIGHT
TZOFFSETFROM:-0800
TZOFFSETTO:-0700
TZNAME:PDT
DTSTART:20260308T100000
END:DAYLIGHT
BEGIN:STANDARD
TZOFFSETFROM:-0700
TZOFFSETTO:-0800
TZNAME:PST
DTSTART:20261101T090000
END:STANDARD
BEGIN:DAYLIGHT
TZOFFSETFROM:-0800
TZOFFSETTO:-0700
TZNAME:PDT
DTSTART:20270314T100000
END:DAYLIGHT
BEGIN:STANDARD
TZOFFSETFROM:-0700
TZOFFSETTO:-0800
TZNAME:PST
DTSTART:20271107T090000
END:STANDARD
END:VTIMEZONE
BEGIN:VEVENT
DTSTART;TZID=America/Los_Angeles:20260124T113000
DTEND;TZID=America/Los_Angeles:20260124T143000
DTSTAMP:20260419T174254
CREATED:20251222T184623Z
LAST-MODIFIED:20251222T184623Z
UID:10906-1769254200-1769265000@visitcadelta.com
SUMMARY:Contra Costa County Historical Society Annual Membership Meeting and Luncheon in Concord
DESCRIPTION:Join the Contra Costa County Historical Society to commemorate the 250th anniversary of the Juan Bautista de Anza Expedition and the 75th anniversary of CCCHS. \nPresentations by CCCHS staff\, along with board member and historian Beverly Lane\, will highlight Anza’s journey through present-day Contra Costa County and the founding of CCCHS. Lunch and beverages will be served\, with raffle drawings and book sales. \nParking is limited behind the Concord Museum and Event Center\, and Galindo House.
URL:https://visitcadelta.com/event/contra-costa-county-historical-society-annual-membership-meeting-and-luncheon-in-concord/
LOCATION:Concord Museum and Event Center\, 1928 Clayton Road\, Concord\, CA\, 94520\, United States
END:VEVENT
BEGIN:VEVENT
DTSTART;TZID=America/Los_Angeles:20260111T140000
DTEND;TZID=America/Los_Angeles:20260111T170000
DTSTAMP:20260419T174254
CREATED:20251209T171836Z
LAST-MODIFIED:20251217T164946Z
UID:10833-1768140000-1768150800@visitcadelta.com
SUMMARY:Speaker's Series in Concord - Lindsay Marie Morris
DESCRIPTION:Author Lindsay Marie Morris will be discussing her book “Beneath the Sicilian Stars.” This is a free event with books available for purchase and signing. Parking will be available on Marina Ct.
URL:https://visitcadelta.com/event/speakers-series-lindsay-marie-morris/
LOCATION:Concord Museum and Event Center\, 1928 Clayton Road\, Concord\, CA\, 94520\, United States
END:VEVENT
END:VCALENDAR