BEGIN:VCALENDAR
VERSION:2.0
PRODID:-//Visit the California Delta - ECPv6.15.18//NONSGML v1.0//EN
CALSCALE:GREGORIAN
METHOD:PUBLISH
X-WR-CALNAME:Visit the California Delta
X-ORIGINAL-URL:https://visitcadelta.com
X-WR-CALDESC:Events for Visit the California Delta
REFRESH-INTERVAL;VALUE=DURATION:PT1H
X-Robots-Tag:noindex
X-PUBLISHED-TTL:PT1H
BEGIN:VTIMEZONE
TZID:America/Los_Angeles
BEGIN:DAYLIGHT
TZOFFSETFROM:-0800
TZOFFSETTO:-0700
TZNAME:PDT
DTSTART:20190310T100000
END:DAYLIGHT
BEGIN:STANDARD
TZOFFSETFROM:-0700
TZOFFSETTO:-0800
TZNAME:PST
DTSTART:20191103T090000
END:STANDARD
BEGIN:DAYLIGHT
TZOFFSETFROM:-0800
TZOFFSETTO:-0700
TZNAME:PDT
DTSTART:20200308T100000
END:DAYLIGHT
BEGIN:STANDARD
TZOFFSETFROM:-0700
TZOFFSETTO:-0800
TZNAME:PST
DTSTART:20201101T090000
END:STANDARD
BEGIN:DAYLIGHT
TZOFFSETFROM:-0800
TZOFFSETTO:-0700
TZNAME:PDT
DTSTART:20210314T100000
END:DAYLIGHT
BEGIN:STANDARD
TZOFFSETFROM:-0700
TZOFFSETTO:-0800
TZNAME:PST
DTSTART:20211107T090000
END:STANDARD
BEGIN:DAYLIGHT
TZOFFSETFROM:-0800
TZOFFSETTO:-0700
TZNAME:PDT
DTSTART:20220313T100000
END:DAYLIGHT
BEGIN:STANDARD
TZOFFSETFROM:-0700
TZOFFSETTO:-0800
TZNAME:PST
DTSTART:20221106T090000
END:STANDARD
BEGIN:DAYLIGHT
TZOFFSETFROM:-0800
TZOFFSETTO:-0700
TZNAME:PDT
DTSTART:20230312T100000
END:DAYLIGHT
BEGIN:STANDARD
TZOFFSETFROM:-0700
TZOFFSETTO:-0800
TZNAME:PST
DTSTART:20231105T090000
END:STANDARD
END:VTIMEZONE
BEGIN:VEVENT
DTSTART;TZID=America/Los_Angeles:20220512T120000
DTEND;TZID=America/Los_Angeles:20220515T220000
DTSTAMP:20260419T161104
CREATED:20220310T215629Z
LAST-MODIFIED:20220310T215629Z
UID:10016-1652356800-1652652000@visitcadelta.com
SUMMARY:Contra Costa County Fair
DESCRIPTION:Bring your whole family to the Annual County Fair. Featuring exciting exhibits\, petting zoo\, carnival\, rides\, and food! Highlighting Contra Costa County’s agricultural heritage\, come enjoy all it has to offer in the fair.
URL:https://visitcadelta.com/event/contra-costa-county-fair-2022/
LOCATION:Contra Costa Event Park\, 1201 West 10th St.\, Antioch\, CA\, 94509
CATEGORIES:Family Friendly
END:VEVENT
BEGIN:VEVENT
DTSTART;VALUE=DATE:20200514
DTEND;VALUE=DATE:20200518
DTSTAMP:20260419T161104
CREATED:20200115T193939Z
LAST-MODIFIED:20200325T163336Z
UID:8326-1589414400-1589759999@visitcadelta.com
SUMMARY:Contra Costa County Fair 2020 - CANCELED
DESCRIPTION:UPDATE: DUE TO CURRENT EVENTS OF COVID-19\, THIS EVENT HAS BEEN CANCELED. SEE THE CONTRA COSTA COUNTY FAIR WEBSITE FOR MORE DETAILS. \nA weekend celebrating the best of Contra Costa. Entertainment lined up for everyone from shows\, Antioch Speedway events\, livestock\, and exhibits. You also can’t say a fair is a fair without FAIR FOOD!  Go on a sweet adventure and tour the highlights of Contra Costa county. \nFor tickets and details\, visit Contra Costa County Fair. \n 
URL:https://visitcadelta.com/event/contra-costa-county-fair-2020/
LOCATION:Contra Costa Event Park\, 1201 West 10th St.\, Antioch\, CA\, 94509
CATEGORIES:Family Friendly,Food and Drink,Music Art Culture
ATTACH;FMTTYPE=image/jpeg:https://visitcadelta.com/wp-content/uploads/2019/04/1b90951b-00c0-43d5-93e6-fdacf12122bc.jpg
END:VEVENT
END:VCALENDAR