BEGIN:VCALENDAR
VERSION:2.0
PRODID:-//Visit the California Delta - ECPv6.15.18//NONSGML v1.0//EN
CALSCALE:GREGORIAN
METHOD:PUBLISH
X-WR-CALNAME:Visit the California Delta
X-ORIGINAL-URL:https://visitcadelta.com
X-WR-CALDESC:Events for Visit the California Delta
REFRESH-INTERVAL;VALUE=DURATION:PT1H
X-Robots-Tag:noindex
X-PUBLISHED-TTL:PT1H
BEGIN:VTIMEZONE
TZID:America/Los_Angeles
BEGIN:DAYLIGHT
TZOFFSETFROM:-0800
TZOFFSETTO:-0700
TZNAME:PDT
DTSTART:20250309T100000
END:DAYLIGHT
BEGIN:STANDARD
TZOFFSETFROM:-0700
TZOFFSETTO:-0800
TZNAME:PST
DTSTART:20251102T090000
END:STANDARD
BEGIN:DAYLIGHT
TZOFFSETFROM:-0800
TZOFFSETTO:-0700
TZNAME:PDT
DTSTART:20260308T100000
END:DAYLIGHT
BEGIN:STANDARD
TZOFFSETFROM:-0700
TZOFFSETTO:-0800
TZNAME:PST
DTSTART:20261101T090000
END:STANDARD
BEGIN:DAYLIGHT
TZOFFSETFROM:-0800
TZOFFSETTO:-0700
TZNAME:PDT
DTSTART:20270314T100000
END:DAYLIGHT
BEGIN:STANDARD
TZOFFSETFROM:-0700
TZOFFSETTO:-0800
TZNAME:PST
DTSTART:20271107T090000
END:STANDARD
END:VTIMEZONE
BEGIN:VEVENT
DTSTART;TZID=America/Los_Angeles:20260221T100000
DTEND;TZID=America/Los_Angeles:20260222T160000
DTSTAMP:20260419T225955
CREATED:20260203T193026Z
LAST-MODIFIED:20260203T193026Z
UID:11311-1771668000-1771776000@visitcadelta.com
SUMMARY:Antioch Lapidary Club Jewelry\, Gem & Rock Show in Antioch
DESCRIPTION:Join the Antioch Lapidary Club for its annual Jewelry\, Gem\, and Rock Show at the Contra Costa County Fairgrounds. The event features jewelry\, gems\, supplies\, exhibits\, a silent auction\, raffle prizes\, and hands-on projects for kids.
URL:https://visitcadelta.com/event/antioch-lapidary-club-jewelry-gem-rock-show-in-antioch/
LOCATION:Contra Costa Fair Grounds\, 1201 West 10th Street\, Antioch\, CA\, 94509\, United States
END:VEVENT
END:VCALENDAR