BEGIN:VCALENDAR
VERSION:2.0
PRODID:-//Visit the California Delta - ECPv6.15.18//NONSGML v1.0//EN
CALSCALE:GREGORIAN
METHOD:PUBLISH
X-WR-CALNAME:Visit the California Delta
X-ORIGINAL-URL:https://visitcadelta.com
X-WR-CALDESC:Events for Visit the California Delta
REFRESH-INTERVAL;VALUE=DURATION:PT1H
X-Robots-Tag:noindex
X-PUBLISHED-TTL:PT1H
BEGIN:VTIMEZONE
TZID:America/Los_Angeles
BEGIN:DAYLIGHT
TZOFFSETFROM:-0800
TZOFFSETTO:-0700
TZNAME:PDT
DTSTART:20190310T100000
END:DAYLIGHT
BEGIN:STANDARD
TZOFFSETFROM:-0700
TZOFFSETTO:-0800
TZNAME:PST
DTSTART:20191103T090000
END:STANDARD
BEGIN:DAYLIGHT
TZOFFSETFROM:-0800
TZOFFSETTO:-0700
TZNAME:PDT
DTSTART:20200308T100000
END:DAYLIGHT
BEGIN:STANDARD
TZOFFSETFROM:-0700
TZOFFSETTO:-0800
TZNAME:PST
DTSTART:20201101T090000
END:STANDARD
BEGIN:DAYLIGHT
TZOFFSETFROM:-0800
TZOFFSETTO:-0700
TZNAME:PDT
DTSTART:20210314T100000
END:DAYLIGHT
BEGIN:STANDARD
TZOFFSETFROM:-0700
TZOFFSETTO:-0800
TZNAME:PST
DTSTART:20211107T090000
END:STANDARD
END:VTIMEZONE
BEGIN:VEVENT
DTSTART;TZID=America/Los_Angeles:20200202T120000
DTEND;TZID=America/Los_Angeles:20200202T170000
DTSTAMP:20260419T195148
CREATED:20200128T173531Z
LAST-MODIFIED:20200128T174257Z
UID:8366-1580644800-1580662800@visitcadelta.com
SUMMARY:Super Bowl Pre-game Party
DESCRIPTION:Make your way to Cosumnes River Farm for a “snack gate” before the Super Bowl! Bring a snack to share\, watch the pre-game show\, slurp a super bowl slushy\, and come hang with your friends. And yes\, the game will be on.. \nFor details\, visit Cosumnes River Farm.
URL:https://visitcadelta.com/event/super-bowl-pre-game-party/
LOCATION:Cosumnes River Farm\, 28305 Thornton Rd\, Thornton\, CA\, 95686
CATEGORIES:Food and Drink
ATTACH;FMTTYPE=image/jpeg:https://visitcadelta.com/wp-content/uploads/2020/01/bbq-2823726_640vcad.jpg
END:VEVENT
END:VCALENDAR