BEGIN:VCALENDAR
VERSION:2.0
PRODID:-//Visit the California Delta - ECPv6.15.18//NONSGML v1.0//EN
CALSCALE:GREGORIAN
METHOD:PUBLISH
X-WR-CALNAME:Visit the California Delta
X-ORIGINAL-URL:https://visitcadelta.com
X-WR-CALDESC:Events for Visit the California Delta
REFRESH-INTERVAL;VALUE=DURATION:PT1H
X-Robots-Tag:noindex
X-PUBLISHED-TTL:PT1H
BEGIN:VTIMEZONE
TZID:America/Los_Angeles
BEGIN:DAYLIGHT
TZOFFSETFROM:-0800
TZOFFSETTO:-0700
TZNAME:PDT
DTSTART:20210314T100000
END:DAYLIGHT
BEGIN:STANDARD
TZOFFSETFROM:-0700
TZOFFSETTO:-0800
TZNAME:PST
DTSTART:20211107T090000
END:STANDARD
BEGIN:DAYLIGHT
TZOFFSETFROM:-0800
TZOFFSETTO:-0700
TZNAME:PDT
DTSTART:20220313T100000
END:DAYLIGHT
BEGIN:STANDARD
TZOFFSETFROM:-0700
TZOFFSETTO:-0800
TZNAME:PST
DTSTART:20221106T090000
END:STANDARD
BEGIN:DAYLIGHT
TZOFFSETFROM:-0800
TZOFFSETTO:-0700
TZNAME:PDT
DTSTART:20230312T100000
END:DAYLIGHT
BEGIN:STANDARD
TZOFFSETFROM:-0700
TZOFFSETTO:-0800
TZNAME:PST
DTSTART:20231105T090000
END:STANDARD
END:VTIMEZONE
BEGIN:VEVENT
DTSTART;TZID=America/Los_Angeles:20220205T090000
DTEND;TZID=America/Los_Angeles:20220205T120000
DTSTAMP:20260419T073617
CREATED:20220131T182248Z
LAST-MODIFIED:20220131T183752Z
UID:9908-1644051600-1644062400@visitcadelta.com
SUMMARY:Natural and Cultural History Hike at Cosumnes River Preserve
DESCRIPTION:Join a 3.5 mile hike learning some of the natural and cultural history of the Cosumnes River Preserve. Learn about the Plains Miwok people\, landscape\, and wildlife on this free guided hike.
URL:https://visitcadelta.com/event/cosumnes-natural-and-cultural-history-hike/
LOCATION:Cosumnes River Preserve\, 13501 Franklin Blvd\, Galt\, CA\, 95632\, United States
CATEGORIES:Family Friendly,History and Heritage,Nature and Recreation
GEO:38.2657046;-121.4393238
X-APPLE-STRUCTURED-LOCATION;VALUE=URI;X-ADDRESS=Cosumnes River Preserve 13501 Franklin Blvd Galt CA 95632 United States;X-APPLE-RADIUS=500;X-TITLE=13501 Franklin Blvd:geo:-121.4393238,38.2657046
END:VEVENT
BEGIN:VEVENT
DTSTART;TZID=America/Los_Angeles:20220115T080000
DTEND;TZID=America/Los_Angeles:20220115T110000
DTSTAMP:20260419T073617
CREATED:20220131T182258Z
LAST-MODIFIED:20220202T221234Z
UID:9894-1642233600-1642244400@visitcadelta.com
SUMMARY:Guided Photography Walk
DESCRIPTION:Come to Cosumnes River Preserve for a two-hour guided walk focusing on photographing the Preserve. These free events will highlight photography techniques and opportunities to spot the unique and varied wildlife on the preserve.
URL:https://visitcadelta.com/event/guided-photography-walk-2022/2022-01-15/
LOCATION:Cosumnes River Preserve\, 13501 Franklin Blvd\, Galt\, CA\, 95632\, United States
CATEGORIES:Nature and Recreation
GEO:38.2657046;-121.4393238
X-APPLE-STRUCTURED-LOCATION;VALUE=URI;X-ADDRESS=Cosumnes River Preserve 13501 Franklin Blvd Galt CA 95632 United States;X-APPLE-RADIUS=500;X-TITLE=13501 Franklin Blvd:geo:-121.4393238,38.2657046
END:VEVENT
END:VCALENDAR