BEGIN:VCALENDAR
VERSION:2.0
PRODID:-//Visit the California Delta - ECPv6.15.18//NONSGML v1.0//EN
CALSCALE:GREGORIAN
METHOD:PUBLISH
X-WR-CALNAME:Visit the California Delta
X-ORIGINAL-URL:https://visitcadelta.com
X-WR-CALDESC:Events for Visit the California Delta
REFRESH-INTERVAL;VALUE=DURATION:PT1H
X-Robots-Tag:noindex
X-PUBLISHED-TTL:PT1H
BEGIN:VTIMEZONE
TZID:America/Los_Angeles
BEGIN:DAYLIGHT
TZOFFSETFROM:-0800
TZOFFSETTO:-0700
TZNAME:PDT
DTSTART:20240310T100000
END:DAYLIGHT
BEGIN:STANDARD
TZOFFSETFROM:-0700
TZOFFSETTO:-0800
TZNAME:PST
DTSTART:20241103T090000
END:STANDARD
BEGIN:DAYLIGHT
TZOFFSETFROM:-0800
TZOFFSETTO:-0700
TZNAME:PDT
DTSTART:20250309T100000
END:DAYLIGHT
BEGIN:STANDARD
TZOFFSETFROM:-0700
TZOFFSETTO:-0800
TZNAME:PST
DTSTART:20251102T090000
END:STANDARD
BEGIN:DAYLIGHT
TZOFFSETFROM:-0800
TZOFFSETTO:-0700
TZNAME:PDT
DTSTART:20260308T100000
END:DAYLIGHT
BEGIN:STANDARD
TZOFFSETFROM:-0700
TZOFFSETTO:-0800
TZNAME:PST
DTSTART:20261101T090000
END:STANDARD
END:VTIMEZONE
BEGIN:VEVENT
DTSTART;TZID=America/Los_Angeles:20251213T120000
DTEND;TZID=America/Los_Angeles:20251213T150000
DTSTAMP:20260419T123013
CREATED:20251201T213557Z
LAST-MODIFIED:20251201T214256Z
UID:10763-1765627200-1765638000@visitcadelta.com
SUMMARY:Festive Drinks and Refreshments at Crockett Museum
DESCRIPTION:Crockett Museum opens at 10 a.m.\, but at noon\, warm festive drinks and other refreshments will be served\, and craft projects will be available to create. Take a break from shopping and enjoy meandering around the Museum! Museum website.
URL:https://visitcadelta.com/event/festive-drinks-and-refreshments-at-crockett-museum/
LOCATION:Crockett Museum\, 900 Loring Ave\, Crockett\, CA\, 94525\, United States
END:VEVENT
END:VCALENDAR