BEGIN:VCALENDAR
VERSION:2.0
PRODID:-//Visit the California Delta - ECPv6.15.18//NONSGML v1.0//EN
CALSCALE:GREGORIAN
METHOD:PUBLISH
X-ORIGINAL-URL:https://visitcadelta.com
X-WR-CALDESC:Events for Visit the California Delta
REFRESH-INTERVAL;VALUE=DURATION:PT1H
X-Robots-Tag:noindex
X-PUBLISHED-TTL:PT1H
BEGIN:VTIMEZONE
TZID:America/Los_Angeles
BEGIN:DAYLIGHT
TZOFFSETFROM:-0800
TZOFFSETTO:-0700
TZNAME:PDT
DTSTART:20250309T100000
END:DAYLIGHT
BEGIN:STANDARD
TZOFFSETFROM:-0700
TZOFFSETTO:-0800
TZNAME:PST
DTSTART:20251102T090000
END:STANDARD
BEGIN:DAYLIGHT
TZOFFSETFROM:-0800
TZOFFSETTO:-0700
TZNAME:PDT
DTSTART:20260308T100000
END:DAYLIGHT
BEGIN:STANDARD
TZOFFSETFROM:-0700
TZOFFSETTO:-0800
TZNAME:PST
DTSTART:20261101T090000
END:STANDARD
BEGIN:DAYLIGHT
TZOFFSETFROM:-0800
TZOFFSETTO:-0700
TZNAME:PDT
DTSTART:20270314T100000
END:DAYLIGHT
BEGIN:STANDARD
TZOFFSETFROM:-0700
TZOFFSETTO:-0800
TZNAME:PST
DTSTART:20271107T090000
END:STANDARD
END:VTIMEZONE
BEGIN:VEVENT
DTSTART;TZID=America/Los_Angeles:20260404T110000
DTEND;TZID=America/Los_Angeles:20260404T170000
DTSTAMP:20260419T140822
CREATED:20260330T222037Z
LAST-MODIFIED:20260330T222037Z
UID:11576-1775300400-1775322000@visitcadelta.com
SUMMARY:Egg Hunt and Easter Bunny in Antioch
DESCRIPTION:The Downtown Antioch Association presents Egg Hunt & Easter Bunny: \n11 a.m.-1 p.m. at the Rivertown Treasure Chest: bunny pics and plushies donated by K911 Animal Rescue. \n12:30-4 p.m. at Royal Banquet and Event Halls: bunny pics and egg hunt for prizes and more plushies. \n4-5 p.m. at Waldie Plaza: egg hunts\, bunny pics\, Easter baskets and more plushies with Rivertown Community Church and Team Jesus Outreach Ministries.
URL:https://visitcadelta.com/event/egg-hunt-and-easter-bunny-in-antioch/
LOCATION:Downtown Antioch\, Antioch\, CA\, United States
END:VEVENT
END:VCALENDAR