BEGIN:VCALENDAR
VERSION:2.0
PRODID:-//Visit the California Delta - ECPv6.15.18//NONSGML v1.0//EN
CALSCALE:GREGORIAN
METHOD:PUBLISH
X-WR-CALNAME:Visit the California Delta
X-ORIGINAL-URL:https://visitcadelta.com
X-WR-CALDESC:Events for Visit the California Delta
REFRESH-INTERVAL;VALUE=DURATION:PT1H
X-Robots-Tag:noindex
X-PUBLISHED-TTL:PT1H
BEGIN:VTIMEZONE
TZID:America/Los_Angeles
BEGIN:DAYLIGHT
TZOFFSETFROM:-0800
TZOFFSETTO:-0700
TZNAME:PDT
DTSTART:20240310T100000
END:DAYLIGHT
BEGIN:STANDARD
TZOFFSETFROM:-0700
TZOFFSETTO:-0800
TZNAME:PST
DTSTART:20241103T090000
END:STANDARD
BEGIN:DAYLIGHT
TZOFFSETFROM:-0800
TZOFFSETTO:-0700
TZNAME:PDT
DTSTART:20250309T100000
END:DAYLIGHT
BEGIN:STANDARD
TZOFFSETFROM:-0700
TZOFFSETTO:-0800
TZNAME:PST
DTSTART:20251102T090000
END:STANDARD
BEGIN:DAYLIGHT
TZOFFSETFROM:-0800
TZOFFSETTO:-0700
TZNAME:PDT
DTSTART:20260308T100000
END:DAYLIGHT
BEGIN:STANDARD
TZOFFSETFROM:-0700
TZOFFSETTO:-0800
TZNAME:PST
DTSTART:20261101T090000
END:STANDARD
BEGIN:DAYLIGHT
TZOFFSETFROM:-0800
TZOFFSETTO:-0700
TZNAME:PDT
DTSTART:20270314T100000
END:DAYLIGHT
BEGIN:STANDARD
TZOFFSETFROM:-0700
TZOFFSETTO:-0800
TZNAME:PST
DTSTART:20271107T090000
END:STANDARD
END:VTIMEZONE
BEGIN:VEVENT
DTSTART;TZID=America/Los_Angeles:20260228T090000
DTEND;TZID=America/Los_Angeles:20260228T130000
DTSTAMP:20260419T170157
CREATED:20260224T185704Z
LAST-MODIFIED:20260224T185704Z
UID:11407-1772269200-1772283600@visitcadelta.com
SUMMARY:Lunar New Year Festival in Brentwood
DESCRIPTION:Celebrate Lunar New Year at the Lunar New Year Festival hosted by the Chinese Culture Club from Heritage High School in Downtown Brentwood. The event features vendors and Lunar New Year festivities.
URL:https://visitcadelta.com/event/lunar-new-year-festival-in-brentwood/
LOCATION:Downtown Brentwood\, 35 Oak St\, Brentwood\, CA\, 94513\, United States
END:VEVENT
BEGIN:VEVENT
DTSTART;TZID=America/Los_Angeles:20260124T170000
DTEND;TZID=America/Los_Angeles:20260124T220000
DTSTAMP:20260419T170157
CREATED:20260122T214648Z
LAST-MODIFIED:20260122T214823Z
UID:11187-1769274000-1769292000@visitcadelta.com
SUMMARY:Downtown Brentwood Crab Feed in Brentwood
DESCRIPTION:The Downtown Brentwood Coalition is hosting its 2nd Annual Crab Feed in Downtown Brentwood. The feast menu includes cold\, easy-peel shrimp\, unlimited crab\, Caesar salad\, pasta\, and more. Two drinks are included with admission. In addition to food and drinks\, guests can enjoy raffles\, prizes\, music\, and photo booths. This is a 21+ event. \nThis event is a fundraiser to support continued efforts to enhance economic growth.
URL:https://visitcadelta.com/event/downtown-brentwood-crab-feed-in-brentwood/
LOCATION:Downtown Brentwood\, 35 Oak St\, Brentwood\, CA\, 94513\, United States
END:VEVENT
BEGIN:VEVENT
DTSTART;TZID=America/Los_Angeles:20251129T170000
DTEND;TZID=America/Los_Angeles:20251129T190000
DTSTAMP:20260419T170157
CREATED:20251114T191902Z
LAST-MODIFIED:20251114T194223Z
UID:10659-1764435600-1764442800@visitcadelta.com
SUMMARY:43rd Annual Holiday Parade & Tree Lighting
DESCRIPTION:This annual event features illuminated floats\, community groups\, and a variety of holiday-themed attractions. Parade route starts on First Street\, goes through downtown Brentwood\, and ends on Brentwood Blvd. at Oak St. A Christmas tree lighting ceremony in City Park follows the parade. \n 
URL:https://visitcadelta.com/event/43rd-annual-holiday-parade-tree-lighting/
LOCATION:Downtown Brentwood\, 35 Oak St\, Brentwood\, CA\, 94513\, United States
END:VEVENT
END:VCALENDAR