BEGIN:VCALENDAR
VERSION:2.0
PRODID:-//Visit the California Delta - ECPv6.15.18//NONSGML v1.0//EN
CALSCALE:GREGORIAN
METHOD:PUBLISH
X-ORIGINAL-URL:https://visitcadelta.com
X-WR-CALDESC:Events for Visit the California Delta
REFRESH-INTERVAL;VALUE=DURATION:PT1H
X-Robots-Tag:noindex
X-PUBLISHED-TTL:PT1H
BEGIN:VTIMEZONE
TZID:America/Los_Angeles
BEGIN:DAYLIGHT
TZOFFSETFROM:-0800
TZOFFSETTO:-0700
TZNAME:PDT
DTSTART:20200308T100000
END:DAYLIGHT
BEGIN:STANDARD
TZOFFSETFROM:-0700
TZOFFSETTO:-0800
TZNAME:PST
DTSTART:20201101T090000
END:STANDARD
BEGIN:DAYLIGHT
TZOFFSETFROM:-0800
TZOFFSETTO:-0700
TZNAME:PDT
DTSTART:20210314T100000
END:DAYLIGHT
BEGIN:STANDARD
TZOFFSETFROM:-0700
TZOFFSETTO:-0800
TZNAME:PST
DTSTART:20211107T090000
END:STANDARD
BEGIN:DAYLIGHT
TZOFFSETFROM:-0800
TZOFFSETTO:-0700
TZNAME:PDT
DTSTART:20220313T100000
END:DAYLIGHT
BEGIN:STANDARD
TZOFFSETFROM:-0700
TZOFFSETTO:-0800
TZNAME:PST
DTSTART:20221106T090000
END:STANDARD
END:VTIMEZONE
BEGIN:VEVENT
DTSTART;TZID=America/Los_Angeles:20211211T120000
DTEND;TZID=America/Los_Angeles:20211211T170000
DTSTAMP:20260419T123852
CREATED:20211209T195110Z
LAST-MODIFIED:20211209T195717Z
UID:9774-1639224000-1639242000@visitcadelta.com
SUMMARY:Crafts and Drafts Holiday Market at the Barn
DESCRIPTION:The Crafts & Drafts Holiday Market will be hosted by Drake’s: The Barn in West Sacramento with over 40 vendors from River City Marketplace. There will be local crafts\, food\, and beverage vendors. Admission is free and all ages are welcome.
URL:https://visitcadelta.com/event/crafts-and-drafts-holiday-market/
LOCATION:Drake’s: The Barn\, 985 Riverfront St\, West Sacramento\, CA\, 95691\, United States
CATEGORIES:Family Friendly,Holiday Celebrations
GEO:38.5748295;-121.5147415
X-APPLE-STRUCTURED-LOCATION;VALUE=URI;X-ADDRESS=Drake’s: The Barn 985 Riverfront St West Sacramento CA 95691 United States;X-APPLE-RADIUS=500;X-TITLE=985 Riverfront St:geo:-121.5147415,38.5748295
END:VEVENT
END:VCALENDAR