BEGIN:VCALENDAR
VERSION:2.0
PRODID:-//Visit the California Delta - ECPv6.15.18//NONSGML v1.0//EN
CALSCALE:GREGORIAN
METHOD:PUBLISH
X-ORIGINAL-URL:https://visitcadelta.com
X-WR-CALDESC:Events for Visit the California Delta
REFRESH-INTERVAL;VALUE=DURATION:PT1H
X-Robots-Tag:noindex
X-PUBLISHED-TTL:PT1H
BEGIN:VTIMEZONE
TZID:America/Los_Angeles
BEGIN:DAYLIGHT
TZOFFSETFROM:-0800
TZOFFSETTO:-0700
TZNAME:PDT
DTSTART:20190310T100000
END:DAYLIGHT
BEGIN:STANDARD
TZOFFSETFROM:-0700
TZOFFSETTO:-0800
TZNAME:PST
DTSTART:20191103T090000
END:STANDARD
BEGIN:DAYLIGHT
TZOFFSETFROM:-0800
TZOFFSETTO:-0700
TZNAME:PDT
DTSTART:20200308T100000
END:DAYLIGHT
BEGIN:STANDARD
TZOFFSETFROM:-0700
TZOFFSETTO:-0800
TZNAME:PST
DTSTART:20201101T090000
END:STANDARD
BEGIN:DAYLIGHT
TZOFFSETFROM:-0800
TZOFFSETTO:-0700
TZNAME:PDT
DTSTART:20210314T100000
END:DAYLIGHT
BEGIN:STANDARD
TZOFFSETFROM:-0700
TZOFFSETTO:-0800
TZNAME:PST
DTSTART:20211107T090000
END:STANDARD
END:VTIMEZONE
BEGIN:VEVENT
DTSTART;TZID=America/Los_Angeles:20200229T090000
DTEND;TZID=America/Los_Angeles:20200229T120000
DTSTAMP:20260419T180046
CREATED:20200218T165549Z
LAST-MODIFIED:20200218T165802Z
UID:8452-1582966800-1582977600@visitcadelta.com
SUMMARY:Planting Day at Dutch Slough Tidal Marsh Restoration
DESCRIPTION:Here is your opportunity to leave your mark in the Delta. Volunteer to plant native Tule plugs in this historic 1100-acre tidal marsh/wetlands restoration in Oakley. Carpooling is encouraged as there are parking constraints on the site. There is a list of what to bring such as sturdy shoes\, a water bottle\, and gloves. \nOnline registration ends at 3:00 PM on February 28th. \nNote: Any rain cancels this event. \nFor registration and details\, visit the Volunteer Planting Day webpage.
URL:https://visitcadelta.com/event/planting-day-dutch-slough-tidal-marsh-restoration/
LOCATION:Dutch Slough Tidal Marsh Restoration\, 7199 Sellers Avenue\, Oakley\, CA\, 94561
CATEGORIES:Nature and Recreation
ATTACH;FMTTYPE=image/jpeg:https://visitcadelta.com/wp-content/uploads/2020/02/creekvcad.jpg
END:VEVENT
END:VCALENDAR