BEGIN:VCALENDAR
VERSION:2.0
PRODID:-//Visit the California Delta - ECPv6.15.18//NONSGML v1.0//EN
CALSCALE:GREGORIAN
METHOD:PUBLISH
X-ORIGINAL-URL:https://visitcadelta.com
X-WR-CALDESC:Events for Visit the California Delta
REFRESH-INTERVAL;VALUE=DURATION:PT1H
X-Robots-Tag:noindex
X-PUBLISHED-TTL:PT1H
BEGIN:VTIMEZONE
TZID:America/Los_Angeles
BEGIN:DAYLIGHT
TZOFFSETFROM:-0800
TZOFFSETTO:-0700
TZNAME:PDT
DTSTART:20180311T100000
END:DAYLIGHT
BEGIN:STANDARD
TZOFFSETFROM:-0700
TZOFFSETTO:-0800
TZNAME:PST
DTSTART:20181104T090000
END:STANDARD
BEGIN:DAYLIGHT
TZOFFSETFROM:-0800
TZOFFSETTO:-0700
TZNAME:PDT
DTSTART:20190310T100000
END:DAYLIGHT
BEGIN:STANDARD
TZOFFSETFROM:-0700
TZOFFSETTO:-0800
TZNAME:PST
DTSTART:20191103T090000
END:STANDARD
BEGIN:DAYLIGHT
TZOFFSETFROM:-0800
TZOFFSETTO:-0700
TZNAME:PDT
DTSTART:20200308T100000
END:DAYLIGHT
BEGIN:STANDARD
TZOFFSETFROM:-0700
TZOFFSETTO:-0800
TZNAME:PST
DTSTART:20201101T090000
END:STANDARD
BEGIN:DAYLIGHT
TZOFFSETFROM:-0800
TZOFFSETTO:-0700
TZNAME:PDT
DTSTART:20210314T100000
END:DAYLIGHT
BEGIN:STANDARD
TZOFFSETFROM:-0700
TZOFFSETTO:-0800
TZNAME:PST
DTSTART:20211107T090000
END:STANDARD
END:VTIMEZONE
BEGIN:VEVENT
DTSTART;TZID=America/Los_Angeles:20201011T110000
DTEND;TZID=America/Los_Angeles:20201011T130000
DTSTAMP:20260419T160933
CREATED:20200922T184643Z
LAST-MODIFIED:20200922T195710Z
UID:8887-1602414000-1602421200@visitcadelta.com
SUMMARY:Wine and Paint at Heringer Estates
DESCRIPTION:Wine & Paint is back and it’s time to let your creativity flow! Sip wine on a Sunday morning during a 2 hour painting class while overlooking the beautiful fall vineyards. Tickets are $60 per person and include a painting kit with an 8×10″ canvas\, a set of 24 acrylic paints\, brushes\, and palettes. The class will be spaced out for safe social distancing. At the end of the class you get to bring home your finished masterpiece and all your painting supplies from your paint kit! The class with step-by-step instruction will be lead by local artist\, Cara Gregor. \nFor more information and to register visit Heringer Wine Estate.
URL:https://visitcadelta.com/event/wine-paint-heringer-estates/
LOCATION:Heringer Estates\, 37375 Netherlands Road\, Clarksburg\, CA\, 95612
CATEGORIES:Food and Drink,Music Art Culture
ATTACH;FMTTYPE=image/png:https://visitcadelta.com/wp-content/uploads/2020/09/canva-photo-editor-13.png
END:VEVENT
BEGIN:VEVENT
DTSTART;VALUE=DATE:20201003
DTEND;VALUE=DATE:20201004
DTSTAMP:20260419T160933
CREATED:20200922T183535Z
LAST-MODIFIED:20200922T200327Z
UID:8880-1601683200-1601769599@visitcadelta.com
SUMMARY:Heringer Estates Grape Stomp Competition
DESCRIPTION:Fall means pumpkins\, scarves\, golden yellow trees\, and GRAPE STOMPS! It’s wine grape harvest season at Heringer Estates and that means it is time to crush it at the 2nd Annual Grape Stomp Competition! \nLast year Heringer hosted a first ever grape stomp at its Harvest Festival. This year\, due to COVID-19\, there won’t be a Harvest Festival\, but there will be a stomp to enjoy the authentic Clarksburg wine life! Reservations are required and space is very limited with only 24 total spots available. Dates are both October 3 & 4 with stomp times at 11:00 am\, 1:00pm\, and 3pm. Tickets are $30 per person. \nTo register or for more information visit Heringer Wine Estates.
URL:https://visitcadelta.com/event/heringer-estates-grape-stomp-competition/2020-10-03/
LOCATION:Heringer Estates\, 37375 Netherlands Road\, Clarksburg\, CA\, 95612
CATEGORIES:Food and Drink,Music Art Culture
ATTACH;FMTTYPE=image/png:https://visitcadelta.com/wp-content/uploads/2020/09/canva-photo-editor-15.png
END:VEVENT
BEGIN:VEVENT
DTSTART;TZID=America/Los_Angeles:20201002T180000
DTEND;TZID=America/Los_Angeles:20201002T200000
DTSTAMP:20260419T160933
CREATED:20190521T215312Z
LAST-MODIFIED:20200922T195051Z
UID:7281-1601661600-1601668800@visitcadelta.com
SUMMARY:Delta Nights
DESCRIPTION:Come out for “Delta Nights” and enjoy live music at Heringer Estates in Clarksburg’s Wine Country! After hours seated wine service includes live music with local musicians until 8:00 pm. Enjoy wines by the glass\, wine slushies\, and beautiful Delta sunsets. The music starts at 6:00 pm. Events can sell out so be sure to make your table reservations online. Tickets are $10. Delta Nights are a great time so come out for the fun! \nOctober 2 features Nick Tyrrel \nOctober 16 features Mike Kalend \nVisit Heringer Estates for event more details and to purchase tickets.
URL:https://visitcadelta.com/event/delta-nights/2020-10-02/
LOCATION:Heringer Estates\, 37375 Netherlands Road\, Clarksburg\, CA\, 95612
CATEGORIES:Food and Drink,Music Art Culture
ATTACH;FMTTYPE=image/png:https://visitcadelta.com/wp-content/uploads/2019/05/canva-photo-editor-12.png
END:VEVENT
BEGIN:VEVENT
DTSTART;TZID=America/Los_Angeles:20200321T180000
DTEND;TZID=America/Los_Angeles:20200321T210000
DTSTAMP:20260419T160933
CREATED:20200226T171523Z
LAST-MODIFIED:20200317T205736Z
UID:8481-1584813600-1584824400@visitcadelta.com
SUMMARY:Eco Cask Blending -  CANCELED
DESCRIPTION:UPDATE: DUE TO CURRENT EVENTS OF COVID-19\, THIS EVENT HAS BEEN CANCELED. \nMaking your own wine sounds fun\, right? Here’s your chance to blend wine that suits your taste buds. Take a peek into the world of winemakers as they discuss how wine blending works. With three unique wines to work with\, you’ll understand the basics of wine blending and tasting as you go through rounds of mixing your own and finding your favorite concoction. \nFor details\, visit the Eco Cask Spring Blending event page. \n 
URL:https://visitcadelta.com/event/eco-cask-blending/
LOCATION:Heringer Estates\, 37375 Netherlands Road\, Clarksburg\, CA\, 95612
CATEGORIES:Food and Drink
ATTACH;FMTTYPE=image/jpeg:https://visitcadelta.com/wp-content/uploads/2020/02/purple-grapes-553462_640vcad.jpg
END:VEVENT
BEGIN:VEVENT
DTSTART;TZID=America/Los_Angeles:20190727T160000
DTEND;TZID=America/Los_Angeles:20190727T203000
DTSTAMP:20260419T160933
CREATED:20190619T202649Z
LAST-MODIFIED:20190619T203053Z
UID:7417-1564243200-1564259400@visitcadelta.com
SUMMARY:Owl Release at Heringer Estates
DESCRIPTION:Bring your picnic blankets! It’s a perfect evening to spend with the family and an opportunity to learn about owls and sustainable farming. Sip on Heringer wine and snack on goodies from food trucks on site. Kids can interact with activities and watch demonstrations by the Sacramento Wildlife Care Association. As dusk approaches\, watch the sky as wild owls are released back to their natural habitat. \nAdults (12 years old+) $10\nChildren $3 \nVisit Heringer Estates to purchase tickets and details.
URL:https://visitcadelta.com/event/owl-release-heringer-estates/
LOCATION:Heringer Estates\, 37375 Netherlands Road\, Clarksburg\, CA\, 95612
CATEGORIES:Family Friendly,Nature and Recreation
ATTACH;FMTTYPE=image/png:https://visitcadelta.com/wp-content/uploads/2019/06/owls2.png
END:VEVENT
END:VCALENDAR